BEGIN:VCALENDAR
VERSION:2.0
PRODID:-//EZFacility.com, Inc.//EZL 2.5.5.28621
BEGIN:VEVENT
UID:16937022@ezleagues.ezfacility.com
DTSTAMP:20260426T033424Z
CREATED:20260426T033424Z
DTSTART:20260106T023000Z
DTEND:20260106T031500Z
LOCATION:Large Field
CONTACT:
SUMMARY:Washed Up Has Beens VS. DTX Sementeros
DESCRIPTION:League Name: Men's Monday League Winter 2026\nGame Type: Regula
 r\nGame Status: Complete\nHome Team: Washed Up Has Beens\nAway Team: DTX S
 ementeros\nHome Score: 17\nAway Score: 2
END:VEVENT
BEGIN:VEVENT
UID:16937029@ezleagues.ezfacility.com
DTSTAMP:20260426T033424Z
CREATED:20260426T033424Z
DTSTART:20260113T023000Z
DTEND:20260113T031500Z
LOCATION:Large Field
CONTACT:
SUMMARY:Wavey VS. Washed Up Has Beens
DESCRIPTION:League Name: Men's Monday League Winter 2026\nGame Type: Regula
 r\nGame Status: Complete\nHome Team: Wavey\nAway Team: Washed Up Has Beens
 \nHome Score: 11\nAway Score: 8
END:VEVENT
BEGIN:VEVENT
UID:16937034@ezleagues.ezfacility.com
DTSTAMP:20260426T033424Z
CREATED:20260426T033424Z
DTSTART:20260120T014000Z
DTEND:20260120T022500Z
LOCATION:Large Field
CONTACT:
SUMMARY:Bandidos VS. Washed Up Has Beens
DESCRIPTION:League Name: Men's Monday League Winter 2026\nGame Type: Regula
 r\nGame Status: Complete\nHome Team: Bandidos\nAway Team: Washed Up Has Be
 ens\nHome Score: 12\nAway Score: 7
END:VEVENT
BEGIN:VEVENT
UID:16937043@ezleagues.ezfacility.com
DTSTAMP:20260426T033424Z
CREATED:20260426T033424Z
DTSTART:20260203T005000Z
DTEND:20260203T013500Z
LOCATION:Large Field
CONTACT:
SUMMARY:La Onda VS. Washed Up Has Beens
DESCRIPTION:League Name: Men's Monday League Winter 2026\nGame Type: Regula
 r\nGame Status: Complete\nHome Team: La Onda\nAway Team: Washed Up Has Bee
 ns\nHome Score: 12\nAway Score: 10
END:VEVENT
BEGIN:VEVENT
UID:16937048@ezleagues.ezfacility.com
DTSTAMP:20260426T033424Z
CREATED:20260426T033424Z
DTSTART:20260210T014000Z
DTEND:20260210T022500Z
LOCATION:Large Field
CONTACT:
SUMMARY:Washed Up Has Beens VS. Jarritos
DESCRIPTION:League Name: Men's Monday League Winter 2026\nGame Type: Regula
 r\nGame Status: Complete\nHome Team: Washed Up Has Beens\nAway Team: Jarri
 tos\nHome Score: 15\nAway Score: 14
END:VEVENT
BEGIN:VEVENT
UID:16937054@ezleagues.ezfacility.com
DTSTAMP:20260426T033424Z
CREATED:20260426T033424Z
DTSTART:20260217T023000Z
DTEND:20260217T031500Z
LOCATION:Large Field
CONTACT:
SUMMARY:Washed Up Has Beens VS. Los Futballers
DESCRIPTION:League Name: Men's Monday League Winter 2026\nGame Type: Regula
 r\nGame Status: Complete\nHome Team: Washed Up Has Beens\nAway Team: Los F
 utballers\nHome Score: 19\nAway Score: 3
END:VEVENT
BEGIN:VEVENT
UID:16937059@ezleagues.ezfacility.com
DTSTAMP:20260426T033424Z
CREATED:20260426T033424Z
DTSTART:20260224T023000Z
DTEND:20260224T031500Z
LOCATION:Large Field
CONTACT:
SUMMARY:Washed Up Has Beens VS. Atletico Joga Bonito
DESCRIPTION:League Name: Men's Monday League Winter 2026\nGame Type: Regula
 r\nGame Status: Complete\nHome Team: Washed Up Has Beens\nAway Team: Atlet
 ico Joga Bonito\nHome Score: 4\nAway Score: 16
END:VEVENT
BEGIN:VEVENT
UID:16937039@ezleagues.ezfacility.com
DTSTAMP:20260426T033424Z
CREATED:20260426T033424Z
DTSTART:20260303T032000Z
DTEND:20260303T040500Z
LOCATION:Large Field
CONTACT:
SUMMARY:Panchos Team VS. Washed Up Has Beens
DESCRIPTION:League Name: Men's Monday League Winter 2026\nGame Type: Regula
 r\nGame Status: Complete\nHome Team: Panchos Team\nAway Team: Washed Up Ha
 s Beens\nHome Score: 11\nAway Score: 13
END:VEVENT
BEGIN:VEVENT
UID:17044194@ezleagues.ezfacility.com
DTSTAMP:20260426T033424Z
CREATED:20260426T033424Z
DTSTART:20260310T004000Z
DTEND:20260310T012500Z
LOCATION:Large Field
CONTACT:
SUMMARY:Washed Up Has Beens VS. Wavey
DESCRIPTION:League Name: Men's Monday League Winter 2026\nGame Type: Regula
 r\nGame Status: Complete\nHome Team: Washed Up Has Beens\nAway Team: Wavey
 \nHome Score: 6\nAway Score: 8
END:VEVENT
END:VCALENDAR
