BEGIN:VCALENDAR
VERSION:2.0
PRODID:-//EZFacility.com, Inc.//EZL 2.5.5.28621
BEGIN:VEVENT
UID:16936261@ezleagues.ezfacility.com
DTSTAMP:20260424T044224Z
CREATED:20260424T044224Z
DTSTART:20260110T020500Z
DTEND:20260110T025500Z
LOCATION:Field 1
CONTACT:Garcia 
SUMMARY:Enfierrados F.C. VS. La Noria
DESCRIPTION:League Name: Adult League - Men's Divison 7\nGame Type: Regular
 \nGame Status: Complete\nHome Team: Enfierrados F.C.\nAway Team: La Noria\
 nHome Score: 0\nAway Score: 5
END:VEVENT
BEGIN:VEVENT
UID:16936266@ezleagues.ezfacility.com
DTSTAMP:20260424T044224Z
CREATED:20260424T044224Z
DTSTART:20260117T025500Z
DTEND:20260117T034500Z
LOCATION:Field 2
CONTACT:Uriel 
SUMMARY:Calcio FC VS. La Noria
DESCRIPTION:League Name: Adult League - Men's Divison 7\nGame Type: Regular
 \nGame Status: Complete\nHome Team: Calcio FC\nAway Team: La Noria\nHome S
 core: 4\nAway Score: 16
END:VEVENT
BEGIN:VEVENT
UID:16936272@ezleagues.ezfacility.com
DTSTAMP:20260424T044224Z
CREATED:20260424T044224Z
DTSTART:20260124T025500Z
DTEND:20260124T034500Z
LOCATION:Field 1
CONTACT:Lombas 
SUMMARY:La Noria VS. Rocaletas FC
DESCRIPTION:League Name: Adult League - Men's Divison 7\nGame Type: Regular
 \nGame Status: Complete\nHome Team: La Noria\nAway Team: Rocaletas FC\nHom
 e Score: 4\nAway Score: 3
END:VEVENT
BEGIN:VEVENT
UID:16936278@ezleagues.ezfacility.com
DTSTAMP:20260424T044224Z
CREATED:20260424T044224Z
DTSTART:20260131T043500Z
DTEND:20260131T052500Z
LOCATION:Field 2
CONTACT:JLuis 
SUMMARY:La Noria VS. Real Espana
DESCRIPTION:League Name: Adult League - Men's Divison 7\nGame Type: Regular
 \nGame Status: Complete\nHome Team: La Noria\nAway Team: Real Espana\nHome
  Score: 9\nAway Score: 7
END:VEVENT
BEGIN:VEVENT
UID:16936284@ezleagues.ezfacility.com
DTSTAMP:20260424T044224Z
CREATED:20260424T044224Z
DTSTART:20260207T034500Z
DTEND:20260207T043500Z
LOCATION:Field 1
CONTACT:Andrade
SUMMARY:La Noria VS. Kachetones FC
DESCRIPTION:League Name: Adult League - Men's Divison 7\nGame Type: Regular
 \nGame Status: Complete\nHome Team: La Noria\nAway Team: Kachetones FC\nHo
 me Score: 3\nAway Score: 0
END:VEVENT
BEGIN:VEVENT
UID:16936285@ezleagues.ezfacility.com
DTSTAMP:20260424T044224Z
CREATED:20260424T044224Z
DTSTART:20260214T052500Z
DTEND:20260214T061500Z
LOCATION:Field 2
CONTACT:
SUMMARY:La Noria VS. High Testosterone
DESCRIPTION:League Name: Adult League - Men's Divison 7\nGame Type: Regular
 \nGame Status: Complete\nHome Team: La Noria\nAway Team: High Testosterone
 \nHome Score: 2\nAway Score: 7
END:VEVENT
BEGIN:VEVENT
UID:16936294@ezleagues.ezfacility.com
DTSTAMP:20260424T044224Z
CREATED:20260424T044224Z
DTSTART:20260221T043500Z
DTEND:20260221T052500Z
LOCATION:Field 1
CONTACT:Lombas 
SUMMARY:Obey FC VS. La Noria
DESCRIPTION:League Name: Adult League - Men's Divison 7\nGame Type: Regular
 \nGame Status: Complete\nHome Team: Obey FC\nAway Team: La Noria\nHome Sco
 re: 10\nAway Score: 2
END:VEVENT
BEGIN:VEVENT
UID:16936298@ezleagues.ezfacility.com
DTSTAMP:20260424T044224Z
CREATED:20260424T044224Z
DTSTART:20260228T034500Z
DTEND:20260228T043500Z
LOCATION:Field 2
CONTACT:
SUMMARY:Troncos VS. La Noria
DESCRIPTION:League Name: Adult League - Men's Divison 7\nGame Type: Regular
 \nGame Status: Complete\nHome Team: Troncos\nAway Team: La Noria\nHome Sco
 re: 7\nAway Score: 2
END:VEVENT
END:VCALENDAR
