BEGIN:VCALENDAR
VERSION:2.0
PRODID:-//EZFacility.com, Inc.//EZL 2.5.5.28621
BEGIN:VEVENT
UID:16951281@ezleagues.ezfacility.com
DTSTAMP:20260426T033436Z
CREATED:20260426T033436Z
DTSTART:20260110T052500Z
DTEND:20260110T061500Z
LOCATION:Field 2
CONTACT:JLuis 
SUMMARY:Aveiros FC VS. Bolimex
DESCRIPTION:League Name: Adult League - Men's Division 7C\nGame Type: Regul
 ar\nGame Status: Complete\nHome Team: Aveiros FC\nAway Team: Bolimex\nHome
  Score: 7\nAway Score: 3
END:VEVENT
BEGIN:VEVENT
UID:16951286@ezleagues.ezfacility.com
DTSTAMP:20260426T033436Z
CREATED:20260426T033436Z
DTSTART:20260117T043500Z
DTEND:20260117T052500Z
LOCATION:Field 1
CONTACT:Lombas 
SUMMARY:Aveiros FC VS. Deportivo Cosala
DESCRIPTION:League Name: Adult League - Men's Division 7C\nGame Type: Regul
 ar\nGame Status: Complete\nHome Team: Aveiros FC\nAway Team: Deportivo Cos
 ala\nHome Score: 6\nAway Score: 3
END:VEVENT
BEGIN:VEVENT
UID:16951292@ezleagues.ezfacility.com
DTSTAMP:20260426T033436Z
CREATED:20260426T033436Z
DTSTART:20260124T052500Z
DTEND:20260124T061500Z
LOCATION:Field 2
CONTACT:JLuis 
SUMMARY:Aveiros FC VS. Los Padrinos
DESCRIPTION:League Name: Adult League - Men's Division 7C\nGame Type: Regul
 ar\nGame Status: Complete\nHome Team: Aveiros FC\nAway Team: Los Padrinos\
 nHome Score: 13\nAway Score: 2
END:VEVENT
BEGIN:VEVENT
UID:16951296@ezleagues.ezfacility.com
DTSTAMP:20260426T033436Z
CREATED:20260426T033436Z
DTSTART:20260131T052500Z
DTEND:20260131T061500Z
LOCATION:Field 1
CONTACT:Lombas 
SUMMARY:Aveiros FC VS. Sauce Boyz
DESCRIPTION:League Name: Adult League - Men's Division 7C\nGame Type: Regul
 ar\nGame Status: Complete\nHome Team: Aveiros FC\nAway Team: Sauce Boyz\nH
 ome Score: 4\nAway Score: 5
END:VEVENT
BEGIN:VEVENT
UID:16951301@ezleagues.ezfacility.com
DTSTAMP:20260426T033436Z
CREATED:20260426T033436Z
DTSTART:20260207T052500Z
DTEND:20260207T061500Z
LOCATION:Field 2
CONTACT:Lombas 
SUMMARY:Union VS. Aveiros FC
DESCRIPTION:League Name: Adult League - Men's Division 7C\nGame Type: Regul
 ar\nGame Status: Complete\nHome Team: Union\nAway Team: Aveiros FC\nHome S
 core: 5\nAway Score: 8
END:VEVENT
BEGIN:VEVENT
UID:16951306@ezleagues.ezfacility.com
DTSTAMP:20260426T033436Z
CREATED:20260426T033436Z
DTSTART:20260214T052500Z
DTEND:20260214T061500Z
LOCATION:Field 1
CONTACT:
SUMMARY:Medio Metros VS. Aveiros FC
DESCRIPTION:League Name: Adult League - Men's Division 7C\nGame Type: Regul
 ar\nGame Status: Complete\nHome Team: Medio Metros\nAway Team: Aveiros FC\
 nHome Score: 3\nAway Score: 12
END:VEVENT
BEGIN:VEVENT
UID:16951311@ezleagues.ezfacility.com
DTSTAMP:20260426T033436Z
CREATED:20260426T033436Z
DTSTART:20260221T052500Z
DTEND:20260221T061500Z
LOCATION:Field 2
CONTACT:Uriel 
SUMMARY:El Araro VS. Aveiros FC
DESCRIPTION:League Name: Adult League - Men's Division 7C\nGame Type: Regul
 ar\nGame Status: Complete\nHome Team: El Araro\nAway Team: Aveiros FC\nHom
 e Score: 0\nAway Score: 26
END:VEVENT
BEGIN:VEVENT
UID:16951316@ezleagues.ezfacility.com
DTSTAMP:20260426T033436Z
CREATED:20260426T033436Z
DTSTART:20260228T052500Z
DTEND:20260228T061500Z
LOCATION:Field 1
CONTACT:
SUMMARY:Cachorros VS. Aveiros FC
DESCRIPTION:League Name: Adult League - Men's Division 7C\nGame Type: Regul
 ar\nGame Status: Complete\nHome Team: Cachorros\nAway Team: Aveiros FC\nHo
 me Score: 0\nAway Score: 16
END:VEVENT
END:VCALENDAR
