BEGIN:VCALENDAR
VERSION:2.0
PRODID:-//EZFacility.com, Inc.//EZL 2.5.5.28621
BEGIN:VEVENT
UID:16935072@ezleagues.ezfacility.com
DTSTAMP:20260422T194518Z
CREATED:20260422T194518Z
DTSTART:20260123T001500Z
DTEND:20260123T010000Z
LOCATION:Court 3
CONTACT:
SUMMARY:All Hands VS. Big Dig Energy
DESCRIPTION:League Name: Winter Thursday Court 3 Coed C Sixes\nGame Type: R
 egular\nGame Status: Complete\nHome Team: All Hands\nAway Team: Big Dig En
 ergy\nHome Score: 3\nAway Score: 0
END:VEVENT
BEGIN:VEVENT
UID:16935077@ezleagues.ezfacility.com
DTSTAMP:20260422T194518Z
CREATED:20260422T194518Z
DTSTART:20260130T010000Z
DTEND:20260130T014500Z
LOCATION:Court 3
CONTACT:
SUMMARY:#Aceholes VS. Big Dig Energy
DESCRIPTION:League Name: Winter Thursday Court 3 Coed C Sixes\nGame Type: R
 egular\nGame Status: Complete\nHome Team: #Aceholes\nAway Team: Big Dig En
 ergy\nHome Score: 1\nAway Score: 2
END:VEVENT
BEGIN:VEVENT
UID:16935084@ezleagues.ezfacility.com
DTSTAMP:20260422T194518Z
CREATED:20260422T194518Z
DTSTART:20260206T023000Z
DTEND:20260206T031500Z
LOCATION:Court 3
CONTACT:
SUMMARY:Big Dig Energy VS. That's What She Set
DESCRIPTION:League Name: Winter Thursday Court 3 Coed C Sixes\nGame Type: R
 egular\nGame Status: Complete\nHome Team: Big Dig Energy\nAway Team: That'
 s What She Set\nHome Score: 2\nAway Score: 1
END:VEVENT
BEGIN:VEVENT
UID:16935098@ezleagues.ezfacility.com
DTSTAMP:20260422T194518Z
CREATED:20260422T194518Z
DTSTART:20260219T233000Z
DTEND:20260220T001500Z
LOCATION:Court 3
CONTACT:
SUMMARY:Big Dig Energy VS. Balls Deep
DESCRIPTION:League Name: Winter Thursday Court 3 Coed C Sixes\nGame Type: R
 egular\nGame Status: Complete\nHome Team: Big Dig Energy\nAway Team: Balls
  Deep\nHome Score: 3\nAway Score: 0
END:VEVENT
BEGIN:VEVENT
UID:16935105@ezleagues.ezfacility.com
DTSTAMP:20260422T194518Z
CREATED:20260422T194518Z
DTSTART:20260227T014500Z
DTEND:20260227T023000Z
LOCATION:Court 3
CONTACT:
SUMMARY:That One Team VS. Big Dig Energy
DESCRIPTION:League Name: Winter Thursday Court 3 Coed C Sixes\nGame Type: R
 egular\nGame Status: Complete\nHome Team: That One Team\nAway Team: Big Di
 g Energy\nHome Score: 0\nAway Score: 3
END:VEVENT
BEGIN:VEVENT
UID:16935112@ezleagues.ezfacility.com
DTSTAMP:20260422T194518Z
CREATED:20260422T194518Z
DTSTART:20260305T233000Z
DTEND:20260306T001500Z
LOCATION:Court 3
CONTACT:
SUMMARY:Big Dig Energy VS. All Sets Are Off
DESCRIPTION:League Name: Winter Thursday Court 3 Coed C Sixes\nGame Type: R
 egular\nGame Status: Complete\nHome Team: Big Dig Energy\nAway Team: All S
 ets Are Off\nHome Score: 2\nAway Score: 1
END:VEVENT
BEGIN:VEVENT
UID:16935118@ezleagues.ezfacility.com
DTSTAMP:20260422T194518Z
CREATED:20260422T194518Z
DTSTART:20260312T231500Z
DTEND:20260313T000000Z
LOCATION:Court 3
CONTACT:
SUMMARY:Big Dig Energy VS. Spike Tyson
DESCRIPTION:League Name: Winter Thursday Court 3 Coed C Sixes\nGame Type: R
 egular\nGame Status: Complete\nHome Team: Big Dig Energy\nAway Team: Spike
  Tyson\nHome Score: 3\nAway Score: 0
END:VEVENT
BEGIN:VEVENT
UID:16935123@ezleagues.ezfacility.com
DTSTAMP:20260422T194518Z
CREATED:20260422T194518Z
DTSTART:20260320T004500Z
DTEND:20260320T013000Z
LOCATION:Court 3
CONTACT:
SUMMARY:The Screaming Denos VS. Big Dig Energy
DESCRIPTION:League Name: Winter Thursday Court 3 Coed C Sixes\nGame Type: R
 egular\nGame Status: Complete\nHome Team: The Screaming Denos\nAway Team: 
 Big Dig Energy\nHome Score: 0\nAway Score: 3
END:VEVENT
BEGIN:VEVENT
UID:16935128@ezleagues.ezfacility.com
DTSTAMP:20260422T194518Z
CREATED:20260422T194518Z
DTSTART:20260327T000000Z
DTEND:20260327T004500Z
LOCATION:Court 3
CONTACT:
SUMMARY:Big Dig Energy VS. The Fk-ups
DESCRIPTION:League Name: Winter Thursday Court 3 Coed C Sixes\nGame Type: R
 egular\nGame Status: Complete\nHome Team: Big Dig Energy\nAway Team: The F
 k-ups\nHome Score: 2\nAway Score: 1
END:VEVENT
BEGIN:VEVENT
UID:16935133@ezleagues.ezfacility.com
DTSTAMP:20260422T194518Z
CREATED:20260422T194518Z
DTSTART:20260403T013000Z
DTEND:20260403T021500Z
LOCATION:Court 3
CONTACT:
SUMMARY:Sandy Cheeks VS. Big Dig Energy
DESCRIPTION:League Name: Winter Thursday Court 3 Coed C Sixes\nGame Type: R
 egular\nGame Status: Complete\nHome Team: Sandy Cheeks\nAway Team: Big Dig
  Energy\nHome Score: 0\nAway Score: 3
END:VEVENT
END:VCALENDAR
