BEGIN:VCALENDAR
VERSION:2.0
PRODID:-//EZFacility.com, Inc.//EZL 2.5.5.28621
BEGIN:VEVENT
UID:16935274@ezleagues.ezfacility.com
DTSTAMP:20260426T033516Z
CREATED:20260426T033516Z
DTSTART:20260124T001500Z
DTEND:20260124T010000Z
LOCATION:Court 2
CONTACT:
SUMMARY:Blue Volley Waffles VS. Spot Them Six
DESCRIPTION:League Name: Winter Friday Court 2 Coed C Sixes\nGame Type: Reg
 ular\nGame Status: Complete\nHome Team: Blue Volley Waffles\nAway Team: Sp
 ot Them Six\nHome Score: 3\nAway Score: 0
END:VEVENT
BEGIN:VEVENT
UID:16935279@ezleagues.ezfacility.com
DTSTAMP:20260426T033516Z
CREATED:20260426T033516Z
DTSTART:20260131T010000Z
DTEND:20260131T014500Z
LOCATION:Court 2
CONTACT:
SUMMARY:Spike Tysons VS. Spot Them Six
DESCRIPTION:League Name: Winter Friday Court 2 Coed C Sixes\nGame Type: Reg
 ular\nGame Status: Complete\nHome Team: Spike Tysons\nAway Team: Spot Them
  Six\nHome Score: 3\nAway Score: 0
END:VEVENT
BEGIN:VEVENT
UID:16935286@ezleagues.ezfacility.com
DTSTAMP:20260426T033516Z
CREATED:20260426T033516Z
DTSTART:20260207T023000Z
DTEND:20260207T031500Z
LOCATION:Court 2
CONTACT:
SUMMARY:Spot Them Six VS. Big Tip Energy
DESCRIPTION:League Name: Winter Friday Court 2 Coed C Sixes\nGame Type: Reg
 ular\nGame Status: Complete\nHome Team: Spot Them Six\nAway Team: Big Tip 
 Energy\nHome Score: 0\nAway Score: 3
END:VEVENT
BEGIN:VEVENT
UID:16935300@ezleagues.ezfacility.com
DTSTAMP:20260426T033516Z
CREATED:20260426T033516Z
DTSTART:20260220T233000Z
DTEND:20260221T001500Z
LOCATION:Court 2
CONTACT:
SUMMARY:Spot Them Six VS. EZ Pass
DESCRIPTION:League Name: Winter Friday Court 2 Coed C Sixes\nGame Type: Reg
 ular\nGame Status: Complete\nHome Team: Spot Them Six\nAway Team: EZ Pass\
 nHome Score: 1\nAway Score: 2
END:VEVENT
BEGIN:VEVENT
UID:16935307@ezleagues.ezfacility.com
DTSTAMP:20260426T033516Z
CREATED:20260426T033516Z
DTSTART:20260228T014500Z
DTEND:20260228T023000Z
LOCATION:Court 2
CONTACT:
SUMMARY:Dirty Shirleys VS. Spot Them Six
DESCRIPTION:League Name: Winter Friday Court 2 Coed C Sixes\nGame Type: Reg
 ular\nGame Status: Complete\nHome Team: Dirty Shirleys\nAway Team: Spot Th
 em Six\nHome Score: 0\nAway Score: 3
END:VEVENT
BEGIN:VEVENT
UID:16935314@ezleagues.ezfacility.com
DTSTAMP:20260426T033516Z
CREATED:20260426T033516Z
DTSTART:20260306T233000Z
DTEND:20260307T001500Z
LOCATION:Court 2
CONTACT:
SUMMARY:Spot Them Six VS. Dat Ace Doe
DESCRIPTION:League Name: Winter Friday Court 2 Coed C Sixes\nGame Type: Reg
 ular\nGame Status: Complete\nHome Team: Spot Them Six\nAway Team: Dat Ace 
 Doe\nHome Score: 0\nAway Score: 3
END:VEVENT
BEGIN:VEVENT
UID:16935320@ezleagues.ezfacility.com
DTSTAMP:20260426T033516Z
CREATED:20260426T033516Z
DTSTART:20260313T231500Z
DTEND:20260314T000000Z
LOCATION:Court 2
CONTACT:
SUMMARY:Spot Them Six VS. Net Shakers
DESCRIPTION:League Name: Winter Friday Court 2 Coed C Sixes\nGame Type: Reg
 ular\nGame Status: Complete\nHome Team: Spot Them Six\nAway Team: Net Shak
 ers\nHome Score: 3\nAway Score: 0
END:VEVENT
BEGIN:VEVENT
UID:16935325@ezleagues.ezfacility.com
DTSTAMP:20260426T033516Z
CREATED:20260426T033516Z
DTSTART:20260321T004500Z
DTEND:20260321T013000Z
LOCATION:Court 2
CONTACT:
SUMMARY:Two Bump Chumps VS. Spot Them Six
DESCRIPTION:League Name: Winter Friday Court 2 Coed C Sixes\nGame Type: Reg
 ular\nGame Status: Complete\nHome Team: Two Bump Chumps\nAway Team: Spot T
 hem Six\nHome Score: 1\nAway Score: 2
END:VEVENT
BEGIN:VEVENT
UID:16935330@ezleagues.ezfacility.com
DTSTAMP:20260426T033516Z
CREATED:20260426T033516Z
DTSTART:20260328T000000Z
DTEND:20260328T004500Z
LOCATION:Court 2
CONTACT:
SUMMARY:Spot Them Six VS. The Struggle is Real
DESCRIPTION:League Name: Winter Friday Court 2 Coed C Sixes\nGame Type: Reg
 ular\nGame Status: Complete\nHome Team: Spot Them Six\nAway Team: The Stru
 ggle is Real\nHome Score: 2\nAway Score: 1
END:VEVENT
BEGIN:VEVENT
UID:16935335@ezleagues.ezfacility.com
DTSTAMP:20260426T033516Z
CREATED:20260426T033516Z
DTSTART:20260404T013000Z
DTEND:20260404T021500Z
LOCATION:Court 2
CONTACT:
SUMMARY:Mandi's Angels VS. Spot Them Six
DESCRIPTION:League Name: Winter Friday Court 2 Coed C Sixes\nGame Type: Reg
 ular\nGame Status: Complete\nHome Team: Mandi's Angels\nAway Team: Spot Th
 em Six\nHome Score: 2\nAway Score: 1
END:VEVENT
END:VCALENDAR
