BEGIN:VCALENDAR
VERSION:2.0
PRODID:-//EZFacility.com, Inc.//EZL 2.5.5.28621
BEGIN:VEVENT
UID:16935473@ezleagues.ezfacility.com
DTSTAMP:20260426T015209Z
CREATED:20260426T015209Z
DTSTART:20260103T033000Z
DTEND:20260103T043000Z
LOCATION:Full Field
CONTACT:
SUMMARY:The Bonny Boys VS. Lake Region
DESCRIPTION:League Name:  High School League Boys- JAN 2026\nGame Type: Reg
 ular\nGame Status: Pending\nHome Team: The Bonny Boys\nAway Team: Lake Reg
 ion\n
END:VEVENT
BEGIN:VEVENT
UID:16935476@ezleagues.ezfacility.com
DTSTAMP:20260426T015209Z
CREATED:20260426T015209Z
DTSTART:20260110T013000Z
DTEND:20260110T023000Z
LOCATION:Full Field
CONTACT:
SUMMARY:HGFC VS. Lake Region
DESCRIPTION:League Name:  High School League Boys- JAN 2026\nGame Type: Reg
 ular\nGame Status: Pending\nHome Team: HGFC\nAway Team: Lake Region\n
END:VEVENT
BEGIN:VEVENT
UID:16935478@ezleagues.ezfacility.com
DTSTAMP:20260426T015209Z
CREATED:20260426T015209Z
DTSTART:20260117T023000Z
DTEND:20260117T033000Z
LOCATION:Full Field
CONTACT:
SUMMARY:FCA VS. Lake Region
DESCRIPTION:League Name:  High School League Boys- JAN 2026\nGame Type: Reg
 ular\nGame Status: Pending\nHome Team: FCA\nAway Team: Lake Region\n
END:VEVENT
BEGIN:VEVENT
UID:16935480@ezleagues.ezfacility.com
DTSTAMP:20260426T015209Z
CREATED:20260426T015209Z
DTSTART:20260124T023000Z
DTEND:20260124T033000Z
LOCATION:Full Field
CONTACT:
SUMMARY:Lake Region VS. The Hawks
DESCRIPTION:League Name:  High School League Boys- JAN 2026\nGame Type: Reg
 ular\nGame Status: Pending\nHome Team: Lake Region\nAway Team: The Hawks\n
END:VEVENT
BEGIN:VEVENT
UID:16935484@ezleagues.ezfacility.com
DTSTAMP:20260426T015209Z
CREATED:20260426T015209Z
DTSTART:20260131T013000Z
DTEND:20260131T023000Z
LOCATION:Full Field
CONTACT:
SUMMARY:Lake Region VS. The nature Boys
DESCRIPTION:League Name:  High School League Boys- JAN 2026\nGame Type: Reg
 ular\nGame Status: Pending\nHome Team: Lake Region\nAway Team: The nature 
 Boys\n
END:VEVENT
BEGIN:VEVENT
UID:16935488@ezleagues.ezfacility.com
DTSTAMP:20260426T015209Z
CREATED:20260426T015209Z
DTSTART:20260207T033000Z
DTEND:20260207T043000Z
LOCATION:Full Field
CONTACT:
SUMMARY:Lake Region VS. The Bonny Boys
DESCRIPTION:League Name:  High School League Boys- JAN 2026\nGame Type: Reg
 ular\nGame Status: Pending\nHome Team: Lake Region\nAway Team: The Bonny B
 oys\n
END:VEVENT
END:VCALENDAR
