BEGIN:VCALENDAR
VERSION:2.0
PRODID:-//EZFacility.com, Inc.//EZL 2.5.5.28621
BEGIN:VEVENT
UID:16936666@ezleagues.ezfacility.com
DTSTAMP:20260423T041615Z
CREATED:20260423T041615Z
DTSTART:20260104T230000Z
DTEND:20260105T000000Z
LOCATION:Current Washington High School
CONTACT:
SUMMARY:ESA 2012 Boys Blue VS. Bury City FC 2012 Boys
DESCRIPTION:League Name: The Eastern Shore's Ultimate Futsal League Session
  II 2026-U15 Boys Division\nGame Type: Regular\nGame Status: Complete\nHom
 e Team: ESA 2012 Boys Blue\nAway Team: Bury City FC 2012 Boys\nHome Score:
  10\nAway Score: 0
END:VEVENT
BEGIN:VEVENT
UID:16954471@ezleagues.ezfacility.com
DTSTAMP:20260423T041615Z
CREATED:20260423T041615Z
DTSTART:20260111T230000Z
DTEND:20260112T000000Z
LOCATION:The Salvation Army Lake Park D
CONTACT:
SUMMARY:Bury City FC 2012 Boys VS. Bury City FC 2012 Girls White
DESCRIPTION:League Name: The Eastern Shore's Ultimate Futsal League Session
  II 2026-U15 Boys Division\nGame Type: Regular\nGame Status: Complete\nHom
 e Team: Bury City FC 2012 Boys\nAway Team: Bury City FC 2012 Girls White\n
 Home Score: 5\nAway Score: 8
END:VEVENT
BEGIN:VEVENT
UID:16965836@ezleagues.ezfacility.com
DTSTAMP:20260423T041615Z
CREATED:20260423T041615Z
DTSTART:20260118T200000Z
DTEND:20260118T210000Z
LOCATION:Current Washington High School
CONTACT:
SUMMARY:Newtown Boys VS. Bury City FC 2012 Boys
DESCRIPTION:League Name: The Eastern Shore's Ultimate Futsal League Session
  II 2026-U15 Boys Division\nGame Type: Regular\nGame Status: Complete\nHom
 e Team: Newtown Boys\nAway Team: Bury City FC 2012 Boys\nHome Score: 3\nAw
 ay Score: 8
END:VEVENT
BEGIN:VEVENT
UID:16984256@ezleagues.ezfacility.com
DTSTAMP:20260423T041615Z
CREATED:20260423T041615Z
DTSTART:20260201T160000Z
DTEND:20260201T170000Z
LOCATION:Current Washington High School
CONTACT:
SUMMARY:Rush Academy ES VS. Bury City FC 2012 Boys
DESCRIPTION:League Name: The Eastern Shore's Ultimate Futsal League Session
  II 2026-U15 Boys Division\nGame Type: Regular\nGame Status: Complete\nHom
 e Team: Rush Academy ES\nAway Team: Bury City FC 2012 Boys\nHome Score: 8\
 nAway Score: 8
END:VEVENT
BEGIN:VEVENT
UID:16971080@ezleagues.ezfacility.com
DTSTAMP:20260423T041615Z
CREATED:20260423T041615Z
DTSTART:20260215T200000Z
DTEND:20260215T210000Z
LOCATION:Current Washington High School
CONTACT:
SUMMARY:Bury City FC 2012 Boys VS. ESA 2012 Boys Black
DESCRIPTION:League Name: The Eastern Shore's Ultimate Futsal League Session
  II 2026-U15 Boys Division\nGame Type: Regular\nGame Status: Complete\nHom
 e Team: Bury City FC 2012 Boys\nAway Team: ESA 2012 Boys Black\nHome Score
 : 2\nAway Score: 12
END:VEVENT
BEGIN:VEVENT
UID:16971082@ezleagues.ezfacility.com
DTSTAMP:20260423T041615Z
CREATED:20260423T041615Z
DTSTART:20260215T230000Z
DTEND:20260216T000000Z
LOCATION:Current Washington High School
CONTACT:
SUMMARY:Bury City FC 2012 Boys VS. Shore Unlimited
DESCRIPTION:League Name: The Eastern Shore's Ultimate Futsal League Session
  II 2026-U15 Boys Division\nGame Type: Regular\nGame Status: Complete\nHom
 e Team: Bury City FC 2012 Boys\nAway Team: Shore Unlimited\nHome Score: 5\
 nAway Score: 8
END:VEVENT
END:VCALENDAR
