BEGIN:VCALENDAR
VERSION:2.0
PRODID:-//EZFacility.com, Inc.//EZL 2.5.5.28621
BEGIN:VEVENT
UID:16936671@ezleagues.ezfacility.com
DTSTAMP:20260424T013047Z
CREATED:20260424T013047Z
DTSTART:20260104T210000Z
DTEND:20260104T220000Z
LOCATION:Current Washington High School
CONTACT:
SUMMARY:ESA 2010 Boys Black VS. Rush Academy ES
DESCRIPTION:League Name: The Eastern Shore's Ultimate Futsal League Session
  II 2026-U17 Boys Division\nGame Type: Regular\nGame Status: Complete\nHom
 e Team: ESA 2010 Boys Black\nAway Team: Rush Academy ES\nHome Score: 10\nA
 way Score: 7
END:VEVENT
BEGIN:VEVENT
UID:16954486@ezleagues.ezfacility.com
DTSTAMP:20260424T013047Z
CREATED:20260424T013047Z
DTSTART:20260111T230000Z
DTEND:20260112T000000Z
LOCATION:Current Washington High School
CONTACT:
SUMMARY:Rush Academy ES VS. ESA 2009 Boys Black
DESCRIPTION:League Name: The Eastern Shore's Ultimate Futsal League Session
  II 2026-U17 Boys Division\nGame Type: Regular\nGame Status: Complete\nHom
 e Team: Rush Academy ES\nAway Team: ESA 2009 Boys Black\nHome Score: 0\nAw
 ay Score: 10
END:VEVENT
BEGIN:VEVENT
UID:16954488@ezleagues.ezfacility.com
DTSTAMP:20260424T013047Z
CREATED:20260424T013047Z
DTSTART:20260112T010000Z
DTEND:20260112T020000Z
LOCATION:Current Washington High School
CONTACT:
SUMMARY:Pipeline VS. Rush Academy ES
DESCRIPTION:League Name: The Eastern Shore's Ultimate Futsal League Session
  II 2026-U17 Boys Division\nGame Type: Regular\nGame Status: Complete\nHom
 e Team: Pipeline\nAway Team: Rush Academy ES\nHome Score: 11\nAway Score: 
 3
END:VEVENT
BEGIN:VEVENT
UID:16984356@ezleagues.ezfacility.com
DTSTAMP:20260424T013047Z
CREATED:20260424T013047Z
DTSTART:20260201T230000Z
DTEND:20260202T000000Z
LOCATION:Current Washington High School
CONTACT:
SUMMARY:ESA 2010 Boys Blue VS. Rush Academy ES
DESCRIPTION:League Name: The Eastern Shore's Ultimate Futsal League Session
  II 2026-U17 Boys Division\nGame Type: Regular\nGame Status: Complete\nHom
 e Team: ESA 2010 Boys Blue\nAway Team: Rush Academy ES\nHome Score: 3\nAwa
 y Score: 5
END:VEVENT
BEGIN:VEVENT
UID:16984357@ezleagues.ezfacility.com
DTSTAMP:20260424T013047Z
CREATED:20260424T013047Z
DTSTART:20260202T000000Z
DTEND:20260202T010000Z
LOCATION:Current Washington High School
CONTACT:
SUMMARY:Rush Academy ES VS. Shore Unlimited
DESCRIPTION:League Name: The Eastern Shore's Ultimate Futsal League Session
  II 2026-U17 Boys Division\nGame Type: Regular\nGame Status: Complete\nHom
 e Team: Rush Academy ES\nAway Team: Shore Unlimited\nHome Score: 4\nAway S
 core: 5
END:VEVENT
BEGIN:VEVENT
UID:16982591@ezleagues.ezfacility.com
DTSTAMP:20260424T013047Z
CREATED:20260424T013047Z
DTSTART:20260208T170000Z
DTEND:20260208T180000Z
LOCATION:Current Washington High School
CONTACT:
SUMMARY:Rush Academy ES VS. Bury City FC 2010 Blue
DESCRIPTION:League Name: The Eastern Shore's Ultimate Futsal League Session
  II 2026-U17 Boys Division\nGame Type: Regular\nGame Status: Complete\nHom
 e Team: Rush Academy ES\nAway Team: Bury City FC 2010 Blue\nHome Score: 5\
 nAway Score: 5
END:VEVENT
END:VCALENDAR
