BEGIN:VCALENDAR
VERSION:2.0
PRODID:-//EZFacility.com, Inc.//EZL 2.5.5.28621
BEGIN:VEVENT
UID:16937300@ezleagues.ezfacility.com
DTSTAMP:20260419T150016Z
CREATED:20260419T150016Z
DTSTART:20260113T000000Z
DTEND:20260113T010000Z
LOCATION:Field #1
CONTACT:
SUMMARY:Hot Mess Express\, Smith VS. Soccerholics 1\, Rizzitano
DESCRIPTION:League Name: Women session 2 25 26\nGame Type: Regular\nGame St
 atus: Complete\nHome Team: Hot Mess Express, Smith\nAway Team: Soccerholic
 s 1, Rizzitano\nHome Score: 3\nAway Score: 7
END:VEVENT
BEGIN:VEVENT
UID:16937312@ezleagues.ezfacility.com
DTSTAMP:20260419T150016Z
CREATED:20260419T150016Z
DTSTART:20260127T010000Z
DTEND:20260127T020000Z
LOCATION:Field #2
CONTACT:
SUMMARY:Hot Mess Express\, Smith VS. Kiss My Pass\, Fettig
DESCRIPTION:League Name: Women session 2 25 26\nGame Type: Regular\nGame St
 atus: Rescheduled\nHome Team: Hot Mess Express, Smith\nAway Team: Kiss My 
 Pass, Fettig\n
END:VEVENT
BEGIN:VEVENT
UID:16937317@ezleagues.ezfacility.com
DTSTAMP:20260419T150016Z
CREATED:20260419T150016Z
DTSTART:20260203T000000Z
DTEND:20260203T010000Z
LOCATION:Field #2
CONTACT:
SUMMARY:Fenagh\, Montgomery VS. Hot Mess Express\, Smith
DESCRIPTION:League Name: Women session 2 25 26\nGame Type: Regular\nGame St
 atus: Complete\nHome Team: Fenagh, Montgomery\nAway Team: Hot Mess Express
 , Smith\nHome Score: 6\nAway Score: 1
END:VEVENT
BEGIN:VEVENT
UID:16937321@ezleagues.ezfacility.com
DTSTAMP:20260419T150016Z
CREATED:20260419T150016Z
DTSTART:20260210T000000Z
DTEND:20260210T010000Z
LOCATION:Field #1
CONTACT:
SUMMARY:Soccerholics 2\, Rizzitano VS. Hot Mess Express\, Smith
DESCRIPTION:League Name: Women session 2 25 26\nGame Type: Regular\nGame St
 atus: Complete\nHome Team: Soccerholics 2, Rizzitano\nAway Team: Hot Mess 
 Express, Smith\nHome Score: 3\nAway Score: 0
END:VEVENT
BEGIN:VEVENT
UID:16937325@ezleagues.ezfacility.com
DTSTAMP:20260419T150016Z
CREATED:20260419T150016Z
DTSTART:20260217T010000Z
DTEND:20260217T020000Z
LOCATION:Field #2
CONTACT:
SUMMARY:Ye Old Strikers\, Gagner VS. Hot Mess Express\, Smith
DESCRIPTION:League Name: Women session 2 25 26\nGame Type: Regular\nGame St
 atus: Complete\nHome Team: Ye Old Strikers, Gagner\nAway Team: Hot Mess Ex
 press, Smith\nHome Score: 3\nAway Score: 7
END:VEVENT
BEGIN:VEVENT
UID:16937305@ezleagues.ezfacility.com
DTSTAMP:20260419T150016Z
CREATED:20260419T150016Z
DTSTART:20260303T010000Z
DTEND:20260303T020000Z
LOCATION:Field #2
CONTACT:
SUMMARY:Hot Mess Express\, Smith VS. Geri-Hat-Tricks\, Souza
DESCRIPTION:League Name: Women session 2 25 26\nGame Type: Regular\nGame St
 atus: Complete\nHome Team: Hot Mess Express, Smith\nAway Team: Geri-Hat-Tr
 icks, Souza\nHome Score: 5\nAway Score: 8
END:VEVENT
BEGIN:VEVENT
UID:17040451@ezleagues.ezfacility.com
DTSTAMP:20260419T150016Z
CREATED:20260419T150016Z
DTSTART:20260310T000000Z
DTEND:20260310T010000Z
LOCATION:Field #2
CONTACT:
SUMMARY:Hot Mess Express\, Smith VS. Kiss My Pass\, Fettig
DESCRIPTION:League Name: Women session 2 25 26\nGame Type: Regular\nGame St
 atus: Complete\nHome Team: Hot Mess Express, Smith\nAway Team: Kiss My Pas
 s, Fettig\nHome Score: 4\nAway Score: 4
END:VEVENT
BEGIN:VEVENT
UID:16937329@ezleagues.ezfacility.com
DTSTAMP:20260419T150016Z
CREATED:20260419T150016Z
DTSTART:20260317T000000Z
DTEND:20260317T010000Z
LOCATION:Field #1
CONTACT:
SUMMARY:Bees Knees\, Behnke VS. Hot Mess Express\, Smith
DESCRIPTION:League Name: Women session 2 25 26\nGame Type: Regular\nGame St
 atus: Complete\nHome Team: Bees Knees, Behnke\nAway Team: Hot Mess Express
 , Smith\nHome Score: 7\nAway Score: 5
END:VEVENT
BEGIN:VEVENT
UID:17040809@ezleagues.ezfacility.com
DTSTAMP:20260419T150016Z
CREATED:20260419T150016Z
DTSTART:20260323T230000Z
DTEND:20260324T000000Z
LOCATION:Field #2
CONTACT:
SUMMARY:Fenagh\, Montgomery VS. Hot Mess Express\, Smith
DESCRIPTION:League Name: Women session 2 25 26\nGame Type: Regular\nGame St
 atus: Complete\nHome Team: Fenagh, Montgomery\nAway Team: Hot Mess Express
 , Smith\nHome Score: 8\nAway Score: 3
END:VEVENT
END:VCALENDAR
