BEGIN:VCALENDAR
VERSION:2.0
PRODID:-//EZFacility.com, Inc.//EZL 2.5.5.28621
BEGIN:VEVENT
UID:16939424@ezleagues.ezfacility.com
DTSTAMP:20260424T025854Z
CREATED:20260424T025854Z
DTSTART:20260103T120000Z
DTEND:20260103T125000Z
LOCATION:Red Field
CONTACT:
SUMMARY:Amherst Hurricanes VS. WNY Flash 2015 Callaghan
DESCRIPTION:League Name: Winter B Soccer Session (2026) - U11/12 Girls Divi
 sion\nGame Type: Regular\nGame Status: Complete\nHome Team: Amherst Hurric
 anes\nAway Team: WNY Flash 2015 Callaghan\nHome Score: 2\nAway Score: 2
END:VEVENT
BEGIN:VEVENT
UID:16939409@ezleagues.ezfacility.com
DTSTAMP:20260424T025854Z
CREATED:20260424T025854Z
DTSTART:20260117T130000Z
DTEND:20260117T135000Z
LOCATION:Blue Field
CONTACT:
SUMMARY:Amherst Thunder 2014G VS. WNY Flash 2015 Callaghan
DESCRIPTION:League Name: Winter B Soccer Session (2026) - U11/12 Girls Divi
 sion\nGame Type: Regular\nGame Status: Complete\nHome Team: Amherst Thunde
 r 2014G\nAway Team: WNY Flash 2015 Callaghan\nHome Score: 5\nAway Score: 1
END:VEVENT
BEGIN:VEVENT
UID:16939438@ezleagues.ezfacility.com
DTSTAMP:20260424T025854Z
CREATED:20260424T025854Z
DTSTART:20260124T130000Z
DTEND:20260124T135000Z
LOCATION:Red Field
CONTACT:
SUMMARY:WNY Flash 2015 Callaghan VS. Buffalo Stallions 2014 Girls
DESCRIPTION:League Name: Winter B Soccer Session (2026) - U11/12 Girls Divi
 sion\nGame Type: Regular\nGame Status: Complete\nHome Team: WNY Flash 2015
  Callaghan\nAway Team: Buffalo Stallions 2014 Girls\nHome Score: 3\nAway S
 core: 13
END:VEVENT
BEGIN:VEVENT
UID:16939404@ezleagues.ezfacility.com
DTSTAMP:20260424T025854Z
CREATED:20260424T025854Z
DTSTART:20260131T191000Z
DTEND:20260131T200000Z
LOCATION:Red Field
CONTACT:
SUMMARY:Clarence Inferno U12 Red VS. WNY Flash 2015 Callaghan
DESCRIPTION:League Name: Winter B Soccer Session (2026) - U11/12 Girls Divi
 sion\nGame Type: Regular\nGame Status: Complete\nHome Team: Clarence Infer
 no U12 Red\nAway Team: WNY Flash 2015 Callaghan\nHome Score: 6\nAway Score
 : 1
END:VEVENT
BEGIN:VEVENT
UID:16939431@ezleagues.ezfacility.com
DTSTAMP:20260424T025854Z
CREATED:20260424T025854Z
DTSTART:20260214T203500Z
DTEND:20260214T212500Z
LOCATION:Red Field
CONTACT:
SUMMARY:WNY Flash 2015 Callaghan VS. Lancaster Storm
DESCRIPTION:League Name: Winter B Soccer Session (2026) - U11/12 Girls Divi
 sion\nGame Type: Regular\nGame Status: Complete\nHome Team: WNY Flash 2015
  Callaghan\nAway Team: Lancaster Storm\nHome Score: 3\nAway Score: 3
END:VEVENT
BEGIN:VEVENT
UID:16939419@ezleagues.ezfacility.com
DTSTAMP:20260424T025854Z
CREATED:20260424T025854Z
DTSTART:20260222T201000Z
DTEND:20260222T210000Z
LOCATION:Blue Field
CONTACT:
SUMMARY:LOCKPORT LIGHTNING VS. WNY Flash 2015 Callaghan
DESCRIPTION:League Name: Winter B Soccer Session (2026) - U11/12 Girls Divi
 sion\nGame Type: Regular\nGame Status: Complete\nHome Team: LOCKPORT LIGHT
 NING\nAway Team: WNY Flash 2015 Callaghan\nHome Score: 8\nAway Score: 3
END:VEVENT
BEGIN:VEVENT
UID:16939452@ezleagues.ezfacility.com
DTSTAMP:20260424T025854Z
CREATED:20260424T025854Z
DTSTART:20260307T200500Z
DTEND:20260307T205500Z
LOCATION:Red Field
CONTACT:
SUMMARY:WNY Flash 2015 Callaghan VS. Lancaster Depew Panthers
DESCRIPTION:League Name: Winter B Soccer Session (2026) - U11/12 Girls Divi
 sion\nGame Type: Regular\nGame Status: Complete\nHome Team: WNY Flash 2015
  Callaghan\nAway Team: Lancaster Depew Panthers\nHome Score: 7\nAway Score
 : 0
END:VEVENT
BEGIN:VEVENT
UID:16939414@ezleagues.ezfacility.com
DTSTAMP:20260424T025854Z
CREATED:20260424T025854Z
DTSTART:20260321T174000Z
DTEND:20260321T183000Z
LOCATION:Red Field
CONTACT:
SUMMARY:Buffalo Stallions 2015 Girls VS. WNY Flash 2015 Callaghan
DESCRIPTION:League Name: Winter B Soccer Session (2026) - U11/12 Girls Divi
 sion\nGame Type: Regular\nGame Status: Complete\nHome Team: Buffalo Stalli
 ons 2015 Girls\nAway Team: WNY Flash 2015 Callaghan\nHome Score: 2\nAway S
 core: 6
END:VEVENT
BEGIN:VEVENT
UID:16939459@ezleagues.ezfacility.com
DTSTAMP:20260424T025854Z
CREATED:20260424T025854Z
DTSTART:20260411T181000Z
DTEND:20260411T190000Z
LOCATION:Red Field
CONTACT:
SUMMARY:WNY Flash 2015 Callaghan VS. WNY Flash 16G Tarmino
DESCRIPTION:League Name: Winter B Soccer Session (2026) - U11/12 Girls Divi
 sion\nGame Type: Regular\nGame Status: Rescheduled\nHome Team: WNY Flash 2
 015 Callaghan\nAway Team: WNY Flash 16G Tarmino\n
END:VEVENT
BEGIN:VEVENT
UID:17091507@ezleagues.ezfacility.com
DTSTAMP:20260424T025854Z
CREATED:20260424T025854Z
DTSTART:20260416T230000Z
DTEND:20260416T235000Z
LOCATION:Blue Field
CONTACT:
SUMMARY:WNY Flash 2015 Callaghan VS. WNY Flash 16G Tarmino
DESCRIPTION:League Name: Winter B Soccer Session (2026) - U11/12 Girls Divi
 sion\nGame Type: Regular\nGame Status: Complete\nHome Team: WNY Flash 2015
  Callaghan\nAway Team: WNY Flash 16G Tarmino\nHome Score: 3\nAway Score: 0
END:VEVENT
BEGIN:VEVENT
UID:16939445@ezleagues.ezfacility.com
DTSTAMP:20260424T025854Z
CREATED:20260424T025854Z
DTSTART:20260418T120000Z
DTEND:20260418T125000Z
LOCATION:Red Field
CONTACT:
SUMMARY:WNY Flash 2015 Callaghan VS. Buffalo Pro Soccer Youth Academy U12G
DESCRIPTION:League Name: Winter B Soccer Session (2026) - U11/12 Girls Divi
 sion\nGame Type: Regular\nGame Status: Complete\nHome Team: WNY Flash 2015
  Callaghan\nAway Team: Buffalo Pro Soccer Youth Academy U12G\nHome Score: 
 1\nAway Score: 7
END:VEVENT
BEGIN:VEVENT
UID:17023424@ezleagues.ezfacility.com
DTSTAMP:20260424T025854Z
CREATED:20260424T025854Z
DTSTART:20260425T120000Z
DTEND:20260425T125000Z
LOCATION:Blue Field
CONTACT:
SUMMARY:Amherst Hurricanes VS. WNY Flash 2015 Callaghan
DESCRIPTION:League Name: Winter B Soccer Session (2026) - U11/12 Girls Divi
 sion\nGame Type: Postseason\nGame Status: Pending\nHome Team: Amherst Hurr
 icanes\nAway Team: WNY Flash 2015 Callaghan\n
END:VEVENT
END:VCALENDAR
