BEGIN:VCALENDAR
VERSION:2.0
PRODID:-//EZFacility.com, Inc.//EZL 2.5.5.28621
BEGIN:VEVENT
UID:16955889@ezleagues.ezfacility.com
DTSTAMP:20260426T033430Z
CREATED:20260426T033430Z
DTSTART:20260105T014000Z
DTEND:20260105T023000Z
LOCATION:Blue Field
CONTACT:
SUMMARY:Kenmore 1888 FC VS. Buffalo United U17
DESCRIPTION:League Name: Winter B Soccer Session (2026) - U17/19 Boys Divis
 ion\nGame Type: Regular\nGame Status: Complete\nHome Team: Kenmore 1888 FC
 \nAway Team: Buffalo United U17\nHome Score: 6\nAway Score: 0
END:VEVENT
BEGIN:VEVENT
UID:16955898@ezleagues.ezfacility.com
DTSTAMP:20260426T033430Z
CREATED:20260426T033430Z
DTSTART:20260119T020500Z
DTEND:20260119T025500Z
LOCATION:Blue Field
CONTACT:
SUMMARY:Buffalo United U17 VS. NPSL Green
DESCRIPTION:League Name: Winter B Soccer Session (2026) - U17/19 Boys Divis
 ion\nGame Type: Regular\nGame Status: Complete\nHome Team: Buffalo United 
 U17\nAway Team: NPSL Green\nHome Score: 0\nAway Score: 7
END:VEVENT
BEGIN:VEVENT
UID:16958067@ezleagues.ezfacility.com
DTSTAMP:20260426T033430Z
CREATED:20260426T033430Z
DTSTART:20260202T014500Z
DTEND:20260202T023500Z
LOCATION:Blue Field
CONTACT:
SUMMARY:Lockport Lightning 09B VS. Buffalo United U17
DESCRIPTION:League Name: Winter B Soccer Session (2026) - U17/19 Boys Divis
 ion\nGame Type: Regular\nGame Status: Complete\nHome Team: Lockport Lightn
 ing 09B\nAway Team: Buffalo United U17\nHome Score: 1\nAway Score: 5
END:VEVENT
BEGIN:VEVENT
UID:16958073@ezleagues.ezfacility.com
DTSTAMP:20260426T033430Z
CREATED:20260426T033430Z
DTSTART:20260215T021000Z
DTEND:20260215T030000Z
LOCATION:Red Field
CONTACT:
SUMMARY:NWAA Wolves 2008 Boys VS. Buffalo United U17
DESCRIPTION:League Name: Winter B Soccer Session (2026) - U17/19 Boys Divis
 ion\nGame Type: Regular\nGame Status: Complete\nHome Team: NWAA Wolves 200
 8 Boys\nAway Team: Buffalo United U17\nHome Score: 6\nAway Score: 2
END:VEVENT
BEGIN:VEVENT
UID:16958102@ezleagues.ezfacility.com
DTSTAMP:20260426T033430Z
CREATED:20260426T033430Z
DTSTART:20260222T235500Z
DTEND:20260223T004500Z
LOCATION:Blue Field
CONTACT:
SUMMARY:Buffalo United U17 VS. Lockport Lightning 19u
DESCRIPTION:League Name: Winter B Soccer Session (2026) - U17/19 Boys Divis
 ion\nGame Type: Regular\nGame Status: Complete\nHome Team: Buffalo United 
 U17\nAway Team: Lockport Lightning 19u\nHome Score: 0\nAway Score: 7
END:VEVENT
BEGIN:VEVENT
UID:16958106@ezleagues.ezfacility.com
DTSTAMP:20260426T033430Z
CREATED:20260426T033430Z
DTSTART:20260302T011000Z
DTEND:20260302T020000Z
LOCATION:Blue Field
CONTACT:
SUMMARY:Buffalo United U17 VS. Amherst Soccer Red - Kashyap
DESCRIPTION:League Name: Winter B Soccer Session (2026) - U17/19 Boys Divis
 ion\nGame Type: Regular\nGame Status: Complete\nHome Team: Buffalo United 
 U17\nAway Team: Amherst Soccer Red - Kashyap\nHome Score: 0\nAway Score: 2
END:VEVENT
BEGIN:VEVENT
UID:16958118@ezleagues.ezfacility.com
DTSTAMP:20260426T033430Z
CREATED:20260426T033430Z
DTSTART:20260316T002000Z
DTEND:20260316T011000Z
LOCATION:Red Field
CONTACT:
SUMMARY:Buffalo United U17 VS. NWAA Wolves 2008 Boys
DESCRIPTION:League Name: Winter B Soccer Session (2026) - U17/19 Boys Divis
 ion\nGame Type: Regular\nGame Status: Complete\nHome Team: Buffalo United 
 U17\nAway Team: NWAA Wolves 2008 Boys\nHome Score: 1\nAway Score: 2
END:VEVENT
BEGIN:VEVENT
UID:16958090@ezleagues.ezfacility.com
DTSTAMP:20260426T033430Z
CREATED:20260426T033430Z
DTSTART:20260323T003500Z
DTEND:20260323T012500Z
LOCATION:Blue Field
CONTACT:
SUMMARY:Buffalo United U19 VS. Buffalo United U17
DESCRIPTION:League Name: Winter B Soccer Session (2026) - U17/19 Boys Divis
 ion\nGame Type: Regular\nGame Status: Complete\nHome Team: Buffalo United 
 U19\nAway Team: Buffalo United U17\nHome Score: 3\nAway Score: 0
END:VEVENT
BEGIN:VEVENT
UID:16958112@ezleagues.ezfacility.com
DTSTAMP:20260426T033430Z
CREATED:20260426T033430Z
DTSTART:20260412T231000Z
DTEND:20260413T000000Z
LOCATION:Red Field
CONTACT:
SUMMARY:Lockport Lightning 09B VS. Buffalo United U17
DESCRIPTION:League Name: Winter B Soccer Session (2026) - U17/19 Boys Divis
 ion\nGame Type: Regular\nGame Status: Complete\nHome Team: Lockport Lightn
 ing 09B\nAway Team: Buffalo United U17\nHome Score: 1\nAway Score: 5
END:VEVENT
BEGIN:VEVENT
UID:16958079@ezleagues.ezfacility.com
DTSTAMP:20260426T033430Z
CREATED:20260426T033430Z
DTSTART:20260419T224500Z
DTEND:20260419T233500Z
LOCATION:Blue Field
CONTACT:
SUMMARY:Buffalo United U17 VS. NPSL White
DESCRIPTION:League Name: Winter B Soccer Session (2026) - U17/19 Boys Divis
 ion\nGame Type: Regular\nGame Status: Complete\nHome Team: Buffalo United 
 U17\nAway Team: NPSL White\nHome Score: 1\nAway Score: 5
END:VEVENT
BEGIN:VEVENT
UID:17023989@ezleagues.ezfacility.com
DTSTAMP:20260426T033430Z
CREATED:20260426T033430Z
DTSTART:20260427T013000Z
DTEND:20260427T022000Z
LOCATION:Blue Field
CONTACT:
SUMMARY:Lockport Lightning 19u VS. Buffalo United U17
DESCRIPTION:League Name: Winter B Soccer Session (2026) - U17/19 Boys Divis
 ion\nGame Type: Postseason\nGame Status: Pending\nHome Team: Lockport Ligh
 tning 19u\nAway Team: Buffalo United U17\n
END:VEVENT
END:VCALENDAR
