BEGIN:VCALENDAR
VERSION:2.0
PRODID:-//EZFacility.com, Inc.//EZL 2.5.5.28621
BEGIN:VEVENT
UID:16939793@ezleagues.ezfacility.com
DTSTAMP:20260424T043304Z
CREATED:20260424T043304Z
DTSTART:20260104T233000Z
DTEND:20260105T003000Z
LOCATION:6v6 Field 2
CONTACT:
SUMMARY:Catch 22s VS. Mandem FC
DESCRIPTION:League Name: 2nd session 2026- Coed Open Sunday Boarded\nGame T
 ype: Regular\nGame Status: Complete\nHome Team: Catch 22s\nAway Team: Mand
 em FC\nHome Score: 7\nAway Score: 11
END:VEVENT
BEGIN:VEVENT
UID:16939797@ezleagues.ezfacility.com
DTSTAMP:20260424T043304Z
CREATED:20260424T043304Z
DTSTART:20260112T003000Z
DTEND:20260112T013000Z
LOCATION:6v6 Field 2
CONTACT:
SUMMARY:Megged Ur Mother VS. Catch 22s
DESCRIPTION:League Name: 2nd session 2026- Coed Open Sunday Boarded\nGame T
 ype: Regular\nGame Status: Complete\nHome Team: Megged Ur Mother\nAway Tea
 m: Catch 22s\nHome Score: 11\nAway Score: 11
END:VEVENT
BEGIN:VEVENT
UID:16939803@ezleagues.ezfacility.com
DTSTAMP:20260424T043304Z
CREATED:20260424T043304Z
DTSTART:20260118T233000Z
DTEND:20260119T003000Z
LOCATION:6v6 Field 2
CONTACT:
SUMMARY:Catch 22s VS. To Be Determined
DESCRIPTION:League Name: 2nd session 2026- Coed Open Sunday Boarded\nGame T
 ype: Regular\nGame Status: Complete\nHome Team: Catch 22s\nAway Team: To B
 e Determined\nHome Score: 12\nAway Score: 14
END:VEVENT
BEGIN:VEVENT
UID:16939806@ezleagues.ezfacility.com
DTSTAMP:20260424T043304Z
CREATED:20260424T043304Z
DTSTART:20260126T003000Z
DTEND:20260126T013000Z
LOCATION:6v6 Field 2
CONTACT:
SUMMARY:Kiss My Arsenal  VS. Catch 22s
DESCRIPTION:League Name: 2nd session 2026- Coed Open Sunday Boarded\nGame T
 ype: Regular\nGame Status: Complete\nHome Team: Kiss My Arsenal \nAway Tea
 m: Catch 22s\nHome Score: 13\nAway Score: 12
END:VEVENT
BEGIN:VEVENT
UID:16939814@ezleagues.ezfacility.com
DTSTAMP:20260424T043304Z
CREATED:20260424T043304Z
DTSTART:20260202T020000Z
DTEND:20260202T030000Z
LOCATION:6v6 Field 1
CONTACT:
SUMMARY:Catch 22s VS. Team Katie Yates
DESCRIPTION:League Name: 2nd session 2026- Coed Open Sunday Boarded\nGame T
 ype: Regular\nGame Status: Complete\nHome Team: Catch 22s\nAway Team: Team
  Katie Yates\nHome Score: 8\nAway Score: 12
END:VEVENT
BEGIN:VEVENT
UID:16939825@ezleagues.ezfacility.com
DTSTAMP:20260424T043304Z
CREATED:20260424T043304Z
DTSTART:20260215T223000Z
DTEND:20260215T233000Z
LOCATION:6v6 Field 2
CONTACT:
SUMMARY:Catch 22s VS. Cheeks
DESCRIPTION:League Name: 2nd session 2026- Coed Open Sunday Boarded\nGame T
 ype: Regular\nGame Status: Complete\nHome Team: Catch 22s\nAway Team: Chee
 ks\nHome Score: 6\nAway Score: 5
END:VEVENT
BEGIN:VEVENT
UID:16939834@ezleagues.ezfacility.com
DTSTAMP:20260424T043304Z
CREATED:20260424T043304Z
DTSTART:20260301T223000Z
DTEND:20260301T233000Z
LOCATION:6v6 Field 2
CONTACT:
SUMMARY:Cam I Am VS. Catch 22s
DESCRIPTION:League Name: 2nd session 2026- Coed Open Sunday Boarded\nGame T
 ype: Regular\nGame Status: Complete\nHome Team: Cam I Am\nAway Team: Catch
  22s\nHome Score: 15\nAway Score: 8
END:VEVENT
BEGIN:VEVENT
UID:16939820@ezleagues.ezfacility.com
DTSTAMP:20260424T043304Z
CREATED:20260424T043304Z
DTSTART:20260309T000000Z
DTEND:20260309T010000Z
LOCATION:6v6 Field 1
CONTACT:
SUMMARY:House Team- Sunday VS. Catch 22s
DESCRIPTION:League Name: 2nd session 2026- Coed Open Sunday Boarded\nGame T
 ype: Regular\nGame Status: Complete\nHome Team: House Team- Sunday\nAway T
 eam: Catch 22s\nHome Score: 16\nAway Score: 6
END:VEVENT
END:VCALENDAR
