BEGIN:VCALENDAR
VERSION:2.0
PRODID:-//EZFacility.com, Inc.//EZL 2.5.5.28621
BEGIN:VEVENT
UID:16940518@ezleagues.ezfacility.com
DTSTAMP:20260420T010243Z
CREATED:20260420T010243Z
DTSTART:20260108T024000Z
DTEND:20260108T040000Z
LOCATION:River City Sportplex
CONTACT:
SUMMARY:Cruisers Ice Dogs VS. Mont-Roses
DESCRIPTION:League Name: Winter 2026 "B" League\nGame Type: Regular\nGame S
 tatus: Complete\nHome Team: Cruisers Ice Dogs\nAway Team: Mont-Roses\nHome
  Score: 2\nAway Score: 4
END:VEVENT
BEGIN:VEVENT
UID:16940522@ezleagues.ezfacility.com
DTSTAMP:20260420T010243Z
CREATED:20260420T010243Z
DTSTART:20260115T041000Z
DTEND:20260115T053000Z
LOCATION:River City Sportplex
CONTACT:
SUMMARY:Jack Wagons VS. Mont-Roses
DESCRIPTION:League Name: Winter 2026 "B" League\nGame Type: Regular\nGame S
 tatus: Complete\nHome Team: Jack Wagons\nAway Team: Mont-Roses\nHome Score
 : 3\nAway Score: 2
END:VEVENT
BEGIN:VEVENT
UID:16940526@ezleagues.ezfacility.com
DTSTAMP:20260420T010243Z
CREATED:20260420T010243Z
DTSTART:20260122T054000Z
DTEND:20260122T070000Z
LOCATION:River City Sportplex
CONTACT:
SUMMARY:Handlebar VS. Mont-Roses
DESCRIPTION:League Name: Winter 2026 "B" League\nGame Type: Regular\nGame S
 tatus: Complete\nHome Team: Handlebar\nAway Team: Mont-Roses\nHome Score: 
 8\nAway Score: 0
END:VEVENT
BEGIN:VEVENT
UID:16940529@ezleagues.ezfacility.com
DTSTAMP:20260420T010243Z
CREATED:20260420T010243Z
DTSTART:20260129T054000Z
DTEND:20260129T070000Z
LOCATION:River City Sportplex
CONTACT:
SUMMARY:Mont-Roses VS. Crazy Ivans
DESCRIPTION:League Name: Winter 2026 "B" League\nGame Type: Regular\nGame S
 tatus: Complete\nHome Team: Mont-Roses\nAway Team: Crazy Ivans\nHome Score
 : 5\nAway Score: 9
END:VEVENT
BEGIN:VEVENT
UID:16940531@ezleagues.ezfacility.com
DTSTAMP:20260420T010243Z
CREATED:20260420T010243Z
DTSTART:20260205T024000Z
DTEND:20260205T040000Z
LOCATION:River City Sportplex
CONTACT:
SUMMARY:Ugly Pucklings VS. Mont-Roses
DESCRIPTION:League Name: Winter 2026 "B" League\nGame Type: Regular\nGame S
 tatus: Complete\nHome Team: Ugly Pucklings\nAway Team: Mont-Roses\nHome Sc
 ore: 3\nAway Score: 4
END:VEVENT
BEGIN:VEVENT
UID:16940533@ezleagues.ezfacility.com
DTSTAMP:20260420T010243Z
CREATED:20260420T010243Z
DTSTART:20260212T041000Z
DTEND:20260212T053000Z
LOCATION:River City Sportplex
CONTACT:
SUMMARY:Mont-Roses VS. Cruisers Ice Dogs
DESCRIPTION:League Name: Winter 2026 "B" League\nGame Type: Regular\nGame S
 tatus: Complete\nHome Team: Mont-Roses\nAway Team: Cruisers Ice Dogs\nHome
  Score: 6\nAway Score: 5
END:VEVENT
BEGIN:VEVENT
UID:16940537@ezleagues.ezfacility.com
DTSTAMP:20260420T010243Z
CREATED:20260420T010243Z
DTSTART:20260226T041000Z
DTEND:20260226T053000Z
LOCATION:River City Sportplex
CONTACT:
SUMMARY:Mont-Roses VS. Jack Wagons
DESCRIPTION:League Name: Winter 2026 "B" League\nGame Type: Regular\nGame S
 tatus: Complete\nHome Team: Mont-Roses\nAway Team: Jack Wagons\nHome Score
 : 3\nAway Score: 6
END:VEVENT
BEGIN:VEVENT
UID:16940541@ezleagues.ezfacility.com
DTSTAMP:20260420T010243Z
CREATED:20260420T010243Z
DTSTART:20260305T041000Z
DTEND:20260305T053000Z
LOCATION:River City Sportplex
CONTACT:
SUMMARY:Mont-Roses VS. Handlebar
DESCRIPTION:League Name: Winter 2026 "B" League\nGame Type: Regular\nGame S
 tatus: Complete\nHome Team: Mont-Roses\nAway Team: Handlebar\nHome Score: 
 4\nAway Score: 2
END:VEVENT
BEGIN:VEVENT
UID:16940544@ezleagues.ezfacility.com
DTSTAMP:20260420T010243Z
CREATED:20260420T010243Z
DTSTART:20260312T044000Z
DTEND:20260312T060000Z
LOCATION:River City Sportplex
CONTACT:
SUMMARY:Crazy Ivans VS. Mont-Roses
DESCRIPTION:League Name: Winter 2026 "B" League\nGame Type: Regular\nGame S
 tatus: Complete\nHome Team: Crazy Ivans\nAway Team: Mont-Roses\nHome Score
 : 8\nAway Score: 5
END:VEVENT
BEGIN:VEVENT
UID:16940546@ezleagues.ezfacility.com
DTSTAMP:20260420T010243Z
CREATED:20260420T010243Z
DTSTART:20260319T031000Z
DTEND:20260319T043000Z
LOCATION:River City Sportplex
CONTACT:
SUMMARY:Handlebar VS. Mont-Roses
DESCRIPTION:League Name: Winter 2026 "B" League\nGame Type: Postseason\nGam
 e Status: Complete\nHome Team: Handlebar\nAway Team: Mont-Roses\nHome Scor
 e: 4\nAway Score: 1
END:VEVENT
BEGIN:VEVENT
UID:16940548@ezleagues.ezfacility.com
DTSTAMP:20260420T010243Z
CREATED:20260420T010243Z
DTSTART:20260326T031000Z
DTEND:20260326T043000Z
LOCATION:River City Sportplex
CONTACT:
SUMMARY:Crazy Ivans VS. Mont-Roses
DESCRIPTION:League Name: Winter 2026 "B" League\nGame Type: Postseason\nGam
 e Status: Complete\nHome Team: Crazy Ivans\nAway Team: Mont-Roses\nHome Sc
 ore: 7\nAway Score: 2
END:VEVENT
END:VCALENDAR
