BEGIN:VCALENDAR
VERSION:2.0
PRODID:-//EZFacility.com, Inc.//EZL 2.5.5.28621
BEGIN:VEVENT
UID:16940769@ezleagues.ezfacility.com
DTSTAMP:20260426T033506Z
CREATED:20260426T033506Z
DTSTART:20260103T020000Z
DTEND:20260103T030000Z
LOCATION:Field 4 BLD
CONTACT:
SUMMARY:PSG VS. Liverpool
DESCRIPTION:League Name: CORONA FC 2018 Viernes 12-19\nGame Type: Regular\n
 Game Status: Complete\nHome Team: PSG\nAway Team: Liverpool\nHome Score: 1
 0\nAway Score: 7
END:VEVENT
BEGIN:VEVENT
UID:16963251@ezleagues.ezfacility.com
DTSTAMP:20260426T033506Z
CREATED:20260426T033506Z
DTSTART:20260109T230000Z
DTEND:20260110T000000Z
LOCATION:Field 5 BLD
CONTACT:
SUMMARY:PSG VS. Manchester City
DESCRIPTION:League Name: CORONA FC 2018 Viernes 12-19\nGame Type: Regular\n
 Game Status: Complete\nHome Team: PSG\nAway Team: Manchester City\nHome Sc
 ore: 6\nAway Score: 5
END:VEVENT
BEGIN:VEVENT
UID:16976017@ezleagues.ezfacility.com
DTSTAMP:20260426T033506Z
CREATED:20260426T033506Z
DTSTART:20260117T000000Z
DTEND:20260117T010000Z
LOCATION:Field 3 BLD
CONTACT:
SUMMARY:PSG VS. Ghana
DESCRIPTION:League Name: CORONA FC 2018 Viernes 12-19\nGame Type: Regular\n
 Game Status: Complete\nHome Team: PSG\nAway Team: Ghana\nHome Score: 10\nA
 way Score: 17
END:VEVENT
BEGIN:VEVENT
UID:17010618@ezleagues.ezfacility.com
DTSTAMP:20260426T033506Z
CREATED:20260426T033506Z
DTSTART:20260206T230000Z
DTEND:20260207T000000Z
LOCATION:Field 3 BLD
CONTACT:
SUMMARY:The Rockies VS. PSG
DESCRIPTION:League Name: CORONA FC 2018 Viernes 12-19\nGame Type: Regular\n
 Game Status: Complete\nHome Team: The Rockies\nAway Team: PSG\nHome Score:
  14\nAway Score: 4
END:VEVENT
BEGIN:VEVENT
UID:17023797@ezleagues.ezfacility.com
DTSTAMP:20260426T033506Z
CREATED:20260426T033506Z
DTSTART:20260213T230000Z
DTEND:20260214T000000Z
LOCATION:Field 4 BLD
CONTACT:
SUMMARY:Barcelona VS. PSG
DESCRIPTION:League Name: CORONA FC 2018 Viernes 12-19\nGame Type: Regular\n
 Game Status: Complete\nHome Team: Barcelona\nAway Team: PSG\nHome Score: 6
 \nAway Score: 6
END:VEVENT
BEGIN:VEVENT
UID:17032012@ezleagues.ezfacility.com
DTSTAMP:20260426T033506Z
CREATED:20260426T033506Z
DTSTART:20260221T000000Z
DTEND:20260221T010000Z
LOCATION:11vs11 Field 1 BET/H
CONTACT:
SUMMARY:PSG VS. Miami
DESCRIPTION:League Name: CORONA FC 2018 Viernes 12-19\nGame Type: Regular\n
 Game Status: Complete\nHome Team: PSG\nAway Team: Miami\nHome Score: 11\nA
 way Score: 21
END:VEVENT
END:VCALENDAR
