BEGIN:VCALENDAR
VERSION:2.0
PRODID:-//EZFacility.com, Inc.//EZL 2.5.5.28621
BEGIN:VEVENT
UID:16945249@ezleagues.ezfacility.com
DTSTAMP:20260426T033441Z
CREATED:20260426T033441Z
DTSTART:20260115T003000Z
DTEND:20260115T013000Z
LOCATION:Indoor Field #3
CONTACT:
SUMMARY:Sportsplex VS. Gladiators
DESCRIPTION:League Name: Winter Session II Mens Lower Division\nGame Type: 
 Regular\nGame Status: Complete\nHome Team: Sportsplex\nAway Team: Gladiato
 rs\nHome Score: 2\nAway Score: 11
END:VEVENT
BEGIN:VEVENT
UID:16945258@ezleagues.ezfacility.com
DTSTAMP:20260426T033441Z
CREATED:20260426T033441Z
DTSTART:20260121T233000Z
DTEND:20260122T003000Z
LOCATION:Indoor Field #2
CONTACT:
SUMMARY:Gladiators VS. Upper Nine
DESCRIPTION:League Name: Winter Session II Mens Lower Division\nGame Type: 
 Regular\nGame Status: Complete\nHome Team: Gladiators\nAway Team: Upper Ni
 ne\nHome Score: 8\nAway Score: 3
END:VEVENT
BEGIN:VEVENT
UID:16945276@ezleagues.ezfacility.com
DTSTAMP:20260426T033441Z
CREATED:20260426T033441Z
DTSTART:20260205T010000Z
DTEND:20260205T020000Z
LOCATION:Indoor Field #1
CONTACT:
SUMMARY:Gladiators VS. Shrimp Juice Boys
DESCRIPTION:League Name: Winter Session II Mens Lower Division\nGame Type: 
 Regular\nGame Status: Complete\nHome Team: Gladiators\nAway Team: Shrimp J
 uice Boys\nHome Score: 11\nAway Score: 15
END:VEVENT
BEGIN:VEVENT
UID:16945293@ezleagues.ezfacility.com
DTSTAMP:20260426T033441Z
CREATED:20260426T033441Z
DTSTART:20260219T023000Z
DTEND:20260219T033000Z
LOCATION:Indoor Field #2
CONTACT:
SUMMARY:Backstreet Boys VS. Gladiators
DESCRIPTION:League Name: Winter Session II Mens Lower Division\nGame Type: 
 Regular\nGame Status: Complete\nHome Team: Backstreet Boys\nAway Team: Gla
 diators\nHome Score: 3\nAway Score: 7
END:VEVENT
BEGIN:VEVENT
UID:16945300@ezleagues.ezfacility.com
DTSTAMP:20260426T033441Z
CREATED:20260426T033441Z
DTSTART:20260226T013000Z
DTEND:20260226T023000Z
LOCATION:Indoor Field #3
CONTACT:
SUMMARY:Gladiators VS. FC Tavo's Tacos
DESCRIPTION:League Name: Winter Session II Mens Lower Division\nGame Type: 
 Regular\nGame Status: Complete\nHome Team: Gladiators\nAway Team: FC Tavo'
 s Tacos\nHome Score: 12\nAway Score: 5
END:VEVENT
BEGIN:VEVENT
UID:16945307@ezleagues.ezfacility.com
DTSTAMP:20260426T033441Z
CREATED:20260426T033441Z
DTSTART:20260306T013000Z
DTEND:20260306T023000Z
LOCATION:Indoor Field #2
CONTACT:
SUMMARY:Premature Shooters VS. Gladiators
DESCRIPTION:League Name: Winter Session II Mens Lower Division\nGame Type: 
 Regular\nGame Status: Complete\nHome Team: Premature Shooters\nAway Team: 
 Gladiators\nHome Score: 7\nAway Score: 12
END:VEVENT
BEGIN:VEVENT
UID:16945267@ezleagues.ezfacility.com
DTSTAMP:20260426T033441Z
CREATED:20260426T033441Z
DTSTART:20260313T003000Z
DTEND:20260313T013000Z
LOCATION:Indoor Field #3
CONTACT:
SUMMARY:Gladiators VS. Midfield Crisis
DESCRIPTION:League Name: Winter Session II Mens Lower Division\nGame Type: 
 Regular\nGame Status: Complete\nHome Team: Gladiators\nAway Team: Midfield
  Crisis\nHome Score: 9\nAway Score: 2
END:VEVENT
BEGIN:VEVENT
UID:16945285@ezleagues.ezfacility.com
DTSTAMP:20260426T033441Z
CREATED:20260426T033441Z
DTSTART:20260319T000000Z
DTEND:20260319T010000Z
LOCATION:Indoor Field #1
CONTACT:
SUMMARY:Lighthouse City VS. Gladiators
DESCRIPTION:League Name: Winter Session II Mens Lower Division\nGame Type: 
 Regular\nGame Status: Complete\nHome Team: Lighthouse City\nAway Team: Gla
 diators\nHome Score: 6\nAway Score: 6
END:VEVENT
END:VCALENDAR
