BEGIN:VCALENDAR
VERSION:2.0
PRODID:-//EZFacility.com, Inc.//EZL 2.5.5.28621
BEGIN:VEVENT
UID:16946698@ezleagues.ezfacility.com
DTSTAMP:20260424T221401Z
CREATED:20260424T221401Z
DTSTART:20260108T010000Z
DTEND:20260108T020000Z
LOCATION:Indoor Field #1
CONTACT:
SUMMARY:Freighters VS. Kickers White
DESCRIPTION:League Name: Winter Session II Mens Upper Division\nGame Type: 
 Regular\nGame Status: Complete\nHome Team: Freighters\nAway Team: Kickers 
 White\nHome Score: 9\nAway Score: 7
END:VEVENT
BEGIN:VEVENT
UID:16946704@ezleagues.ezfacility.com
DTSTAMP:20260424T221401Z
CREATED:20260424T221401Z
DTSTART:20260115T023000Z
DTEND:20260115T033000Z
LOCATION:Indoor Field #3
CONTACT:
SUMMARY:Freighters VS. Wasted Talent FC
DESCRIPTION:League Name: Winter Session II Mens Upper Division\nGame Type: 
 Regular\nGame Status: Complete\nHome Team: Freighters\nAway Team: Wasted T
 alent FC\nHome Score: 9\nAway Score: 7
END:VEVENT
BEGIN:VEVENT
UID:16946779@ezleagues.ezfacility.com
DTSTAMP:20260424T221401Z
CREATED:20260424T221401Z
DTSTART:20260123T023000Z
DTEND:20260123T033000Z
LOCATION:Indoor Field #2
CONTACT:
SUMMARY:Freighters VS. Los Polgunia
DESCRIPTION:League Name: Winter Session II Mens Upper Division\nGame Type: 
 Regular\nGame Status: Complete\nHome Team: Freighters\nAway Team: Los Polg
 unia\nHome Score: 8\nAway Score: 8
END:VEVENT
BEGIN:VEVENT
UID:16946713@ezleagues.ezfacility.com
DTSTAMP:20260424T221401Z
CREATED:20260424T221401Z
DTSTART:20260129T010000Z
DTEND:20260129T020000Z
LOCATION:Indoor Field #1
CONTACT:
SUMMARY:Kickers White VS. Freighters
DESCRIPTION:League Name: Winter Session II Mens Upper Division\nGame Type: 
 Regular\nGame Status: Complete\nHome Team: Kickers White\nAway Team: Freig
 hters\nHome Score: 5\nAway Score: 8
END:VEVENT
BEGIN:VEVENT
UID:16946719@ezleagues.ezfacility.com
DTSTAMP:20260424T221401Z
CREATED:20260424T221401Z
DTSTART:20260212T003000Z
DTEND:20260212T013000Z
LOCATION:Indoor Field #2
CONTACT:
SUMMARY:Tropical Mangos VS. Freighters
DESCRIPTION:League Name: Winter Session II Mens Upper Division\nGame Type: 
 Regular\nGame Status: Complete\nHome Team: Tropical Mangos\nAway Team: Fre
 ighters\nHome Score: 6\nAway Score: 5
END:VEVENT
BEGIN:VEVENT
UID:16946722@ezleagues.ezfacility.com
DTSTAMP:20260424T221401Z
CREATED:20260424T221401Z
DTSTART:20260218T233000Z
DTEND:20260219T003000Z
LOCATION:Indoor Field #2
CONTACT:
SUMMARY:Freighters VS. AL-Ansar
DESCRIPTION:League Name: Winter Session II Mens Upper Division\nGame Type: 
 Regular\nGame Status: Complete\nHome Team: Freighters\nAway Team: AL-Ansar
 \nHome Score: 10\nAway Score: 6
END:VEVENT
BEGIN:VEVENT
UID:16946716@ezleagues.ezfacility.com
DTSTAMP:20260424T221401Z
CREATED:20260424T221401Z
DTSTART:20260312T013000Z
DTEND:20260312T023000Z
LOCATION:Indoor Field #2
CONTACT:
SUMMARY:TwoGoalsOneCup VS. Freighters
DESCRIPTION:League Name: Winter Session II Mens Upper Division\nGame Type: 
 Regular\nGame Status: Complete\nHome Team: TwoGoalsOneCup\nAway Team: Frei
 ghters\nHome Score: 5\nAway Score: 7
END:VEVENT
BEGIN:VEVENT
UID:16946727@ezleagues.ezfacility.com
DTSTAMP:20260424T221401Z
CREATED:20260424T221401Z
DTSTART:20260319T013000Z
DTEND:20260319T023000Z
LOCATION:Indoor Field #2
CONTACT:
SUMMARY:Freighters VS. Tag Athletics
DESCRIPTION:League Name: Winter Session II Mens Upper Division\nGame Type: 
 Regular\nGame Status: Complete\nHome Team: Freighters\nAway Team: Tag Athl
 etics\nHome Score: 5\nAway Score: 5
END:VEVENT
END:VCALENDAR
