BEGIN:VCALENDAR
VERSION:2.0
PRODID:-//EZFacility.com, Inc.//EZL 2.5.5.28621
BEGIN:VEVENT
UID:16941412@ezleagues.ezfacility.com
DTSTAMP:20260424T043306Z
CREATED:20260424T043306Z
DTSTART:20260110T190000Z
DTEND:20260110T193000Z
LOCATION:Field B
CONTACT:
SUMMARY:Cupcakes VS. Milkshakes
DESCRIPTION:League Name: Youth Soccer 2026 Kindergarten\nGame Type: Regular
 \nGame Status: Pending\nHome Team: Cupcakes\nAway Team: Milkshakes\n
END:VEVENT
BEGIN:VEVENT
UID:16941416@ezleagues.ezfacility.com
DTSTAMP:20260424T043306Z
CREATED:20260424T043306Z
DTSTART:20260110T193000Z
DTEND:20260110T200000Z
LOCATION:Field C
CONTACT:
SUMMARY:Milkshakes VS. Sprinkles
DESCRIPTION:League Name: Youth Soccer 2026 Kindergarten\nGame Type: Regular
 \nGame Status: Pending\nHome Team: Milkshakes\nAway Team: Sprinkles\n
END:VEVENT
BEGIN:VEVENT
UID:16941418@ezleagues.ezfacility.com
DTSTAMP:20260424T043306Z
CREATED:20260424T043306Z
DTSTART:20260117T190000Z
DTEND:20260117T193000Z
LOCATION:Field B
CONTACT:
SUMMARY:Brownies VS. Milkshakes
DESCRIPTION:League Name: Youth Soccer 2026 Kindergarten\nGame Type: Regular
 \nGame Status: Pending\nHome Team: Brownies\nAway Team: Milkshakes\n
END:VEVENT
BEGIN:VEVENT
UID:16941420@ezleagues.ezfacility.com
DTSTAMP:20260424T043306Z
CREATED:20260424T043306Z
DTSTART:20260117T193000Z
DTEND:20260117T200000Z
LOCATION:Field A
CONTACT:
SUMMARY:Cookies VS. Milkshakes
DESCRIPTION:League Name: Youth Soccer 2026 Kindergarten\nGame Type: Regular
 \nGame Status: Pending\nHome Team: Cookies\nAway Team: Milkshakes\n
END:VEVENT
BEGIN:VEVENT
UID:16941423@ezleagues.ezfacility.com
DTSTAMP:20260424T043306Z
CREATED:20260424T043306Z
DTSTART:20260124T190000Z
DTEND:20260124T193000Z
LOCATION:Field A
CONTACT:
SUMMARY:Milkshakes VS. Popsicles
DESCRIPTION:League Name: Youth Soccer 2026 Kindergarten\nGame Type: Regular
 \nGame Status: Pending\nHome Team: Milkshakes\nAway Team: Popsicles\n
END:VEVENT
BEGIN:VEVENT
UID:16941427@ezleagues.ezfacility.com
DTSTAMP:20260424T043306Z
CREATED:20260424T043306Z
DTSTART:20260124T193000Z
DTEND:20260124T200000Z
LOCATION:Field B
CONTACT:
SUMMARY:Milkshakes VS. Sprinkles
DESCRIPTION:League Name: Youth Soccer 2026 Kindergarten\nGame Type: Regular
 \nGame Status: Pending\nHome Team: Milkshakes\nAway Team: Sprinkles\n
END:VEVENT
BEGIN:VEVENT
UID:16941429@ezleagues.ezfacility.com
DTSTAMP:20260424T043306Z
CREATED:20260424T043306Z
DTSTART:20260131T190000Z
DTEND:20260131T193000Z
LOCATION:Field A
CONTACT:
SUMMARY:Milkshakes VS. Popsicles
DESCRIPTION:League Name: Youth Soccer 2026 Kindergarten\nGame Type: Regular
 \nGame Status: Pending\nHome Team: Milkshakes\nAway Team: Popsicles\n
END:VEVENT
BEGIN:VEVENT
UID:16941434@ezleagues.ezfacility.com
DTSTAMP:20260424T043306Z
CREATED:20260424T043306Z
DTSTART:20260131T193000Z
DTEND:20260131T200000Z
LOCATION:Field C
CONTACT:
SUMMARY:Brownies VS. Milkshakes
DESCRIPTION:League Name: Youth Soccer 2026 Kindergarten\nGame Type: Regular
 \nGame Status: Pending\nHome Team: Brownies\nAway Team: Milkshakes\n
END:VEVENT
BEGIN:VEVENT
UID:16941435@ezleagues.ezfacility.com
DTSTAMP:20260424T043306Z
CREATED:20260424T043306Z
DTSTART:20260207T190000Z
DTEND:20260207T193000Z
LOCATION:Field A
CONTACT:
SUMMARY:Cookies VS. Milkshakes
DESCRIPTION:League Name: Youth Soccer 2026 Kindergarten\nGame Type: Regular
 \nGame Status: Pending\nHome Team: Cookies\nAway Team: Milkshakes\n
END:VEVENT
BEGIN:VEVENT
UID:16941438@ezleagues.ezfacility.com
DTSTAMP:20260424T043306Z
CREATED:20260424T043306Z
DTSTART:20260207T193000Z
DTEND:20260207T200000Z
LOCATION:Field A
CONTACT:
SUMMARY:Milkshakes VS. Popsicles
DESCRIPTION:League Name: Youth Soccer 2026 Kindergarten\nGame Type: Regular
 \nGame Status: Pending\nHome Team: Milkshakes\nAway Team: Popsicles\n
END:VEVENT
BEGIN:VEVENT
UID:16941443@ezleagues.ezfacility.com
DTSTAMP:20260424T043306Z
CREATED:20260424T043306Z
DTSTART:20260214T190000Z
DTEND:20260214T193000Z
LOCATION:Field C
CONTACT:
SUMMARY:Cupcakes VS. Milkshakes
DESCRIPTION:League Name: Youth Soccer 2026 Kindergarten\nGame Type: Regular
 \nGame Status: Pending\nHome Team: Cupcakes\nAway Team: Milkshakes\n
END:VEVENT
BEGIN:VEVENT
UID:16941445@ezleagues.ezfacility.com
DTSTAMP:20260424T043306Z
CREATED:20260424T043306Z
DTSTART:20260214T193000Z
DTEND:20260214T200000Z
LOCATION:Field B
CONTACT:
SUMMARY:Milkshakes VS. Sprinkles
DESCRIPTION:League Name: Youth Soccer 2026 Kindergarten\nGame Type: Regular
 \nGame Status: Pending\nHome Team: Milkshakes\nAway Team: Sprinkles\n
END:VEVENT
BEGIN:VEVENT
UID:16941472@ezleagues.ezfacility.com
DTSTAMP:20260424T043306Z
CREATED:20260424T043306Z
DTSTART:20260221T190000Z
DTEND:20260221T193000Z
LOCATION:Field B
CONTACT:
SUMMARY:Brownies VS. Milkshakes
DESCRIPTION:League Name: Youth Soccer 2026 Kindergarten\nGame Type: Regular
 \nGame Status: Pending\nHome Team: Brownies\nAway Team: Milkshakes\n
END:VEVENT
BEGIN:VEVENT
UID:16941474@ezleagues.ezfacility.com
DTSTAMP:20260424T043306Z
CREATED:20260424T043306Z
DTSTART:20260221T193000Z
DTEND:20260221T200000Z
LOCATION:Field A
CONTACT:
SUMMARY:Cookies VS. Milkshakes
DESCRIPTION:League Name: Youth Soccer 2026 Kindergarten\nGame Type: Regular
 \nGame Status: Pending\nHome Team: Cookies\nAway Team: Milkshakes\n
END:VEVENT
BEGIN:VEVENT
UID:16941477@ezleagues.ezfacility.com
DTSTAMP:20260424T043306Z
CREATED:20260424T043306Z
DTSTART:20260228T190000Z
DTEND:20260228T193000Z
LOCATION:Field A
CONTACT:
SUMMARY:Milkshakes VS. Popsicles
DESCRIPTION:League Name: Youth Soccer 2026 Kindergarten\nGame Type: Regular
 \nGame Status: Pending\nHome Team: Milkshakes\nAway Team: Popsicles\n
END:VEVENT
BEGIN:VEVENT
UID:16941481@ezleagues.ezfacility.com
DTSTAMP:20260424T043306Z
CREATED:20260424T043306Z
DTSTART:20260228T193000Z
DTEND:20260228T200000Z
LOCATION:Field B
CONTACT:
SUMMARY:Cupcakes VS. Milkshakes
DESCRIPTION:League Name: Youth Soccer 2026 Kindergarten\nGame Type: Regular
 \nGame Status: Pending\nHome Team: Cupcakes\nAway Team: Milkshakes\n
END:VEVENT
END:VCALENDAR
