BEGIN:VCALENDAR
VERSION:2.0
PRODID:-//EZFacility.com, Inc.//EZL 2.5.5.28621
BEGIN:VEVENT
UID:16948945@ezleagues.ezfacility.com
DTSTAMP:20260426T033511Z
CREATED:20260426T033511Z
DTSTART:20260104T060000Z
DTEND:20260104T063000Z
LOCATION:Game Field
CONTACT:Le
SUMMARY:	RM Mustangs VS. EG Rebels
DESCRIPTION:League Name: 12 Under Boys A\nGame Type: Regular\nGame Status: 
 Complete\nHome Team: 	RM Mustangs\nAway Team: EG Rebels\nHome Score: 9\nAw
 ay Score: 0
END:VEVENT
END:VCALENDAR
