BEGIN:VCALENDAR
VERSION:2.0
PRODID:-//EZFacility.com, Inc.//EZL 2.5.5.28621
BEGIN:VEVENT
UID:16950281@ezleagues.ezfacility.com
DTSTAMP:20260426T033506Z
CREATED:20260426T033506Z
DTSTART:20260110T183500Z
DTEND:20260110T192500Z
LOCATION:Soccer Field
CONTACT:
SUMMARY:WSU U12 Boys White VS. PSG
DESCRIPTION:League Name: Spring 2026 U12 (2014 and 2015)\nGame Type: Regula
 r\nGame Status: Complete\nHome Team: WSU U12 Boys White\nAway Team: PSG\nH
 ome Score: 5\nAway Score: 4
END:VEVENT
BEGIN:VEVENT
UID:16964599@ezleagues.ezfacility.com
DTSTAMP:20260426T033506Z
CREATED:20260426T033506Z
DTSTART:20260117T180000Z
DTEND:20260117T185000Z
LOCATION:Soccer Field
CONTACT:
SUMMARY:Speedway Plugs VS. PSG
DESCRIPTION:League Name: Spring 2026 U12 (2014 and 2015)\nGame Type: Regula
 r\nGame Status: Complete\nHome Team: Speedway Plugs\nAway Team: PSG\nHome 
 Score: 4\nAway Score: 6
END:VEVENT
BEGIN:VEVENT
UID:16968486@ezleagues.ezfacility.com
DTSTAMP:20260426T033506Z
CREATED:20260426T033506Z
DTSTART:20260131T165500Z
DTEND:20260131T174500Z
LOCATION:Soccer Field
CONTACT:
SUMMARY:Speedway Grey VS. PSG
DESCRIPTION:League Name: Spring 2026 U12 (2014 and 2015)\nGame Type: Regula
 r\nGame Status: Complete\nHome Team: Speedway Grey\nAway Team: PSG\nHome S
 core: 2\nAway Score: 6
END:VEVENT
BEGIN:VEVENT
UID:16968498@ezleagues.ezfacility.com
DTSTAMP:20260426T033506Z
CREATED:20260426T033506Z
DTSTART:20260207T153000Z
DTEND:20260207T162000Z
LOCATION:Soccer Field
CONTACT:
SUMMARY:PSG VS. HEFC U12 Blue
DESCRIPTION:League Name: Spring 2026 U12 (2014 and 2015)\nGame Type: Regula
 r\nGame Status: Complete\nHome Team: PSG\nAway Team: HEFC U12 Blue\nHome S
 core: 6\nAway Score: 5
END:VEVENT
BEGIN:VEVENT
UID:16968516@ezleagues.ezfacility.com
DTSTAMP:20260426T033506Z
CREATED:20260426T033506Z
DTSTART:20260214T194500Z
DTEND:20260214T203500Z
LOCATION:Soccer Field
CONTACT:
SUMMARY:PSG VS. UAB
DESCRIPTION:League Name: Spring 2026 U12 (2014 and 2015)\nGame Type: Regula
 r\nGame Status: Complete\nHome Team: PSG\nAway Team: UAB\nHome Score: 3\nA
 way Score: 5
END:VEVENT
BEGIN:VEVENT
UID:16968528@ezleagues.ezfacility.com
DTSTAMP:20260426T033506Z
CREATED:20260426T033506Z
DTSTART:20260221T185000Z
DTEND:20260221T194000Z
LOCATION:Soccer Field
CONTACT:
SUMMARY:PSG VS. PSG II
DESCRIPTION:League Name: Spring 2026 U12 (2014 and 2015)\nGame Type: Regula
 r\nGame Status: Complete\nHome Team: PSG\nAway Team: PSG II\nHome Score: 6
 \nAway Score: 5
END:VEVENT
BEGIN:VEVENT
UID:16968584@ezleagues.ezfacility.com
DTSTAMP:20260426T033506Z
CREATED:20260426T033506Z
DTSTART:20260307T212000Z
DTEND:20260307T221000Z
LOCATION:Soccer Field
CONTACT:
SUMMARY:Revolution World Cup VS. PSG
DESCRIPTION:League Name: Spring 2026 U12 (2014 and 2015)\nGame Type: Regula
 r\nGame Status: Complete\nHome Team: Revolution World Cup\nAway Team: PSG\
 nHome Score: 9\nAway Score: 1
END:VEVENT
BEGIN:VEVENT
UID:16968478@ezleagues.ezfacility.com
DTSTAMP:20260426T033506Z
CREATED:20260426T033506Z
DTSTART:20260307T221000Z
DTEND:20260307T230000Z
LOCATION:Soccer Field
CONTACT:
SUMMARY:PSG VS. Los Warriors u12
DESCRIPTION:League Name: Spring 2026 U12 (2014 and 2015)\nGame Type: Regula
 r\nGame Status: Complete\nHome Team: PSG\nAway Team: Los Warriors u12\nHom
 e Score: 6\nAway Score: 0
END:VEVENT
END:VCALENDAR
