BEGIN:VCALENDAR
VERSION:2.0
PRODID:-//EZFacility.com, Inc.//EZL 2.5.5.28621
BEGIN:VEVENT
UID:16966197@ezleagues.ezfacility.com
DTSTAMP:20260424T044113Z
CREATED:20260424T044113Z
DTSTART:20260117T232000Z
DTEND:20260118T001500Z
LOCATION:Accelerate Inside 9v9
CONTACT:
SUMMARY:United Elite Krajisnik FC 14's VS. MVSC Storm
DESCRIPTION:League Name: Winter Session 2 - 2012/2013G - (9v9)\nGame Type: 
 Regular\nGame Status: Complete\nHome Team: United Elite Krajisnik FC 14's\
 nAway Team: MVSC Storm\nHome Score: 0\nAway Score: 3
END:VEVENT
BEGIN:VEVENT
UID:16966221@ezleagues.ezfacility.com
DTSTAMP:20260424T044113Z
CREATED:20260424T044113Z
DTSTART:20260118T011000Z
DTEND:20260118T020500Z
LOCATION:Accelerate Inside 9v9
CONTACT:
SUMMARY:United Elite Krajisnik FC 13's VS. United Elite Krajisnik FC 14's
DESCRIPTION:League Name: Winter Session 2 - 2012/2013G - (9v9)\nGame Type: 
 Regular\nGame Status: Complete\nHome Team: United Elite Krajisnik FC 13's\
 nAway Team: United Elite Krajisnik FC 14's\nHome Score: 3\nAway Score: 0
END:VEVENT
BEGIN:VEVENT
UID:16985070@ezleagues.ezfacility.com
DTSTAMP:20260424T044113Z
CREATED:20260424T044113Z
DTSTART:20260201T001000Z
DTEND:20260201T010500Z
LOCATION:Accelerate Inside 9v9
CONTACT:
SUMMARY:MVSC Storm VS. United Elite Krajisnik FC 14's
DESCRIPTION:League Name: Winter Session 2 - 2012/2013G - (9v9)\nGame Type: 
 Regular\nGame Status: Complete\nHome Team: MVSC Storm\nAway Team: United E
 lite Krajisnik FC 14's\nHome Score: 3\nAway Score: 1
END:VEVENT
BEGIN:VEVENT
UID:16985073@ezleagues.ezfacility.com
DTSTAMP:20260424T044113Z
CREATED:20260424T044113Z
DTSTART:20260201T020000Z
DTEND:20260201T025500Z
LOCATION:Accelerate Inside 9v9
CONTACT:
SUMMARY:United Elite Krajisnik FC 14's VS. United Elite KFC Venom
DESCRIPTION:League Name: Winter Session 2 - 2012/2013G - (9v9)\nGame Type: 
 Regular\nGame Status: Complete\nHome Team: United Elite Krajisnik FC 14's\
 nAway Team: United Elite KFC Venom\nHome Score: 6\nAway Score: 0
END:VEVENT
BEGIN:VEVENT
UID:16985106@ezleagues.ezfacility.com
DTSTAMP:20260424T044113Z
CREATED:20260424T044113Z
DTSTART:20260215T020000Z
DTEND:20260215T025500Z
LOCATION:Accelerate Inside 9v9
CONTACT:
SUMMARY:MVSC Inferno VS. United Elite Krajisnik FC 14's
DESCRIPTION:League Name: Winter Session 2 - 2012/2013G - (9v9)\nGame Type: 
 Regular\nGame Status: Complete\nHome Team: MVSC Inferno\nAway Team: United
  Elite Krajisnik FC 14's\nHome Score: 5\nAway Score: 0
END:VEVENT
BEGIN:VEVENT
UID:16985109@ezleagues.ezfacility.com
DTSTAMP:20260424T044113Z
CREATED:20260424T044113Z
DTSTART:20260301T014000Z
DTEND:20260301T023500Z
LOCATION:Accelerate Inside 9v9
CONTACT:
SUMMARY:United Elite Krajisnik FC 13's VS. United Elite Krajisnik FC 14's
DESCRIPTION:League Name: Winter Session 2 - 2012/2013G - (9v9)\nGame Type: 
 Regular\nGame Status: Pending\nHome Team: United Elite Krajisnik FC 13's\n
 Away Team: United Elite Krajisnik FC 14's\n
END:VEVENT
BEGIN:VEVENT
UID:16985110@ezleagues.ezfacility.com
DTSTAMP:20260424T044113Z
CREATED:20260424T044113Z
DTSTART:20260301T023500Z
DTEND:20260301T033000Z
LOCATION:Accelerate Inside 9v9
CONTACT:
SUMMARY:United Elite KFC Venom VS. United Elite Krajisnik FC 14's
DESCRIPTION:League Name: Winter Session 2 - 2012/2013G - (9v9)\nGame Type: 
 Regular\nGame Status: Pending\nHome Team: United Elite KFC Venom\nAway Tea
 m: United Elite Krajisnik FC 14's\n
END:VEVENT
BEGIN:VEVENT
UID:16985111@ezleagues.ezfacility.com
DTSTAMP:20260424T044113Z
CREATED:20260424T044113Z
DTSTART:20260315T141000Z
DTEND:20260315T150500Z
LOCATION:Accelerate Inside 9v9
CONTACT:
SUMMARY:MVSC Inferno VS. United Elite Krajisnik FC 14's
DESCRIPTION:League Name: Winter Session 2 - 2012/2013G - (9v9)\nGame Type: 
 Regular\nGame Status: Postponed\nHome Team: MVSC Inferno\nAway Team: Unite
 d Elite Krajisnik FC 14's\n
END:VEVENT
END:VCALENDAR
