BEGIN:VCALENDAR
VERSION:2.0
PRODID:-//EZFacility.com, Inc.//EZL 2.5.5.28621
BEGIN:VEVENT
UID:16950549@ezleagues.ezfacility.com
DTSTAMP:20260426T033538Z
CREATED:20260426T033538Z
DTSTART:20260110T150000Z
DTEND:20260110T160000Z
LOCATION:Large Field 2
CONTACT:
SUMMARY:Spartans (Black) VS. Coliseum 2016 White (Black)
DESCRIPTION:League Name: Elevate CNY Winter Soccer Session 2026 - U10 Girls
 \nGame Type: Regular\nGame Status: Complete\nHome Team: Spartans (Black)\n
 Away Team: Coliseum 2016 White (Black)\nHome Score: 0\nAway Score: 4
END:VEVENT
BEGIN:VEVENT
UID:16950555@ezleagues.ezfacility.com
DTSTAMP:20260426T033538Z
CREATED:20260426T033538Z
DTSTART:20260117T140000Z
DTEND:20260117T150000Z
LOCATION:Large Field 2
CONTACT:
SUMMARY:United Elite Krajisnik FC (Gold) VS. Spartans (Black)
DESCRIPTION:League Name: Elevate CNY Winter Soccer Session 2026 - U10 Girls
 \nGame Type: Regular\nGame Status: Complete\nHome Team: United Elite Kraji
 snik FC (Gold)\nAway Team: Spartans (Black)\nHome Score: 9\nAway Score: 0
END:VEVENT
BEGIN:VEVENT
UID:16950559@ezleagues.ezfacility.com
DTSTAMP:20260426T033538Z
CREATED:20260426T033538Z
DTSTART:20260124T150000Z
DTEND:20260124T160000Z
LOCATION:Large Field 2
CONTACT:
SUMMARY:Waterville FC (Black) VS. Spartans (Black)
DESCRIPTION:League Name: Elevate CNY Winter Soccer Session 2026 - U10 Girls
 \nGame Type: Regular\nGame Status: Complete\nHome Team: Waterville FC (Bla
 ck)\nAway Team: Spartans (Black)\nHome Score: 2\nAway Score: 5
END:VEVENT
BEGIN:VEVENT
UID:16950564@ezleagues.ezfacility.com
DTSTAMP:20260426T033538Z
CREATED:20260426T033538Z
DTSTART:20260131T160000Z
DTEND:20260131T170000Z
LOCATION:Large Field 2
CONTACT:
SUMMARY:Spartans (Black) VS. Coliseum 2016 White (Black)
DESCRIPTION:League Name: Elevate CNY Winter Soccer Session 2026 - U10 Girls
 \nGame Type: Regular\nGame Status: Complete\nHome Team: Spartans (Black)\n
 Away Team: Coliseum 2016 White (Black)\nHome Score: 3\nAway Score: 2
END:VEVENT
BEGIN:VEVENT
UID:16950579@ezleagues.ezfacility.com
DTSTAMP:20260426T033538Z
CREATED:20260426T033538Z
DTSTART:20260207T160000Z
DTEND:20260207T170000Z
LOCATION:Large Field 2
CONTACT:
SUMMARY:Manta Rays (Black) VS. Spartans (Black)
DESCRIPTION:League Name: Elevate CNY Winter Soccer Session 2026 - U10 Girls
 \nGame Type: Regular\nGame Status: Complete\nHome Team: Manta Rays (Black)
 \nAway Team: Spartans (Black)\nHome Score: 1\nAway Score: 1
END:VEVENT
BEGIN:VEVENT
UID:16950582@ezleagues.ezfacility.com
DTSTAMP:20260426T033538Z
CREATED:20260426T033538Z
DTSTART:20260214T150000Z
DTEND:20260214T160000Z
LOCATION:Large Field 2
CONTACT:
SUMMARY:Spartans (Black) VS. MVSC Reign (Black)
DESCRIPTION:League Name: Elevate CNY Winter Soccer Session 2026 - U10 Girls
 \nGame Type: Regular\nGame Status: Complete\nHome Team: Spartans (Black)\n
 Away Team: MVSC Reign (Black)\nHome Score: 5\nAway Score: 1
END:VEVENT
BEGIN:VEVENT
UID:16950585@ezleagues.ezfacility.com
DTSTAMP:20260426T033538Z
CREATED:20260426T033538Z
DTSTART:20260221T140000Z
DTEND:20260221T150000Z
LOCATION:Large Field 2
CONTACT:
SUMMARY:Coliseum 2016 Gold (Gold) VS. Spartans (Black)
DESCRIPTION:League Name: Elevate CNY Winter Soccer Session 2026 - U10 Girls
 \nGame Type: Regular\nGame Status: Complete\nHome Team: Coliseum 2016 Gold
  (Gold)\nAway Team: Spartans (Black)\nHome Score: 13\nAway Score: 0
END:VEVENT
BEGIN:VEVENT
UID:16950591@ezleagues.ezfacility.com
DTSTAMP:20260426T033538Z
CREATED:20260426T033538Z
DTSTART:20260228T150000Z
DTEND:20260228T160000Z
LOCATION:Large Field 2
CONTACT:
SUMMARY:Spartans (Black) VS. Waterville FC (Black)
DESCRIPTION:League Name: Elevate CNY Winter Soccer Session 2026 - U10 Girls
 \nGame Type: Regular\nGame Status: Complete\nHome Team: Spartans (Black)\n
 Away Team: Waterville FC (Black)\nHome Score: 3\nAway Score: 1
END:VEVENT
BEGIN:VEVENT
UID:16950596@ezleagues.ezfacility.com
DTSTAMP:20260426T033538Z
CREATED:20260426T033538Z
DTSTART:20260314T150000Z
DTEND:20260314T160000Z
LOCATION:Large Field 2
CONTACT:
SUMMARY:Spartans (Black) VS. Coliseum 2016 White (Black)
DESCRIPTION:League Name: Elevate CNY Winter Soccer Session 2026 - U10 Girls
 \nGame Type: Regular\nGame Status: Complete\nHome Team: Spartans (Black)\n
 Away Team: Coliseum 2016 White (Black)\nHome Score: 3\nAway Score: 1
END:VEVENT
BEGIN:VEVENT
UID:16950600@ezleagues.ezfacility.com
DTSTAMP:20260426T033538Z
CREATED:20260426T033538Z
DTSTART:20260321T150000Z
DTEND:20260321T160000Z
LOCATION:Large Field 2
CONTACT:
SUMMARY:Manta Rays (Black) VS. Spartans (Black)
DESCRIPTION:League Name: Elevate CNY Winter Soccer Session 2026 - U10 Girls
 \nGame Type: Regular\nGame Status: Complete\nHome Team: Manta Rays (Black)
 \nAway Team: Spartans (Black)\nHome Score: 3\nAway Score: 4
END:VEVENT
END:VCALENDAR
