BEGIN:VCALENDAR
VERSION:2.0
PRODID:-//EZFacility.com, Inc.//EZL 2.5.5.28621
BEGIN:VEVENT
UID:16951491@ezleagues.ezfacility.com
DTSTAMP:20260426T033422Z
CREATED:20260426T033422Z
DTSTART:20260109T030000Z
DTEND:20260109T040000Z
LOCATION:East Field
CONTACT:Adan
SUMMARY:Arse-N-All VS. Guardians of the Goalaxy
DESCRIPTION:League Name: Winter I 2025 Thursday COED Championship Division\
 nGame Type: Regular\nGame Status: Complete\nHome Team: Arse-N-All\nAway Te
 am: Guardians of the Goalaxy\nHome Score: 3\nAway Score: 7
END:VEVENT
BEGIN:VEVENT
UID:16951507@ezleagues.ezfacility.com
DTSTAMP:20260426T033422Z
CREATED:20260426T033422Z
DTSTART:20260123T023000Z
DTEND:20260123T033000Z
LOCATION:East Field
CONTACT:Fitzgerald
SUMMARY:Arse-N-All VS. Sons of Pitches
DESCRIPTION:League Name: Winter I 2025 Thursday COED Championship Division\
 nGame Type: Regular\nGame Status: Complete\nHome Team: Arse-N-All\nAway Te
 am: Sons of Pitches\nHome Score: 4\nAway Score: 5
END:VEVENT
BEGIN:VEVENT
UID:16951514@ezleagues.ezfacility.com
DTSTAMP:20260426T033422Z
CREATED:20260426T033422Z
DTSTART:20260130T013000Z
DTEND:20260130T023000Z
LOCATION:East Field
CONTACT:Fitzgerald
SUMMARY:The Outsiders VS. Arse-N-All
DESCRIPTION:League Name: Winter I 2025 Thursday COED Championship Division\
 nGame Type: Regular\nGame Status: Complete\nHome Team: The Outsiders\nAway
  Team: Arse-N-All\nHome Score: 5\nAway Score: 3
END:VEVENT
BEGIN:VEVENT
UID:16951527@ezleagues.ezfacility.com
DTSTAMP:20260426T033422Z
CREATED:20260426T033422Z
DTSTART:20260206T013000Z
DTEND:20260206T023000Z
LOCATION:East Field
CONTACT:
SUMMARY:Bing Bong FC VS. Arse-N-All
DESCRIPTION:League Name: Winter I 2025 Thursday COED Championship Division\
 nGame Type: Regular\nGame Status: Complete\nHome Team: Bing Bong FC\nAway 
 Team: Arse-N-All\nHome Score: 8\nAway Score: 7
END:VEVENT
END:VCALENDAR
