BEGIN:VCALENDAR
VERSION:2.0
PRODID:-//EZFacility.com, Inc.//EZL 2.5.5.28621
BEGIN:VEVENT
UID:16952255@ezleagues.ezfacility.com
DTSTAMP:20260426T033517Z
CREATED:20260426T033517Z
DTSTART:20260117T222000Z
DTEND:20260117T231500Z
LOCATION:Field 2
CONTACT:
SUMMARY:Estrikas (pink/blue) VS. Sounders Black B (blue/green)
DESCRIPTION:League Name: Boys U12 BRONZE- Winter 2\nGame Type: Regular\nGam
 e Status: Complete\nHome Team: Estrikas (pink/blue)\nAway Team: Sounders B
 lack B (blue/green)\nHome Score: 7\nAway Score: 3
END:VEVENT
BEGIN:VEVENT
UID:16952271@ezleagues.ezfacility.com
DTSTAMP:20260426T033517Z
CREATED:20260426T033517Z
DTSTART:20260131T203000Z
DTEND:20260131T212500Z
LOCATION:Field 2
CONTACT:
SUMMARY:Sounders Black B (blue/green) VS. WSA 15B Zepeda (wh/navy)
DESCRIPTION:League Name: Boys U12 BRONZE- Winter 2\nGame Type: Regular\nGam
 e Status: Complete\nHome Team: Sounders Black B (blue/green)\nAway Team: W
 SA 15B Zepeda (wh/navy)\nHome Score: 9\nAway Score: 5
END:VEVENT
BEGIN:VEVENT
UID:16952279@ezleagues.ezfacility.com
DTSTAMP:20260426T033517Z
CREATED:20260426T033517Z
DTSTART:20260207T131000Z
DTEND:20260207T140500Z
LOCATION:Field 2
CONTACT:
SUMMARY:Sounders Black B (blue/green) VS. Titans (black)
DESCRIPTION:League Name: Boys U12 BRONZE- Winter 2\nGame Type: Regular\nGam
 e Status: Complete\nHome Team: Sounders Black B (blue/green)\nAway Team: T
 itans (black)\nHome Score: 11\nAway Score: 3
END:VEVENT
BEGIN:VEVENT
UID:16952295@ezleagues.ezfacility.com
DTSTAMP:20260426T033517Z
CREATED:20260426T033517Z
DTSTART:20260222T185000Z
DTEND:20260222T194500Z
LOCATION:Field 2
CONTACT:
SUMMARY:Cyclones (black/white) VS. Sounders Black B (blue/green)
DESCRIPTION:League Name: Boys U12 BRONZE- Winter 2\nGame Type: Regular\nGam
 e Status: Complete\nHome Team: Cyclones (black/white)\nAway Team: Sounders
  Black B (blue/green)\nHome Score: 5\nAway Score: 11
END:VEVENT
BEGIN:VEVENT
UID:16952303@ezleagues.ezfacility.com
DTSTAMP:20260426T033517Z
CREATED:20260426T033517Z
DTSTART:20260301T194500Z
DTEND:20260301T204000Z
LOCATION:Field 2
CONTACT:
SUMMARY:Little Pandas (maroon) VS. Sounders Black B (blue/green)
DESCRIPTION:League Name: Boys U12 BRONZE- Winter 2\nGame Type: Regular\nGam
 e Status: Complete\nHome Team: Little Pandas (maroon)\nAway Team: Sounders
  Black B (blue/green)\nHome Score: 2\nAway Score: 3
END:VEVENT
BEGIN:VEVENT
UID:16952246@ezleagues.ezfacility.com
DTSTAMP:20260426T033517Z
CREATED:20260426T033517Z
DTSTART:20260307T184000Z
DTEND:20260307T193500Z
LOCATION:Field 2
CONTACT:
SUMMARY:Oklahoma FC (orange) VS. Sounders Black B (blue/green)
DESCRIPTION:League Name: Boys U12 BRONZE- Winter 2\nGame Type: Regular\nGam
 e Status: Complete\nHome Team: Oklahoma FC (orange)\nAway Team: Sounders B
 lack B (blue/green)\nHome Score: 1\nAway Score: 6
END:VEVENT
BEGIN:VEVENT
UID:17003960@ezleagues.ezfacility.com
DTSTAMP:20260426T033517Z
CREATED:20260426T033517Z
DTSTART:20260310T223000Z
DTEND:20260310T232500Z
LOCATION:Field 1
CONTACT:
SUMMARY:Sounders Black B (blue/green) VS. OEFC 14B Emerald
DESCRIPTION:League Name: Boys U12 BRONZE- Winter 2\nGame Type: Regular\nGam
 e Status: Complete\nHome Team: Sounders Black B (blue/green)\nAway Team: O
 EFC 14B Emerald\nHome Score: 2\nAway Score: 7
END:VEVENT
BEGIN:VEVENT
UID:16990230@ezleagues.ezfacility.com
DTSTAMP:20260426T033517Z
CREATED:20260426T033517Z
DTSTART:20260322T194000Z
DTEND:20260322T203500Z
LOCATION:Field 3
CONTACT:
SUMMARY:Lava Lions (black/red) VS. Sounders Black B (blue/green)
DESCRIPTION:League Name: Boys U12 BRONZE- Winter 2\nGame Type: Regular\nGam
 e Status: Complete\nHome Team: Lava Lions (black/red)\nAway Team: Sounders
  Black B (blue/green)\nHome Score: 4\nAway Score: 3
END:VEVENT
END:VCALENDAR
