BEGIN:VCALENDAR
VERSION:2.0
PRODID:-//EZFacility.com, Inc.//EZL 2.5.5.28621
BEGIN:VEVENT
UID:16952687@ezleagues.ezfacility.com
DTSTAMP:20260426T033359Z
CREATED:20260426T033359Z
DTSTART:20260111T170000Z
DTEND:20260111T180000Z
LOCATION:Old Washington High School
CONTACT:
SUMMARY:Roberts Sporting SC Bears VS. Roberts Sporting SC Lions
DESCRIPTION:League Name: The Eastern Shore's Ultimate Futsal League Session
  II 2026-U5 Division (Team)\nGame Type: Regular\nGame Status: Complete\nHo
 me Team: Roberts Sporting SC Bears\nAway Team: Roberts Sporting SC Lions\n
 Home Score: 0\nAway Score: 0
END:VEVENT
BEGIN:VEVENT
UID:16964525@ezleagues.ezfacility.com
DTSTAMP:20260426T033359Z
CREATED:20260426T033359Z
DTSTART:20260118T170000Z
DTEND:20260118T180000Z
LOCATION:Old Washington High School
CONTACT:
SUMMARY:Roberts Sporting SC Lions VS. Roberts Sporting SC Bears
DESCRIPTION:League Name: The Eastern Shore's Ultimate Futsal League Session
  II 2026-U5 Division (Team)\nGame Type: Regular\nGame Status: Complete\nHo
 me Team: Roberts Sporting SC Lions\nAway Team: Roberts Sporting SC Bears\n
 Home Score: 0\nAway Score: 0
END:VEVENT
BEGIN:VEVENT
UID:16964526@ezleagues.ezfacility.com
DTSTAMP:20260426T033359Z
CREATED:20260426T033359Z
DTSTART:20260201T170000Z
DTEND:20260201T180000Z
LOCATION:Old Washington High School
CONTACT:
SUMMARY:Roberts Sporting SC Bears VS. Roberts Sporting SC Lions
DESCRIPTION:League Name: The Eastern Shore's Ultimate Futsal League Session
  II 2026-U5 Division (Team)\nGame Type: Regular\nGame Status: Complete\nHo
 me Team: Roberts Sporting SC Bears\nAway Team: Roberts Sporting SC Lions\n
 Home Score: 0\nAway Score: 0
END:VEVENT
BEGIN:VEVENT
UID:16964527@ezleagues.ezfacility.com
DTSTAMP:20260426T033359Z
CREATED:20260426T033359Z
DTSTART:20260208T170000Z
DTEND:20260208T180000Z
LOCATION:Old Washington High School
CONTACT:
SUMMARY:Roberts Sporting SC Lions VS. Roberts Sporting SC Bears
DESCRIPTION:League Name: The Eastern Shore's Ultimate Futsal League Session
  II 2026-U5 Division (Team)\nGame Type: Regular\nGame Status: Complete\nHo
 me Team: Roberts Sporting SC Lions\nAway Team: Roberts Sporting SC Bears\n
 Home Score: 0\nAway Score: 0
END:VEVENT
BEGIN:VEVENT
UID:16964528@ezleagues.ezfacility.com
DTSTAMP:20260426T033359Z
CREATED:20260426T033359Z
DTSTART:20260215T170000Z
DTEND:20260215T180000Z
LOCATION:Old Washington High School
CONTACT:
SUMMARY:Roberts Sporting SC Bears VS. Roberts Sporting SC Lions
DESCRIPTION:League Name: The Eastern Shore's Ultimate Futsal League Session
  II 2026-U5 Division (Team)\nGame Type: Regular\nGame Status: Complete\nHo
 me Team: Roberts Sporting SC Bears\nAway Team: Roberts Sporting SC Lions\n
 Home Score: 0\nAway Score: 0
END:VEVENT
BEGIN:VEVENT
UID:16964529@ezleagues.ezfacility.com
DTSTAMP:20260426T033359Z
CREATED:20260426T033359Z
DTSTART:20260301T170000Z
DTEND:20260301T180000Z
LOCATION:Old Washington High School
CONTACT:
SUMMARY:Roberts Sporting SC Lions VS. Roberts Sporting SC Bears
DESCRIPTION:League Name: The Eastern Shore's Ultimate Futsal League Session
  II 2026-U5 Division (Team)\nGame Type: Regular\nGame Status: Complete\nHo
 me Team: Roberts Sporting SC Lions\nAway Team: Roberts Sporting SC Bears\n
 Home Score: 0\nAway Score: 0
END:VEVENT
END:VCALENDAR
