BEGIN:VCALENDAR
VERSION:2.0
PRODID:-//EZFacility.com, Inc.//EZL 2.5.5.28621
BEGIN:VEVENT
UID:16952850@ezleagues.ezfacility.com
DTSTAMP:20260426T033520Z
CREATED:20260426T033520Z
DTSTART:20260111T192000Z
DTEND:20260111T201000Z
LOCATION:Soccer Field
CONTACT:
SUMMARY:Team Camo VS. Fighting Falcons
DESCRIPTION:League Name: Spring 2026 U14 (2012 and 2013)\nGame Type: Regula
 r\nGame Status: Complete\nHome Team: Team Camo\nAway Team: Fighting Falcon
 s\nHome Score: 10\nAway Score: 2
END:VEVENT
BEGIN:VEVENT
UID:16965180@ezleagues.ezfacility.com
DTSTAMP:20260426T033520Z
CREATED:20260426T033520Z
DTSTART:20260118T192000Z
DTEND:20260118T201000Z
LOCATION:Soccer Field
CONTACT:
SUMMARY:HEFC U14 Gold VS. Team Camo
DESCRIPTION:League Name: Spring 2026 U14 (2012 and 2013)\nGame Type: Regula
 r\nGame Status: Complete\nHome Team: HEFC U14 Gold\nAway Team: Team Camo\n
 Home Score: 0\nAway Score: 11
END:VEVENT
BEGIN:VEVENT
UID:16973679@ezleagues.ezfacility.com
DTSTAMP:20260426T033520Z
CREATED:20260426T033520Z
DTSTART:20260201T210000Z
DTEND:20260201T215000Z
LOCATION:Soccer Field
CONTACT:
SUMMARY:Los Warriors u14 VS. Team Camo
DESCRIPTION:League Name: Spring 2026 U14 (2012 and 2013)\nGame Type: Regula
 r\nGame Status: Complete\nHome Team: Los Warriors u14\nAway Team: Team Cam
 o\nHome Score: 5\nAway Score: 5
END:VEVENT
BEGIN:VEVENT
UID:16973689@ezleagues.ezfacility.com
DTSTAMP:20260426T033520Z
CREATED:20260426T033520Z
DTSTART:20260208T192000Z
DTEND:20260208T201000Z
LOCATION:Soccer Field
CONTACT:
SUMMARY:Hammers VS. Team Camo
DESCRIPTION:League Name: Spring 2026 U14 (2012 and 2013)\nGame Type: Regula
 r\nGame Status: Complete\nHome Team: Hammers\nAway Team: Team Camo\nHome S
 core: 1\nAway Score: 9
END:VEVENT
BEGIN:VEVENT
UID:16974048@ezleagues.ezfacility.com
DTSTAMP:20260426T033520Z
CREATED:20260426T033520Z
DTSTART:20260222T160000Z
DTEND:20260222T165000Z
LOCATION:Soccer Field
CONTACT:
SUMMARY:Sporting Indianapolis Fc VS. Team Camo
DESCRIPTION:League Name: Spring 2026 U14 (2012 and 2013)\nGame Type: Regula
 r\nGame Status: Complete\nHome Team: Sporting Indianapolis Fc\nAway Team: 
 Team Camo\nHome Score: 1\nAway Score: 3
END:VEVENT
BEGIN:VEVENT
UID:16973705@ezleagues.ezfacility.com
DTSTAMP:20260426T033520Z
CREATED:20260426T033520Z
DTSTART:20260222T183000Z
DTEND:20260222T192000Z
LOCATION:Soccer Field
CONTACT:
SUMMARY:Team Camo VS. WSU Nutmeg Ninjas
DESCRIPTION:League Name: Spring 2026 U14 (2012 and 2013)\nGame Type: Regula
 r\nGame Status: Complete\nHome Team: Team Camo\nAway Team: WSU Nutmeg Ninj
 as\nHome Score: 8\nAway Score: 1
END:VEVENT
BEGIN:VEVENT
UID:16973726@ezleagues.ezfacility.com
DTSTAMP:20260426T033520Z
CREATED:20260426T033520Z
DTSTART:20260301T174000Z
DTEND:20260301T183000Z
LOCATION:Soccer Field
CONTACT:
SUMMARY:Team Camo VS. Team camo Orange
DESCRIPTION:League Name: Spring 2026 U14 (2012 and 2013)\nGame Type: Regula
 r\nGame Status: Complete\nHome Team: Team Camo\nAway Team: Team camo Orang
 e\nHome Score: 6\nAway Score: 0
END:VEVENT
BEGIN:VEVENT
UID:16971375@ezleagues.ezfacility.com
DTSTAMP:20260426T033520Z
CREATED:20260426T033520Z
DTSTART:20260329T192000Z
DTEND:20260329T201000Z
LOCATION:Soccer Field
CONTACT:
SUMMARY:Team Camo VS. Bandits FC 2012
DESCRIPTION:League Name: Spring 2026 U14 (2012 and 2013)\nGame Type: Regula
 r\nGame Status: Complete\nHome Team: Team Camo\nAway Team: Bandits FC 2012
 \nHome Score: 6\nAway Score: 0
END:VEVENT
END:VCALENDAR
