BEGIN:VCALENDAR
VERSION:2.0
PRODID:-//EZFacility.com, Inc.//EZL 2.5.5.28621
BEGIN:VEVENT
UID:16952849@ezleagues.ezfacility.com
DTSTAMP:20260426T033515Z
CREATED:20260426T033515Z
DTSTART:20260111T183000Z
DTEND:20260111T192000Z
LOCATION:Soccer Field
CONTACT:
SUMMARY:Team camo Orange VS. Westside Soccer Slayers
DESCRIPTION:League Name: Spring 2026 U14 (2012 and 2013)\nGame Type: Regula
 r\nGame Status: Complete\nHome Team: Team camo Orange\nAway Team: Westside
  Soccer Slayers\nHome Score: 5\nAway Score: 3
END:VEVENT
BEGIN:VEVENT
UID:16965179@ezleagues.ezfacility.com
DTSTAMP:20260426T033515Z
CREATED:20260426T033515Z
DTSTART:20260118T183000Z
DTEND:20260118T192000Z
LOCATION:Soccer Field
CONTACT:
SUMMARY:WSU Nutmeg Ninjas VS. Team camo Orange
DESCRIPTION:League Name: Spring 2026 U14 (2012 and 2013)\nGame Type: Regula
 r\nGame Status: Complete\nHome Team: WSU Nutmeg Ninjas\nAway Team: Team ca
 mo Orange\nHome Score: 2\nAway Score: 5
END:VEVENT
BEGIN:VEVENT
UID:16973676@ezleagues.ezfacility.com
DTSTAMP:20260426T033515Z
CREATED:20260426T033515Z
DTSTART:20260201T201000Z
DTEND:20260201T210000Z
LOCATION:Soccer Field
CONTACT:
SUMMARY:Bandits FC 2012 VS. Team camo Orange
DESCRIPTION:League Name: Spring 2026 U14 (2012 and 2013)\nGame Type: Regula
 r\nGame Status: Complete\nHome Team: Bandits FC 2012\nAway Team: Team camo
  Orange\nHome Score: 6\nAway Score: 9
END:VEVENT
BEGIN:VEVENT
UID:16973691@ezleagues.ezfacility.com
DTSTAMP:20260426T033515Z
CREATED:20260426T033515Z
DTSTART:20260208T210000Z
DTEND:20260208T215000Z
LOCATION:Soccer Field
CONTACT:
SUMMARY:Team camo Orange VS. Sporting Indianapolis Fc
DESCRIPTION:League Name: Spring 2026 U14 (2012 and 2013)\nGame Type: Regula
 r\nGame Status: Complete\nHome Team: Team camo Orange\nAway Team: Sporting
  Indianapolis Fc\nHome Score: 5\nAway Score: 5
END:VEVENT
BEGIN:VEVENT
UID:16973764@ezleagues.ezfacility.com
DTSTAMP:20260426T033515Z
CREATED:20260426T033515Z
DTSTART:20260222T165000Z
DTEND:20260222T174000Z
LOCATION:Soccer Field
CONTACT:
SUMMARY:Team camo Orange VS. Sporting Indianapolis Fc
DESCRIPTION:League Name: Spring 2026 U14 (2012 and 2013)\nGame Type: Regula
 r\nGame Status: Complete\nHome Team: Team camo Orange\nAway Team: Sporting
  Indianapolis Fc\nHome Score: 1\nAway Score: 6
END:VEVENT
BEGIN:VEVENT
UID:16973707@ezleagues.ezfacility.com
DTSTAMP:20260426T033515Z
CREATED:20260426T033515Z
DTSTART:20260222T192000Z
DTEND:20260222T201000Z
LOCATION:Soccer Field
CONTACT:
SUMMARY:Team camo Orange VS. Hammers
DESCRIPTION:League Name: Spring 2026 U14 (2012 and 2013)\nGame Type: Regula
 r\nGame Status: Complete\nHome Team: Team camo Orange\nAway Team: Hammers\
 nHome Score: 8\nAway Score: 1
END:VEVENT
BEGIN:VEVENT
UID:16973726@ezleagues.ezfacility.com
DTSTAMP:20260426T033515Z
CREATED:20260426T033515Z
DTSTART:20260301T174000Z
DTEND:20260301T183000Z
LOCATION:Soccer Field
CONTACT:
SUMMARY:Team Camo VS. Team camo Orange
DESCRIPTION:League Name: Spring 2026 U14 (2012 and 2013)\nGame Type: Regula
 r\nGame Status: Complete\nHome Team: Team Camo\nAway Team: Team camo Orang
 e\nHome Score: 6\nAway Score: 0
END:VEVENT
BEGIN:VEVENT
UID:16971374@ezleagues.ezfacility.com
DTSTAMP:20260426T033515Z
CREATED:20260426T033515Z
DTSTART:20260329T201000Z
DTEND:20260329T210000Z
LOCATION:Soccer Field
CONTACT:
SUMMARY:Los Warriors u14 VS. Team camo Orange
DESCRIPTION:League Name: Spring 2026 U14 (2012 and 2013)\nGame Type: Regula
 r\nGame Status: Complete\nHome Team: Los Warriors u14\nAway Team: Team cam
 o Orange\nHome Score: 2\nAway Score: 6
END:VEVENT
END:VCALENDAR
