BEGIN:VCALENDAR
VERSION:2.0
PRODID:-//EZFacility.com, Inc.//EZL 2.5.5.28621
BEGIN:VEVENT
UID:16984641@ezleagues.ezfacility.com
DTSTAMP:20260424T041336Z
CREATED:20260424T041336Z
DTSTART:20260207T210000Z
DTEND:20260207T215000Z
LOCATION:Field 1
CONTACT:
SUMMARY:FC Familia Jrs VS. Elite 2019b
DESCRIPTION:League Name: Under 8 Boys REC W-26 (2018 oldest player)\nGame T
 ype: Regular\nGame Status: Cancelled\nHome Team: FC Familia Jrs\nAway Team
 : Elite 2019b\n
END:VEVENT
BEGIN:VEVENT
UID:16984645@ezleagues.ezfacility.com
DTSTAMP:20260424T041336Z
CREATED:20260424T041336Z
DTSTART:20260214T183000Z
DTEND:20260214T192000Z
LOCATION:Field 1
CONTACT:
SUMMARY:NorCal FC VS. Elite 2019b
DESCRIPTION:League Name: Under 8 Boys REC W-26 (2018 oldest player)\nGame T
 ype: Regular\nGame Status: Pending\nHome Team: NorCal FC\nAway Team: Elite
  2019b\n
END:VEVENT
BEGIN:VEVENT
UID:16984648@ezleagues.ezfacility.com
DTSTAMP:20260424T041336Z
CREATED:20260424T041336Z
DTSTART:20260221T211500Z
DTEND:20260221T220500Z
LOCATION:Field 2
CONTACT:
SUMMARY:Elite 2019b VS. Pachuca
DESCRIPTION:League Name: Under 8 Boys REC W-26 (2018 oldest player)\nGame T
 ype: Regular\nGame Status: Pending\nHome Team: Elite 2019b\nAway Team: Pac
 huca\n
END:VEVENT
BEGIN:VEVENT
UID:16984650@ezleagues.ezfacility.com
DTSTAMP:20260424T041336Z
CREATED:20260424T041336Z
DTSTART:20260228T183000Z
DTEND:20260228T192000Z
LOCATION:Field 1
CONTACT:
SUMMARY:United Jrs VS. Elite 2019b
DESCRIPTION:League Name: Under 8 Boys REC W-26 (2018 oldest player)\nGame T
 ype: Regular\nGame Status: Pending\nHome Team: United Jrs\nAway Team: Elit
 e 2019b\n
END:VEVENT
BEGIN:VEVENT
UID:16984652@ezleagues.ezfacility.com
DTSTAMP:20260424T041336Z
CREATED:20260424T041336Z
DTSTART:20260307T192000Z
DTEND:20260307T201000Z
LOCATION:Field 1
CONTACT:
SUMMARY:Elite 2019b VS. Los Tigritos
DESCRIPTION:League Name: Under 8 Boys REC W-26 (2018 oldest player)\nGame T
 ype: Regular\nGame Status: Pending\nHome Team: Elite 2019b\nAway Team: Los
  Tigritos\n
END:VEVENT
BEGIN:VEVENT
UID:16984656@ezleagues.ezfacility.com
DTSTAMP:20260424T041336Z
CREATED:20260424T041336Z
DTSTART:20260314T182000Z
DTEND:20260314T191000Z
LOCATION:Field 1
CONTACT:
SUMMARY:Elite 2019b VS. FC Familia Jrs
DESCRIPTION:League Name: Under 8 Boys REC W-26 (2018 oldest player)\nGame T
 ype: Regular\nGame Status: Pending\nHome Team: Elite 2019b\nAway Team: FC 
 Familia Jrs\n
END:VEVENT
BEGIN:VEVENT
UID:16984660@ezleagues.ezfacility.com
DTSTAMP:20260424T041336Z
CREATED:20260424T041336Z
DTSTART:20260321T201500Z
DTEND:20260321T210500Z
LOCATION:Field 2
CONTACT:
SUMMARY:Elite 2019b VS. NorCal FC
DESCRIPTION:League Name: Under 8 Boys REC W-26 (2018 oldest player)\nGame T
 ype: Regular\nGame Status: Pending\nHome Team: Elite 2019b\nAway Team: Nor
 Cal FC\n
END:VEVENT
BEGIN:VEVENT
UID:16984663@ezleagues.ezfacility.com
DTSTAMP:20260424T041336Z
CREATED:20260424T041336Z
DTSTART:20260328T201500Z
DTEND:20260328T210500Z
LOCATION:Field 2
CONTACT:
SUMMARY:Pachuca VS. Elite 2019b
DESCRIPTION:League Name: Under 8 Boys REC W-26 (2018 oldest player)\nGame T
 ype: Regular\nGame Status: Pending\nHome Team: Pachuca\nAway Team: Elite 2
 019b\n
END:VEVENT
END:VCALENDAR
