BEGIN:VCALENDAR
VERSION:2.0
PRODID:-//EZFacility.com, Inc.//EZL 2.5.5.28621
BEGIN:VEVENT
UID:16984641@ezleagues.ezfacility.com
DTSTAMP:20260424T041352Z
CREATED:20260424T041352Z
DTSTART:20260207T210000Z
DTEND:20260207T215000Z
LOCATION:Field 1
CONTACT:
SUMMARY:FC Familia Jrs VS. Elite 2019b
DESCRIPTION:League Name: Under 8 Boys REC W-26 (2018 oldest player)\nGame T
 ype: Regular\nGame Status: Cancelled\nHome Team: FC Familia Jrs\nAway Team
 : Elite 2019b\n
END:VEVENT
BEGIN:VEVENT
UID:16984643@ezleagues.ezfacility.com
DTSTAMP:20260424T041352Z
CREATED:20260424T041352Z
DTSTART:20260214T211500Z
DTEND:20260214T220500Z
LOCATION:Field 2
CONTACT:
SUMMARY:Los Tigritos VS. FC Familia Jrs
DESCRIPTION:League Name: Under 8 Boys REC W-26 (2018 oldest player)\nGame T
 ype: Regular\nGame Status: Pending\nHome Team: Los Tigritos\nAway Team: FC
  Familia Jrs\n
END:VEVENT
BEGIN:VEVENT
UID:16984647@ezleagues.ezfacility.com
DTSTAMP:20260424T041352Z
CREATED:20260424T041352Z
DTSTART:20260221T192000Z
DTEND:20260221T201000Z
LOCATION:Field 1
CONTACT:
SUMMARY:NorCal FC VS. FC Familia Jrs
DESCRIPTION:League Name: Under 8 Boys REC W-26 (2018 oldest player)\nGame T
 ype: Regular\nGame Status: Pending\nHome Team: NorCal FC\nAway Team: FC Fa
 milia Jrs\n
END:VEVENT
BEGIN:VEVENT
UID:16984651@ezleagues.ezfacility.com
DTSTAMP:20260424T041352Z
CREATED:20260424T041352Z
DTSTART:20260228T211500Z
DTEND:20260228T220500Z
LOCATION:Field 2
CONTACT:
SUMMARY:FC Familia Jrs VS. Pachuca
DESCRIPTION:League Name: Under 8 Boys REC W-26 (2018 oldest player)\nGame T
 ype: Regular\nGame Status: Pending\nHome Team: FC Familia Jrs\nAway Team: 
 Pachuca\n
END:VEVENT
BEGIN:VEVENT
UID:16984654@ezleagues.ezfacility.com
DTSTAMP:20260424T041352Z
CREATED:20260424T041352Z
DTSTART:20260307T211500Z
DTEND:20260307T220500Z
LOCATION:Field 2
CONTACT:
SUMMARY:United Jrs VS. FC Familia Jrs
DESCRIPTION:League Name: Under 8 Boys REC W-26 (2018 oldest player)\nGame T
 ype: Regular\nGame Status: Pending\nHome Team: United Jrs\nAway Team: FC F
 amilia Jrs\n
END:VEVENT
BEGIN:VEVENT
UID:16984656@ezleagues.ezfacility.com
DTSTAMP:20260424T041352Z
CREATED:20260424T041352Z
DTSTART:20260314T182000Z
DTEND:20260314T191000Z
LOCATION:Field 1
CONTACT:
SUMMARY:Elite 2019b VS. FC Familia Jrs
DESCRIPTION:League Name: Under 8 Boys REC W-26 (2018 oldest player)\nGame T
 ype: Regular\nGame Status: Pending\nHome Team: Elite 2019b\nAway Team: FC 
 Familia Jrs\n
END:VEVENT
BEGIN:VEVENT
UID:16984658@ezleagues.ezfacility.com
DTSTAMP:20260424T041352Z
CREATED:20260424T041352Z
DTSTART:20260321T173000Z
DTEND:20260321T182000Z
LOCATION:Field 1
CONTACT:
SUMMARY:FC Familia Jrs VS. Los Tigritos
DESCRIPTION:League Name: Under 8 Boys REC W-26 (2018 oldest player)\nGame T
 ype: Regular\nGame Status: Pending\nHome Team: FC Familia Jrs\nAway Team: 
 Los Tigritos\n
END:VEVENT
BEGIN:VEVENT
UID:16984662@ezleagues.ezfacility.com
DTSTAMP:20260424T041352Z
CREATED:20260424T041352Z
DTSTART:20260328T182000Z
DTEND:20260328T191000Z
LOCATION:Field 1
CONTACT:
SUMMARY:FC Familia Jrs VS. NorCal FC
DESCRIPTION:League Name: Under 8 Boys REC W-26 (2018 oldest player)\nGame T
 ype: Regular\nGame Status: Pending\nHome Team: FC Familia Jrs\nAway Team: 
 NorCal FC\n
END:VEVENT
END:VCALENDAR
