BEGIN:VCALENDAR
VERSION:2.0
PRODID:-//EZFacility.com, Inc.//EZL 2.5.5.28621
BEGIN:VEVENT
UID:17003989@ezleagues.ezfacility.com
DTSTAMP:20260422T094751Z
CREATED:20260422T094751Z
DTSTART:20260221T234500Z
DTEND:20260222T003500Z
LOCATION:Field 2
CONTACT:
SUMMARY:TSP 2018 VS. Los Banos
DESCRIPTION:League Name: Under 10 Boys Comp W-26 (2016 oldest player)\nGame
  Type: Regular\nGame Status: Complete\nHome Team: TSP 2018\nAway Team: Los
  Banos\nHome Score: 4\nAway Score: 9
END:VEVENT
BEGIN:VEVENT
UID:17003996@ezleagues.ezfacility.com
DTSTAMP:20260422T094751Z
CREATED:20260422T094751Z
DTSTART:20260228T234500Z
DTEND:20260301T003500Z
LOCATION:Field 2
CONTACT:
SUMMARY:Los Banos VS. Delhi 2016
DESCRIPTION:League Name: Under 10 Boys Comp W-26 (2016 oldest player)\nGame
  Type: Regular\nGame Status: Complete\nHome Team: Los Banos\nAway Team: De
 lhi 2016\nHome Score: 5\nAway Score: 5
END:VEVENT
BEGIN:VEVENT
UID:17003985@ezleagues.ezfacility.com
DTSTAMP:20260422T094751Z
CREATED:20260422T094751Z
DTSTART:20260314T205000Z
DTEND:20260314T214000Z
LOCATION:Field 1
CONTACT:
SUMMARY:Los Banos VS. Strykerz
DESCRIPTION:League Name: Under 10 Boys Comp W-26 (2016 oldest player)\nGame
  Type: Regular\nGame Status: Complete\nHome Team: Los Banos\nAway Team: St
 rykerz\nHome Score: 4\nAway Score: 6
END:VEVENT
BEGIN:VEVENT
UID:17004000@ezleagues.ezfacility.com
DTSTAMP:20260422T094751Z
CREATED:20260422T094751Z
DTSTART:20260321T205000Z
DTEND:20260321T214000Z
LOCATION:Field 1
CONTACT:
SUMMARY:Strykerz VS. Los Banos
DESCRIPTION:League Name: Under 10 Boys Comp W-26 (2016 oldest player)\nGame
  Type: Regular\nGame Status: Complete\nHome Team: Strykerz\nAway Team: Los
  Banos\nHome Score: 6\nAway Score: 1
END:VEVENT
BEGIN:VEVENT
UID:17004004@ezleagues.ezfacility.com
DTSTAMP:20260422T094751Z
CREATED:20260422T094751Z
DTSTART:20260328T205000Z
DTEND:20260328T214000Z
LOCATION:Field 1
CONTACT:
SUMMARY:Los Banos VS. TSP 2018
DESCRIPTION:League Name: Under 10 Boys Comp W-26 (2016 oldest player)\nGame
  Type: Regular\nGame Status: Complete\nHome Team: Los Banos\nAway Team: TS
 P 2018\nHome Score: 3\nAway Score: 6
END:VEVENT
BEGIN:VEVENT
UID:17003992@ezleagues.ezfacility.com
DTSTAMP:20260422T094751Z
CREATED:20260422T094751Z
DTSTART:20260404T173000Z
DTEND:20260404T182000Z
LOCATION:Field 1
CONTACT:
SUMMARY:DFC17 VS. Los Banos
DESCRIPTION:League Name: Under 10 Boys Comp W-26 (2016 oldest player)\nGame
  Type: Regular\nGame Status: Complete\nHome Team: DFC17\nAway Team: Los Ba
 nos\nHome Score: 0\nAway Score: 11
END:VEVENT
BEGIN:VEVENT
UID:17004007@ezleagues.ezfacility.com
DTSTAMP:20260422T094751Z
CREATED:20260422T094751Z
DTSTART:20260404T214000Z
DTEND:20260404T223000Z
LOCATION:Field 1
CONTACT:
SUMMARY:Los Banos VS. DFC17
DESCRIPTION:League Name: Under 10 Boys Comp W-26 (2016 oldest player)\nGame
  Type: Regular\nGame Status: Complete\nHome Team: Los Banos\nAway Team: DF
 C17\nHome Score: 16\nAway Score: 1
END:VEVENT
BEGIN:VEVENT
UID:17004011@ezleagues.ezfacility.com
DTSTAMP:20260422T094751Z
CREATED:20260422T094751Z
DTSTART:20260418T223000Z
DTEND:20260418T232000Z
LOCATION:Field 2
CONTACT:
SUMMARY:Delhi 2016 VS. Los Banos
DESCRIPTION:League Name: Under 10 Boys Comp W-26 (2016 oldest player)\nGame
  Type: Regular\nGame Status: Complete\nHome Team: Delhi 2016\nAway Team: L
 os Banos\nHome Score: 4\nAway Score: 4
END:VEVENT
END:VCALENDAR
