BEGIN:VCALENDAR
VERSION:2.0
PRODID:-//EZFacility.com, Inc.//EZL 2.5.5.28621
BEGIN:VEVENT
UID:16953058@ezleagues.ezfacility.com
DTSTAMP:20260426T033424Z
CREATED:20260426T033424Z
DTSTART:20260108T230000Z
DTEND:20260108T233000Z
LOCATION:Pickleball 2
CONTACT:
SUMMARY:Late Bloomers VS. Net Results
DESCRIPTION:League Name: Winter Beginner Pickleball League\nGame Type: Regu
 lar\nGame Status: Complete\nHome Team: Late Bloomers\nAway Team: Net Resul
 ts\nHome Score: 24\nAway Score: 15
END:VEVENT
BEGIN:VEVENT
UID:16953059@ezleagues.ezfacility.com
DTSTAMP:20260426T033424Z
CREATED:20260426T033424Z
DTSTART:20260108T233000Z
DTEND:20260109T000000Z
LOCATION:Pickleball 1
CONTACT:
SUMMARY:The Dinko Ate My Baby VS. Late Bloomers
DESCRIPTION:League Name: Winter Beginner Pickleball League\nGame Type: Regu
 lar\nGame Status: Complete\nHome Team: The Dinko Ate My Baby\nAway Team: L
 ate Bloomers\nHome Score: 27\nAway Score: 35
END:VEVENT
BEGIN:VEVENT
UID:16953062@ezleagues.ezfacility.com
DTSTAMP:20260426T033424Z
CREATED:20260426T033424Z
DTSTART:20260115T230000Z
DTEND:20260115T233000Z
LOCATION:Pickleball 2
CONTACT:
SUMMARY:R^2 VS. Late Bloomers
DESCRIPTION:League Name: Winter Beginner Pickleball League\nGame Type: Regu
 lar\nGame Status: Complete\nHome Team: R^2\nAway Team: Late Bloomers\nHome
  Score: 26\nAway Score: 15
END:VEVENT
BEGIN:VEVENT
UID:16953064@ezleagues.ezfacility.com
DTSTAMP:20260426T033424Z
CREATED:20260426T033424Z
DTSTART:20260115T233000Z
DTEND:20260116T000000Z
LOCATION:Pickleball 1
CONTACT:
SUMMARY:Late Bloomers VS. Net Results
DESCRIPTION:League Name: Winter Beginner Pickleball League\nGame Type: Regu
 lar\nGame Status: Complete\nHome Team: Late Bloomers\nAway Team: Net Resul
 ts\nHome Score: 22\nAway Score: 11
END:VEVENT
BEGIN:VEVENT
UID:16953065@ezleagues.ezfacility.com
DTSTAMP:20260426T033424Z
CREATED:20260426T033424Z
DTSTART:20260122T230000Z
DTEND:20260122T233000Z
LOCATION:Pickleball 2
CONTACT:
SUMMARY:The Dinko Ate My Baby VS. Late Bloomers
DESCRIPTION:League Name: Winter Beginner Pickleball League\nGame Type: Regu
 lar\nGame Status: Complete\nHome Team: The Dinko Ate My Baby\nAway Team: L
 ate Bloomers\nHome Score: 5\nAway Score: 22
END:VEVENT
BEGIN:VEVENT
UID:16953068@ezleagues.ezfacility.com
DTSTAMP:20260426T033424Z
CREATED:20260426T033424Z
DTSTART:20260122T233000Z
DTEND:20260123T000000Z
LOCATION:Pickleball 1
CONTACT:
SUMMARY:R^2 VS. Late Bloomers
DESCRIPTION:League Name: Winter Beginner Pickleball League\nGame Type: Regu
 lar\nGame Status: Complete\nHome Team: R^2\nAway Team: Late Bloomers\nHome
  Score: 22\nAway Score: 12
END:VEVENT
BEGIN:VEVENT
UID:16953070@ezleagues.ezfacility.com
DTSTAMP:20260426T033424Z
CREATED:20260426T033424Z
DTSTART:20260129T230000Z
DTEND:20260129T233000Z
LOCATION:Pickleball 2
CONTACT:
SUMMARY:Late Bloomers VS. Net Results
DESCRIPTION:League Name: Winter Beginner Pickleball League\nGame Type: Regu
 lar\nGame Status: Complete\nHome Team: Late Bloomers\nAway Team: Net Resul
 ts\nHome Score: 22\nAway Score: 8
END:VEVENT
BEGIN:VEVENT
UID:16953071@ezleagues.ezfacility.com
DTSTAMP:20260426T033424Z
CREATED:20260426T033424Z
DTSTART:20260129T233000Z
DTEND:20260130T000000Z
LOCATION:Pickleball 1
CONTACT:
SUMMARY:The Dinko Ate My Baby VS. Late Bloomers
DESCRIPTION:League Name: Winter Beginner Pickleball League\nGame Type: Regu
 lar\nGame Status: Complete\nHome Team: The Dinko Ate My Baby\nAway Team: L
 ate Bloomers\nHome Score: 13\nAway Score: 22
END:VEVENT
BEGIN:VEVENT
UID:16953074@ezleagues.ezfacility.com
DTSTAMP:20260426T033424Z
CREATED:20260426T033424Z
DTSTART:20260205T230000Z
DTEND:20260205T233000Z
LOCATION:Pickleball 2
CONTACT:
SUMMARY:Late Bloomers VS. R^2
DESCRIPTION:League Name: Winter Beginner Pickleball League\nGame Type: Regu
 lar\nGame Status: Complete\nHome Team: Late Bloomers\nAway Team: R^2\nHome
  Score: 23\nAway Score: 30
END:VEVENT
BEGIN:VEVENT
UID:16953076@ezleagues.ezfacility.com
DTSTAMP:20260426T033424Z
CREATED:20260426T033424Z
DTSTART:20260205T233000Z
DTEND:20260206T000000Z
LOCATION:Pickleball 1
CONTACT:
SUMMARY:Net Results VS. Late Bloomers
DESCRIPTION:League Name: Winter Beginner Pickleball League\nGame Type: Regu
 lar\nGame Status: Complete\nHome Team: Net Results\nAway Team: Late Bloome
 rs\nHome Score: 30\nAway Score: 34
END:VEVENT
BEGIN:VEVENT
UID:16953077@ezleagues.ezfacility.com
DTSTAMP:20260426T033424Z
CREATED:20260426T033424Z
DTSTART:20260212T230000Z
DTEND:20260212T233000Z
LOCATION:Pickleball 2
CONTACT:
SUMMARY:Late Bloomers VS. The Dinko Ate My Baby
DESCRIPTION:League Name: Winter Beginner Pickleball League\nGame Type: Regu
 lar\nGame Status: Complete\nHome Team: Late Bloomers\nAway Team: The Dinko
  Ate My Baby\nHome Score: 22\nAway Score: 14
END:VEVENT
BEGIN:VEVENT
UID:16953080@ezleagues.ezfacility.com
DTSTAMP:20260426T033424Z
CREATED:20260426T033424Z
DTSTART:20260212T233000Z
DTEND:20260213T000000Z
LOCATION:Pickleball 1
CONTACT:
SUMMARY:Late Bloomers VS. R^2
DESCRIPTION:League Name: Winter Beginner Pickleball League\nGame Type: Regu
 lar\nGame Status: Complete\nHome Team: Late Bloomers\nAway Team: R^2\nHome
  Score: 35\nAway Score: 28
END:VEVENT
BEGIN:VEVENT
UID:16953082@ezleagues.ezfacility.com
DTSTAMP:20260426T033424Z
CREATED:20260426T033424Z
DTSTART:20260219T230000Z
DTEND:20260219T233000Z
LOCATION:Pickleball 2
CONTACT:
SUMMARY:Net Results VS. Late Bloomers
DESCRIPTION:League Name: Winter Beginner Pickleball League\nGame Type: Regu
 lar\nGame Status: Complete\nHome Team: Net Results\nAway Team: Late Bloome
 rs\nHome Score: 10\nAway Score: 22
END:VEVENT
BEGIN:VEVENT
UID:16953083@ezleagues.ezfacility.com
DTSTAMP:20260426T033424Z
CREATED:20260426T033424Z
DTSTART:20260219T233000Z
DTEND:20260220T000000Z
LOCATION:Pickleball 1
CONTACT:
SUMMARY:Late Bloomers VS. The Dinko Ate My Baby
DESCRIPTION:League Name: Winter Beginner Pickleball League\nGame Type: Regu
 lar\nGame Status: Complete\nHome Team: Late Bloomers\nAway Team: The Dinko
  Ate My Baby\nHome Score: 22\nAway Score: 11
END:VEVENT
BEGIN:VEVENT
UID:16953086@ezleagues.ezfacility.com
DTSTAMP:20260426T033424Z
CREATED:20260426T033424Z
DTSTART:20260226T230000Z
DTEND:20260226T233000Z
LOCATION:Pickleball 2
CONTACT:
SUMMARY:Late Bloomers VS. R^2
DESCRIPTION:League Name: Winter Beginner Pickleball League\nGame Type: Regu
 lar\nGame Status: Complete\nHome Team: Late Bloomers\nAway Team: R^2\nHome
  Score: 26\nAway Score: 22
END:VEVENT
BEGIN:VEVENT
UID:16953088@ezleagues.ezfacility.com
DTSTAMP:20260426T033424Z
CREATED:20260426T033424Z
DTSTART:20260226T233000Z
DTEND:20260227T000000Z
LOCATION:Pickleball 1
CONTACT:
SUMMARY:Net Results VS. Late Bloomers
DESCRIPTION:League Name: Winter Beginner Pickleball League\nGame Type: Regu
 lar\nGame Status: Complete\nHome Team: Net Results\nAway Team: Late Bloome
 rs\nHome Score: 6\nAway Score: 22
END:VEVENT
BEGIN:VEVENT
UID:17045105@ezleagues.ezfacility.com
DTSTAMP:20260426T033424Z
CREATED:20260426T033424Z
DTSTART:20260305T230000Z
DTEND:20260305T233000Z
LOCATION:Pickleball 2
CONTACT:
SUMMARY:Late Bloomers VS. Net Results
DESCRIPTION:League Name: Winter Beginner Pickleball League\nGame Type: Post
 season\nGame Status: Pending\nHome Team: Late Bloomers\nAway Team: Net Res
 ults\n
END:VEVENT
END:VCALENDAR
