BEGIN:VCALENDAR
VERSION:2.0
PRODID:-//EZFacility.com, Inc.//EZL 2.5.5.28621
BEGIN:VEVENT
UID:17097543@ezleagues.ezfacility.com
DTSTAMP:20260426T033407Z
CREATED:20260426T033407Z
DTSTART:20260425T140000Z
DTEND:20260425T144500Z
LOCATION:Car Stereo One Big Field
CONTACT:
SUMMARY:Patriots-Engfer VS. Giants-Anderson
DESCRIPTION:League Name: 2026 Spring Flag Football - Kindergarten\nGame Typ
 e: Regular\nGame Status: Complete\nHome Team: Patriots-Engfer\nAway Team: 
 Giants-Anderson\nHome Score: 26\nAway Score: 20
END:VEVENT
BEGIN:VEVENT
UID:17097550@ezleagues.ezfacility.com
DTSTAMP:20260426T033407Z
CREATED:20260426T033407Z
DTSTART:20260502T144500Z
DTEND:20260502T153000Z
LOCATION:Car Stereo One Big Field
CONTACT:
SUMMARY:Giants-Anderson VS. Saints-Morris
DESCRIPTION:League Name: 2026 Spring Flag Football - Kindergarten\nGame Typ
 e: Regular\nGame Status: Pending\nHome Team: Giants-Anderson\nAway Team: S
 aints-Morris\n
END:VEVENT
BEGIN:VEVENT
UID:17097557@ezleagues.ezfacility.com
DTSTAMP:20260426T033407Z
CREATED:20260426T033407Z
DTSTART:20260509T174500Z
DTEND:20260509T183000Z
LOCATION:Rossford Dome FF Field 3
CONTACT:
SUMMARY:Ravens-Hopkins VS. Giants-Anderson
DESCRIPTION:League Name: 2026 Spring Flag Football - Kindergarten\nGame Typ
 e: Regular\nGame Status: Pending\nHome Team: Ravens-Hopkins\nAway Team: Gi
 ants-Anderson\n
END:VEVENT
BEGIN:VEVENT
UID:17097564@ezleagues.ezfacility.com
DTSTAMP:20260426T033407Z
CREATED:20260426T033407Z
DTSTART:20260516T161500Z
DTEND:20260516T170000Z
LOCATION:Car Stereo One Big Field
CONTACT:
SUMMARY:Giants-Anderson VS. Steelers-McClanahan
DESCRIPTION:League Name: 2026 Spring Flag Football - Kindergarten\nGame Typ
 e: Regular\nGame Status: Pending\nHome Team: Giants-Anderson\nAway Team: S
 teelers-McClanahan\n
END:VEVENT
BEGIN:VEVENT
UID:17097570@ezleagues.ezfacility.com
DTSTAMP:20260426T033407Z
CREATED:20260426T033407Z
DTSTART:20260523T153000Z
DTEND:20260523T161500Z
LOCATION:Car Stereo One Big Field
CONTACT:
SUMMARY:Falcons-Flores VS. Giants-Anderson
DESCRIPTION:League Name: 2026 Spring Flag Football - Kindergarten\nGame Typ
 e: Regular\nGame Status: Pending\nHome Team: Falcons-Flores\nAway Team: Gi
 ants-Anderson\n
END:VEVENT
BEGIN:VEVENT
UID:17097575@ezleagues.ezfacility.com
DTSTAMP:20260426T033407Z
CREATED:20260426T033407Z
DTSTART:20260530T161500Z
DTEND:20260530T170000Z
LOCATION:Car Stereo One Big Field
CONTACT:
SUMMARY:Lions-Steele VS. Giants-Anderson
DESCRIPTION:League Name: 2026 Spring Flag Football - Kindergarten\nGame Typ
 e: Regular\nGame Status: Pending\nHome Team: Lions-Steele\nAway Team: Gian
 ts-Anderson\n
END:VEVENT
END:VCALENDAR
