BEGIN:VCALENDAR
VERSION:2.0
PRODID:-//EZFacility.com, Inc.//EZL 2.5.5.28621
BEGIN:VEVENT
UID:17097544@ezleagues.ezfacility.com
DTSTAMP:20260426T033407Z
CREATED:20260426T033407Z
DTSTART:20260425T144500Z
DTEND:20260425T153000Z
LOCATION:Car Stereo One Big Field
CONTACT:
SUMMARY:Steelers-McClanahan VS. Patriots-Tipping
DESCRIPTION:League Name: 2026 Spring Flag Football - Kindergarten\nGame Typ
 e: Regular\nGame Status: Complete\nHome Team: Steelers-McClanahan\nAway Te
 am: Patriots-Tipping\nHome Score: 0\nAway Score: 19
END:VEVENT
BEGIN:VEVENT
UID:17097551@ezleagues.ezfacility.com
DTSTAMP:20260426T033407Z
CREATED:20260426T033407Z
DTSTART:20260502T153000Z
DTEND:20260502T161500Z
LOCATION:Car Stereo One Big Field
CONTACT:
SUMMARY:Steelers-McClanahan VS. Steelers-Coe
DESCRIPTION:League Name: 2026 Spring Flag Football - Kindergarten\nGame Typ
 e: Regular\nGame Status: Pending\nHome Team: Steelers-McClanahan\nAway Tea
 m: Steelers-Coe\n
END:VEVENT
BEGIN:VEVENT
UID:17097558@ezleagues.ezfacility.com
DTSTAMP:20260426T033407Z
CREATED:20260426T033407Z
DTSTART:20260509T170000Z
DTEND:20260509T174500Z
LOCATION:Rossford Dome FF Field 2
CONTACT:
SUMMARY:Steelers-McClanahan VS. Patriots-Engfer
DESCRIPTION:League Name: 2026 Spring Flag Football - Kindergarten\nGame Typ
 e: Regular\nGame Status: Pending\nHome Team: Steelers-McClanahan\nAway Tea
 m: Patriots-Engfer\n
END:VEVENT
BEGIN:VEVENT
UID:17097564@ezleagues.ezfacility.com
DTSTAMP:20260426T033407Z
CREATED:20260426T033407Z
DTSTART:20260516T161500Z
DTEND:20260516T170000Z
LOCATION:Car Stereo One Big Field
CONTACT:
SUMMARY:Giants-Anderson VS. Steelers-McClanahan
DESCRIPTION:League Name: 2026 Spring Flag Football - Kindergarten\nGame Typ
 e: Regular\nGame Status: Pending\nHome Team: Giants-Anderson\nAway Team: S
 teelers-McClanahan\n
END:VEVENT
BEGIN:VEVENT
UID:17097569@ezleagues.ezfacility.com
DTSTAMP:20260426T033407Z
CREATED:20260426T033407Z
DTSTART:20260523T144500Z
DTEND:20260523T153000Z
LOCATION:Car Stereo One Big Field
CONTACT:
SUMMARY:Eagles-Hinkle VS. Steelers-McClanahan
DESCRIPTION:League Name: 2026 Spring Flag Football - Kindergarten\nGame Typ
 e: Regular\nGame Status: Pending\nHome Team: Eagles-Hinkle\nAway Team: Ste
 elers-McClanahan\n
END:VEVENT
BEGIN:VEVENT
UID:17097574@ezleagues.ezfacility.com
DTSTAMP:20260426T033407Z
CREATED:20260426T033407Z
DTSTART:20260530T153000Z
DTEND:20260530T161500Z
LOCATION:Car Stereo One Big Field
CONTACT:
SUMMARY:Lions-Okey VS. Steelers-McClanahan
DESCRIPTION:League Name: 2026 Spring Flag Football - Kindergarten\nGame Typ
 e: Regular\nGame Status: Pending\nHome Team: Lions-Okey\nAway Team: Steele
 rs-McClanahan\n
END:VEVENT
END:VCALENDAR
