BEGIN:VCALENDAR
VERSION:2.0
PRODID:-//EZFacility.com, Inc.//EZL 2.5.5.28621
BEGIN:VEVENT
UID:16953252@ezleagues.ezfacility.com
DTSTAMP:20260420T082306Z
CREATED:20260420T082306Z
DTSTART:20260201T200000Z
DTEND:20260201T204000Z
LOCATION:LG Field 2
CONTACT:
SUMMARY:FC Tulsa Academy 09B Black VS. NEOFC 09B
DESCRIPTION:League Name: Boys, Girls and or Coed HS (2009-2008) - Winter 2\
 nGame Type: Regular\nGame Status: Complete\nHome Team: FC Tulsa Academy 09
 B Black\nAway Team: NEOFC 09B\nHome Score: 2\nAway Score: 7
END:VEVENT
BEGIN:VEVENT
UID:16953256@ezleagues.ezfacility.com
DTSTAMP:20260420T082306Z
CREATED:20260420T082306Z
DTSTART:20260208T213000Z
DTEND:20260208T221000Z
LOCATION:LG Field 2
CONTACT:
SUMMARY:FC Tulsa Academy 09B Black VS. FC Tulsa Academy 09B Yellow
DESCRIPTION:League Name: Boys, Girls and or Coed HS (2009-2008) - Winter 2\
 nGame Type: Regular\nGame Status: Complete\nHome Team: FC Tulsa Academy 09
 B Black\nAway Team: FC Tulsa Academy 09B Yellow\nHome Score: 0\nAway Score
 : 6
END:VEVENT
BEGIN:VEVENT
UID:16953260@ezleagues.ezfacility.com
DTSTAMP:20260420T082306Z
CREATED:20260420T082306Z
DTSTART:20260215T213000Z
DTEND:20260215T221000Z
LOCATION:LG Field 2
CONTACT:
SUMMARY:FC Tulsa Academy 09B Black VS. Goonies
DESCRIPTION:League Name: Boys, Girls and or Coed HS (2009-2008) - Winter 2\
 nGame Type: Regular\nGame Status: Complete\nHome Team: FC Tulsa Academy 09
 B Black\nAway Team: Goonies\nHome Score: 5\nAway Score: 6
END:VEVENT
BEGIN:VEVENT
UID:16953264@ezleagues.ezfacility.com
DTSTAMP:20260420T082306Z
CREATED:20260420T082306Z
DTSTART:20260222T221500Z
DTEND:20260222T225500Z
LOCATION:LG Field 2
CONTACT:
SUMMARY:NEOFC 09B VS. FC Tulsa Academy 09B Black
DESCRIPTION:League Name: Boys, Girls and or Coed HS (2009-2008) - Winter 2\
 nGame Type: Regular\nGame Status: Complete\nHome Team: NEOFC 09B\nAway Tea
 m: FC Tulsa Academy 09B Black\nHome Score: 3\nAway Score: 0
END:VEVENT
BEGIN:VEVENT
UID:16953272@ezleagues.ezfacility.com
DTSTAMP:20260420T082306Z
CREATED:20260420T082306Z
DTSTART:20260308T203000Z
DTEND:20260308T211000Z
LOCATION:LG Field 2
CONTACT:
SUMMARY:Goonies VS. FC Tulsa Academy 09B Black
DESCRIPTION:League Name: Boys, Girls and or Coed HS (2009-2008) - Winter 2\
 nGame Type: Regular\nGame Status: Complete\nHome Team: Goonies\nAway Team:
  FC Tulsa Academy 09B Black\nHome Score: 5\nAway Score: 4
END:VEVENT
BEGIN:VEVENT
UID:16953276@ezleagues.ezfacility.com
DTSTAMP:20260420T082306Z
CREATED:20260420T082306Z
DTSTART:20260315T203000Z
DTEND:20260315T211000Z
LOCATION:LG Field 2
CONTACT:
SUMMARY:NEOFC 09B VS. FC Tulsa Academy 09B Black
DESCRIPTION:League Name: Boys, Girls and or Coed HS (2009-2008) - Winter 2\
 nGame Type: Regular\nGame Status: Complete\nHome Team: NEOFC 09B\nAway Tea
 m: FC Tulsa Academy 09B Black\nHome Score: 4\nAway Score: 1
END:VEVENT
BEGIN:VEVENT
UID:16953268@ezleagues.ezfacility.com
DTSTAMP:20260420T082306Z
CREATED:20260420T082306Z
DTSTART:20260317T021500Z
DTEND:20260317T025500Z
LOCATION:LG Field 1
CONTACT:
SUMMARY:FC Tulsa Academy 09B Yellow VS. FC Tulsa Academy 09B Black
DESCRIPTION:League Name: Boys, Girls and or Coed HS (2009-2008) - Winter 2\
 nGame Type: Regular\nGame Status: Complete\nHome Team: FC Tulsa Academy 09
 B Yellow\nAway Team: FC Tulsa Academy 09B Black\nHome Score: 5\nAway Score
 : 0
END:VEVENT
BEGIN:VEVENT
UID:16953248@ezleagues.ezfacility.com
DTSTAMP:20260420T082306Z
CREATED:20260420T082306Z
DTSTART:20260322T211500Z
DTEND:20260322T215500Z
LOCATION:LG Field 2
CONTACT:
SUMMARY:FC Tulsa Academy 09B Black VS. Goonies
DESCRIPTION:League Name: Boys, Girls and or Coed HS (2009-2008) - Winter 2\
 nGame Type: Regular\nGame Status: Complete\nHome Team: FC Tulsa Academy 09
 B Black\nAway Team: Goonies\nHome Score: 8\nAway Score: 4
END:VEVENT
END:VCALENDAR
