BEGIN:VCALENDAR
VERSION:2.0
PRODID:-//EZFacility.com, Inc.//EZL 2.5.5.28621
BEGIN:VEVENT
UID:16953791@ezleagues.ezfacility.com
DTSTAMP:20260426T033518Z
CREATED:20260426T033518Z
DTSTART:20260131T200000Z
DTEND:20260131T204000Z
LOCATION:LG Field 1
CONTACT:
SUMMARY:FC Tulsa Academy 17B Premier VS. NEOFC 17B
DESCRIPTION:League Name: Boys U10 Academy  (2017-2016) - Winter 2\nGame Typ
 e: Regular\nGame Status: Complete\nHome Team: FC Tulsa Academy 17B Premier
 \nAway Team: NEOFC 17B\nHome Score: 2\nAway Score: 7
END:VEVENT
BEGIN:VEVENT
UID:16953821@ezleagues.ezfacility.com
DTSTAMP:20260426T033518Z
CREATED:20260426T033518Z
DTSTART:20260214T213000Z
DTEND:20260214T221000Z
LOCATION:LG Field 1
CONTACT:
SUMMARY:NEOFC 17B VS. FC Tulsa Academy 18B Elite
DESCRIPTION:League Name: Boys U10 Academy  (2017-2016) - Winter 2\nGame Typ
 e: Regular\nGame Status: Complete\nHome Team: NEOFC 17B\nAway Team: FC Tul
 sa Academy 18B Elite\nHome Score: 11\nAway Score: 1
END:VEVENT
BEGIN:VEVENT
UID:16953837@ezleagues.ezfacility.com
DTSTAMP:20260426T033518Z
CREATED:20260426T033518Z
DTSTART:20260221T213000Z
DTEND:20260221T221000Z
LOCATION:LG Field 2
CONTACT:
SUMMARY:NEOFC 17B VS. FC Tulsa Academy 16B-YB
DESCRIPTION:League Name: Boys U10 Academy  (2017-2016) - Winter 2\nGame Typ
 e: Regular\nGame Status: Complete\nHome Team: NEOFC 17B\nAway Team: FC Tul
 sa Academy 16B-YB\nHome Score: 11\nAway Score: 1
END:VEVENT
BEGIN:VEVENT
UID:16953868@ezleagues.ezfacility.com
DTSTAMP:20260426T033518Z
CREATED:20260426T033518Z
DTSTART:20260307T130000Z
DTEND:20260307T134000Z
LOCATION:LG Field 2
CONTACT:
SUMMARY:WSA 17 White VS. NEOFC 17B
DESCRIPTION:League Name: Boys U10 Academy  (2017-2016) - Winter 2\nGame Typ
 e: Regular\nGame Status: Complete\nHome Team: WSA 17 White\nAway Team: NEO
 FC 17B\nHome Score: 3\nAway Score: 12
END:VEVENT
BEGIN:VEVENT
UID:16953882@ezleagues.ezfacility.com
DTSTAMP:20260426T033518Z
CREATED:20260426T033518Z
DTSTART:20260314T203000Z
DTEND:20260314T211000Z
LOCATION:LG Field 1
CONTACT:
SUMMARY:FC Tulsa Academy 16B Premier VS. NEOFC 17B
DESCRIPTION:League Name: Boys U10 Academy  (2017-2016) - Winter 2\nGame Typ
 e: Regular\nGame Status: Complete\nHome Team: FC Tulsa Academy 16B Premier
 \nAway Team: NEOFC 17B\nHome Score: 4\nAway Score: 7
END:VEVENT
BEGIN:VEVENT
UID:16953853@ezleagues.ezfacility.com
DTSTAMP:20260426T033518Z
CREATED:20260426T033518Z
DTSTART:20260317T004500Z
DTEND:20260317T012500Z
LOCATION:LG Field 2
CONTACT:
SUMMARY:NEOFC 17B VS. Greenwood Romo
DESCRIPTION:League Name: Boys U10 Academy  (2017-2016) - Winter 2\nGame Typ
 e: Regular\nGame Status: Complete\nHome Team: NEOFC 17B\nAway Team: Greenw
 ood Romo\nHome Score: 5\nAway Score: 0
END:VEVENT
BEGIN:VEVENT
UID:16953805@ezleagues.ezfacility.com
DTSTAMP:20260426T033518Z
CREATED:20260426T033518Z
DTSTART:20260321T203000Z
DTEND:20260321T211000Z
LOCATION:LG Field 1
CONTACT:
SUMMARY:NEOFC 17B VS. NEOFC 2016 Blue
DESCRIPTION:League Name: Boys U10 Academy  (2017-2016) - Winter 2\nGame Typ
 e: Regular\nGame Status: Complete\nHome Team: NEOFC 17B\nAway Team: NEOFC 
 2016 Blue\nHome Score: 12\nAway Score: 2
END:VEVENT
BEGIN:VEVENT
UID:16953777@ezleagues.ezfacility.com
DTSTAMP:20260426T033518Z
CREATED:20260426T033518Z
DTSTART:20260326T003000Z
DTEND:20260326T011000Z
LOCATION:LG Field 2
CONTACT:
SUMMARY:NEOFC 17B VS. FC Tulsa Academy 16B Premier
DESCRIPTION:League Name: Boys U10 Academy  (2017-2016) - Winter 2\nGame Typ
 e: Regular\nGame Status: Complete\nHome Team: NEOFC 17B\nAway Team: FC Tul
 sa Academy 16B Premier\nHome Score: 6\nAway Score: 2
END:VEVENT
END:VCALENDAR
