BEGIN:VCALENDAR
VERSION:2.0
PRODID:-//EZFacility.com, Inc.//EZL 2.5.5.28621
BEGIN:VEVENT
UID:16953735@ezleagues.ezfacility.com
DTSTAMP:20260421T183948Z
CREATED:20260421T183948Z
DTSTART:20260110T194500Z
DTEND:20260110T203000Z
LOCATION:*Horizon #5
CONTACT:Loser Game 2
SUMMARY:Lions VS. Winner of 2
DESCRIPTION:League Name: GOLD - 7th/8th Tournament\nGame Type: Regular\nGam
 e Status: Pending\nHome Team: Lions\nAway Team: Winner of 2\n
END:VEVENT
END:VCALENDAR
