BEGIN:VCALENDAR
VERSION:2.0
PRODID:-//EZFacility.com, Inc.//EZL 2.5.5.28621
BEGIN:VEVENT
UID:16962087@ezleagues.ezfacility.com
DTSTAMP:20260426T033440Z
CREATED:20260426T033440Z
DTSTART:20260118T002000Z
DTEND:20260118T012000Z
LOCATION:Field 1
CONTACT:Hall
SUMMARY:GSA U14 Orange 1 VS. Nelson FC
DESCRIPTION:League Name: U14 Boys (2012) Indoor session 2 2026\nGame Type: 
 Regular\nGame Status: Complete\nHome Team: GSA U14 Orange 1\nAway Team: Ne
 lson FC\nHome Score: 6\nAway Score: 0
END:VEVENT
BEGIN:VEVENT
UID:16967900@ezleagues.ezfacility.com
DTSTAMP:20260426T033440Z
CREATED:20260426T033440Z
DTSTART:20260125T002000Z
DTEND:20260125T012000Z
LOCATION:Field 1
CONTACT:Riegler
SUMMARY:Bullard Field VS. Nelson FC
DESCRIPTION:League Name: U14 Boys (2012) Indoor session 2 2026\nGame Type: 
 Regular\nGame Status: Complete\nHome Team: Bullard Field\nAway Team: Nelso
 n FC\nHome Score: 7\nAway Score: 1
END:VEVENT
BEGIN:VEVENT
UID:16972163@ezleagues.ezfacility.com
DTSTAMP:20260426T033440Z
CREATED:20260426T033440Z
DTSTART:20260201T012000Z
DTEND:20260201T022000Z
LOCATION:Field 1
CONTACT:Jakab
SUMMARY:Nelson FC VS. Stow SC - U14 Boys Maroon - Duncan
DESCRIPTION:League Name: U14 Boys (2012) Indoor session 2 2026\nGame Type: 
 Regular\nGame Status: Complete\nHome Team: Nelson FC\nAway Team: Stow SC -
  U14 Boys Maroon - Duncan\nHome Score: 1\nAway Score: 7
END:VEVENT
BEGIN:VEVENT
UID:16974925@ezleagues.ezfacility.com
DTSTAMP:20260426T033440Z
CREATED:20260426T033440Z
DTSTART:20260208T002000Z
DTEND:20260208T012000Z
LOCATION:Field 1
CONTACT:Hall
SUMMARY:Nelson FC VS. GSA U14 Orange 2
DESCRIPTION:League Name: U14 Boys (2012) Indoor session 2 2026\nGame Type: 
 Regular\nGame Status: Complete\nHome Team: Nelson FC\nAway Team: GSA U14 O
 range 2\nHome Score: 0\nAway Score: 6
END:VEVENT
BEGIN:VEVENT
UID:16974926@ezleagues.ezfacility.com
DTSTAMP:20260426T033440Z
CREATED:20260426T033440Z
DTSTART:20260215T002000Z
DTEND:20260215T012000Z
LOCATION:Field 1
CONTACT:Wilson
SUMMARY:Nelson FC VS. Aurora NP  U14B
DESCRIPTION:League Name: U14 Boys (2012) Indoor session 2 2026\nGame Type: 
 Regular\nGame Status: Complete\nHome Team: Nelson FC\nAway Team: Aurora NP
   U14B\nHome Score: 1\nAway Score: 7
END:VEVENT
BEGIN:VEVENT
UID:16974927@ezleagues.ezfacility.com
DTSTAMP:20260426T033440Z
CREATED:20260426T033440Z
DTSTART:20260301T002000Z
DTEND:20260301T012000Z
LOCATION:Field 1
CONTACT:Wilson
SUMMARY:NHSA 2012 VS. Nelson FC
DESCRIPTION:League Name: U14 Boys (2012) Indoor session 2 2026\nGame Type: 
 Regular\nGame Status: Complete\nHome Team: NHSA 2012\nAway Team: Nelson FC
 \nHome Score: 6\nAway Score: 0
END:VEVENT
BEGIN:VEVENT
UID:16974928@ezleagues.ezfacility.com
DTSTAMP:20260426T033440Z
CREATED:20260426T033440Z
DTSTART:20260314T232000Z
DTEND:20260315T002000Z
LOCATION:Field 1
CONTACT:Wilson
SUMMARY:JSSC 2012 Purple VS. Nelson FC
DESCRIPTION:League Name: U14 Boys (2012) Indoor session 2 2026\nGame Type: 
 Regular\nGame Status: Complete\nHome Team: JSSC 2012 Purple\nAway Team: Ne
 lson FC\nHome Score: 9\nAway Score: 3
END:VEVENT
BEGIN:VEVENT
UID:16974929@ezleagues.ezfacility.com
DTSTAMP:20260426T033440Z
CREATED:20260426T033440Z
DTSTART:20260321T222000Z
DTEND:20260321T232000Z
LOCATION:Field 1
CONTACT:Zemanski
SUMMARY:Bullard Field VS. Nelson FC
DESCRIPTION:League Name: U14 Boys (2012) Indoor session 2 2026\nGame Type: 
 Regular\nGame Status: Complete\nHome Team: Bullard Field\nAway Team: Nelso
 n FC\nHome Score: 9\nAway Score: 3
END:VEVENT
BEGIN:VEVENT
UID:16974930@ezleagues.ezfacility.com
DTSTAMP:20260426T033440Z
CREATED:20260426T033440Z
DTSTART:20260328T222000Z
DTEND:20260328T232000Z
LOCATION:Field 1
CONTACT:Zemanski
SUMMARY:Nelson FC VS. Stow SC - U14 Boys Maroon - Duncan
DESCRIPTION:League Name: U14 Boys (2012) Indoor session 2 2026\nGame Type: 
 Regular\nGame Status: Complete\nHome Team: Nelson FC\nAway Team: Stow SC -
  U14 Boys Maroon - Duncan\nHome Score: 0\nAway Score: 6
END:VEVENT
BEGIN:VEVENT
UID:16974932@ezleagues.ezfacility.com
DTSTAMP:20260426T033440Z
CREATED:20260426T033440Z
DTSTART:20260404T222000Z
DTEND:20260404T232000Z
LOCATION:Field 1
CONTACT:Jakab
SUMMARY:Nelson FC VS. Aurora NP  U14B
DESCRIPTION:League Name: U14 Boys (2012) Indoor session 2 2026\nGame Type: 
 Regular\nGame Status: Complete\nHome Team: Nelson FC\nAway Team: Aurora NP
   U14B\nHome Score: 2\nAway Score: 6
END:VEVENT
END:VCALENDAR
