BEGIN:VCALENDAR
VERSION:2.0
PRODID:-//EZFacility.com, Inc.//EZL 2.5.5.28621
BEGIN:VEVENT
UID:16962102@ezleagues.ezfacility.com
DTSTAMP:20260426T033442Z
CREATED:20260426T033442Z
DTSTART:20260118T010000Z
DTEND:20260118T020000Z
LOCATION:Field 2
CONTACT:Jakab
SUMMARY:Hudson United 2013 Boys Blue VS. Kent Riders
DESCRIPTION:League Name: U13 Boys (2013) Indoor session 2 2026\nGame Type: 
 Regular\nGame Status: Complete\nHome Team: Hudson United 2013 Boys Blue\nA
 way Team: Kent Riders\nHome Score: 8\nAway Score: 2
END:VEVENT
BEGIN:VEVENT
UID:16967910@ezleagues.ezfacility.com
DTSTAMP:20260426T033442Z
CREATED:20260426T033442Z
DTSTART:20260124T000000Z
DTEND:20260124T010000Z
LOCATION:Field 3
CONTACT:Winslow
SUMMARY:Kent Riders VS. GSA U13 Black
DESCRIPTION:League Name: U13 Boys (2013) Indoor session 2 2026\nGame Type: 
 Regular\nGame Status: Complete\nHome Team: Kent Riders\nAway Team: GSA U13
  Black\nHome Score: 0\nAway Score: 6
END:VEVENT
BEGIN:VEVENT
UID:16972203@ezleagues.ezfacility.com
DTSTAMP:20260426T033442Z
CREATED:20260426T033442Z
DTSTART:20260131T000000Z
DTEND:20260131T010000Z
LOCATION:Field 3
CONTACT:Wilson
SUMMARY:Kent Riders VS. GSA Boys U13 Orange
DESCRIPTION:League Name: U13 Boys (2013) Indoor session 2 2026\nGame Type: 
 Regular\nGame Status: Complete\nHome Team: Kent Riders\nAway Team: GSA Boy
 s U13 Orange\nHome Score: 5\nAway Score: 7
END:VEVENT
BEGIN:VEVENT
UID:16975055@ezleagues.ezfacility.com
DTSTAMP:20260426T033442Z
CREATED:20260426T033442Z
DTSTART:20260207T010000Z
DTEND:20260207T020000Z
LOCATION:Field 3
CONTACT:Wilson
SUMMARY:Kent Riders VS. Hudson United 2014 Boys Blue Team A
DESCRIPTION:League Name: U13 Boys (2013) Indoor session 2 2026\nGame Type: 
 Regular\nGame Status: Complete\nHome Team: Kent Riders\nAway Team: Hudson 
 United 2014 Boys Blue Team A\nHome Score: 2\nAway Score: 6
END:VEVENT
BEGIN:VEVENT
UID:16980771@ezleagues.ezfacility.com
DTSTAMP:20260426T033442Z
CREATED:20260426T033442Z
DTSTART:20260214T220000Z
DTEND:20260214T230000Z
LOCATION:Field 2
CONTACT:Winslow
SUMMARY:Hudson United 2013 Boys White VS. Kent Riders
DESCRIPTION:League Name: U13 Boys (2013) Indoor session 2 2026\nGame Type: 
 Regular\nGame Status: Complete\nHome Team: Hudson United 2013 Boys White\n
 Away Team: Kent Riders\nHome Score: 1\nAway Score: 6
END:VEVENT
BEGIN:VEVENT
UID:16987898@ezleagues.ezfacility.com
DTSTAMP:20260426T033442Z
CREATED:20260426T033442Z
DTSTART:20260221T222000Z
DTEND:20260221T232000Z
LOCATION:Field 1
CONTACT:Hall
SUMMARY:Hudson United 2014 Boys Blue Team B VS. Kent Riders
DESCRIPTION:League Name: U13 Boys (2013) Indoor session 2 2026\nGame Type: 
 Regular\nGame Status: Complete\nHome Team: Hudson United 2014 Boys Blue Te
 am B\nAway Team: Kent Riders\nHome Score: 6\nAway Score: 2
END:VEVENT
BEGIN:VEVENT
UID:16990644@ezleagues.ezfacility.com
DTSTAMP:20260426T033442Z
CREATED:20260426T033442Z
DTSTART:20260228T204000Z
DTEND:20260228T214000Z
LOCATION:Field 3
CONTACT:McEnhill
SUMMARY:Stow SC - U13 Boys Maroon - Lame VS. Kent Riders
DESCRIPTION:League Name: U13 Boys (2013) Indoor session 2 2026\nGame Type: 
 Regular\nGame Status: Complete\nHome Team: Stow SC - U13 Boys Maroon - Lam
 e\nAway Team: Kent Riders\nHome Score: 7\nAway Score: 2
END:VEVENT
BEGIN:VEVENT
UID:16992519@ezleagues.ezfacility.com
DTSTAMP:20260426T033442Z
CREATED:20260426T033442Z
DTSTART:20260314T010000Z
DTEND:20260314T020000Z
LOCATION:Field 3
CONTACT:Collins
SUMMARY:Hudson United 2013 Boys Blue VS. Kent Riders
DESCRIPTION:League Name: U13 Boys (2013) Indoor session 2 2026\nGame Type: 
 Regular\nGame Status: Complete\nHome Team: Hudson United 2013 Boys Blue\nA
 way Team: Kent Riders\nHome Score: 4\nAway Score: 4
END:VEVENT
BEGIN:VEVENT
UID:16997561@ezleagues.ezfacility.com
DTSTAMP:20260426T033442Z
CREATED:20260426T033442Z
DTSTART:20260321T210000Z
DTEND:20260321T220000Z
LOCATION:Field 2
CONTACT:Mammana
SUMMARY:Kent Riders VS. Hudson United 2014 Boys Blue Team B
DESCRIPTION:League Name: U13 Boys (2013) Indoor session 2 2026\nGame Type: 
 Regular\nGame Status: Complete\nHome Team: Kent Riders\nAway Team: Hudson 
 United 2014 Boys Blue Team B\nHome Score: 4\nAway Score: 8
END:VEVENT
BEGIN:VEVENT
UID:17000524@ezleagues.ezfacility.com
DTSTAMP:20260426T033442Z
CREATED:20260426T033442Z
DTSTART:20260328T210000Z
DTEND:20260328T220000Z
LOCATION:Field 2
CONTACT:Chinenyanga
SUMMARY:Kent Riders VS. Hudson United 2014 Boys Blue Team B
DESCRIPTION:League Name: U13 Boys (2013) Indoor session 2 2026\nGame Type: 
 Regular\nGame Status: Complete\nHome Team: Kent Riders\nAway Team: Hudson 
 United 2014 Boys Blue Team B\nHome Score: 3\nAway Score: 9
END:VEVENT
END:VCALENDAR
