BEGIN:VCALENDAR
VERSION:2.0
PRODID:-//EZFacility.com, Inc.//EZL 2.5.5.28621
BEGIN:VEVENT
UID:16954610@ezleagues.ezfacility.com
DTSTAMP:20260422T194448Z
CREATED:20260422T194448Z
DTSTART:20260114T041000Z
DTEND:20260114T050500Z
LOCATION:Rink 1
CONTACT:
SUMMARY:Menace VS. Band of bros
DESCRIPTION:League Name: Adult Winter 2026 Intermediate B/C Tuesday\nGame T
 ype: Regular\nGame Status: Complete\nHome Team: Menace\nAway Team: Band of
  bros\nHome Score: 10\nAway Score: 4
END:VEVENT
BEGIN:VEVENT
UID:16954613@ezleagues.ezfacility.com
DTSTAMP:20260422T194448Z
CREATED:20260422T194448Z
DTSTART:20260121T065500Z
DTEND:20260121T075000Z
LOCATION:Rink 1
CONTACT:
SUMMARY:3 Alarm Fire  Safety VS. Menace
DESCRIPTION:League Name: Adult Winter 2026 Intermediate B/C Tuesday\nGame T
 ype: Regular\nGame Status: Complete\nHome Team: 3 Alarm Fire  Safety\nAway
  Team: Menace\nHome Score: 4\nAway Score: 3
END:VEVENT
BEGIN:VEVENT
UID:16954618@ezleagues.ezfacility.com
DTSTAMP:20260422T194448Z
CREATED:20260422T194448Z
DTSTART:20260128T041000Z
DTEND:20260128T050500Z
LOCATION:Rink 2
CONTACT:
SUMMARY:Sluggin Mugs VS. Menace
DESCRIPTION:League Name: Adult Winter 2026 Intermediate B/C Tuesday\nGame T
 ype: Regular\nGame Status: Complete\nHome Team: Sluggin Mugs\nAway Team: M
 enace\nHome Score: 7\nAway Score: 3
END:VEVENT
BEGIN:VEVENT
UID:16954623@ezleagues.ezfacility.com
DTSTAMP:20260422T194448Z
CREATED:20260422T194448Z
DTSTART:20260204T060000Z
DTEND:20260204T065500Z
LOCATION:Rink 2
CONTACT:
SUMMARY:Menace VS. Five Bears Deep
DESCRIPTION:League Name: Adult Winter 2026 Intermediate B/C Tuesday\nGame T
 ype: Regular\nGame Status: Complete\nHome Team: Menace\nAway Team: Five Be
 ars Deep\nHome Score: 1\nAway Score: 7
END:VEVENT
BEGIN:VEVENT
UID:16954628@ezleagues.ezfacility.com
DTSTAMP:20260422T194448Z
CREATED:20260422T194448Z
DTSTART:20260211T031500Z
DTEND:20260211T041000Z
LOCATION:Rink 1
CONTACT:
SUMMARY:Menace VS. Dad Bodz
DESCRIPTION:League Name: Adult Winter 2026 Intermediate B/C Tuesday\nGame T
 ype: Regular\nGame Status: Complete\nHome Team: Menace\nAway Team: Dad Bod
 z\nHome Score: 5\nAway Score: 5
END:VEVENT
BEGIN:VEVENT
UID:16954632@ezleagues.ezfacility.com
DTSTAMP:20260422T194448Z
CREATED:20260422T194448Z
DTSTART:20260218T060000Z
DTEND:20260218T065500Z
LOCATION:Rink 1
CONTACT:
SUMMARY:Showtime VS. Menace
DESCRIPTION:League Name: Adult Winter 2026 Intermediate B/C Tuesday\nGame T
 ype: Regular\nGame Status: Complete\nHome Team: Showtime\nAway Team: Menac
 e\nHome Score: 5\nAway Score: 2
END:VEVENT
BEGIN:VEVENT
UID:16954635@ezleagues.ezfacility.com
DTSTAMP:20260422T194448Z
CREATED:20260422T194448Z
DTSTART:20260225T031500Z
DTEND:20260225T041000Z
LOCATION:Rink 1
CONTACT:
SUMMARY:RATS VS. Menace
DESCRIPTION:League Name: Adult Winter 2026 Intermediate B/C Tuesday\nGame T
 ype: Regular\nGame Status: Complete\nHome Team: RATS\nAway Team: Menace\nH
 ome Score: 5\nAway Score: 2
END:VEVENT
BEGIN:VEVENT
UID:16954638@ezleagues.ezfacility.com
DTSTAMP:20260422T194448Z
CREATED:20260422T194448Z
DTSTART:20260304T041000Z
DTEND:20260304T050500Z
LOCATION:Rink 2
CONTACT:
SUMMARY:Band of bros VS. Menace
DESCRIPTION:League Name: Adult Winter 2026 Intermediate B/C Tuesday\nGame T
 ype: Regular\nGame Status: Complete\nHome Team: Band of bros\nAway Team: M
 enace\nHome Score: 7\nAway Score: 12
END:VEVENT
BEGIN:VEVENT
UID:16954641@ezleagues.ezfacility.com
DTSTAMP:20260422T194448Z
CREATED:20260422T194448Z
DTSTART:20260311T040500Z
DTEND:20260311T050000Z
LOCATION:Rink 1
CONTACT:
SUMMARY:Menace VS. 3 Alarm Fire  Safety
DESCRIPTION:League Name: Adult Winter 2026 Intermediate B/C Tuesday\nGame T
 ype: Regular\nGame Status: Complete\nHome Team: Menace\nAway Team: 3 Alarm
  Fire  Safety\nHome Score: 5\nAway Score: 7
END:VEVENT
BEGIN:VEVENT
UID:16954646@ezleagues.ezfacility.com
DTSTAMP:20260422T194448Z
CREATED:20260422T194448Z
DTSTART:20260318T031000Z
DTEND:20260318T040500Z
LOCATION:Rink 2
CONTACT:
SUMMARY:Menace VS. Sluggin Mugs
DESCRIPTION:League Name: Adult Winter 2026 Intermediate B/C Tuesday\nGame T
 ype: Regular\nGame Status: Complete\nHome Team: Menace\nAway Team: Sluggin
  Mugs\nHome Score: 4\nAway Score: 1
END:VEVENT
BEGIN:VEVENT
UID:17037494@ezleagues.ezfacility.com
DTSTAMP:20260422T194448Z
CREATED:20260422T194448Z
DTSTART:20260325T040500Z
DTEND:20260325T050000Z
LOCATION:Rink 2
CONTACT:
SUMMARY:Five Bears Deep VS. Menace
DESCRIPTION:League Name: Adult Winter 2026 Intermediate B/C Tuesday\nGame T
 ype: Postseason\nGame Status: Complete\nHome Team: Five Bears Deep\nAway T
 eam: Menace\nHome Score: 7\nAway Score: 8
END:VEVENT
BEGIN:VEVENT
UID:17037498@ezleagues.ezfacility.com
DTSTAMP:20260422T194448Z
CREATED:20260422T194448Z
DTSTART:20260401T040500Z
DTEND:20260401T050000Z
LOCATION:Rink 2
CONTACT:
SUMMARY:Sluggin Mugs VS. Menace
DESCRIPTION:League Name: Adult Winter 2026 Intermediate B/C Tuesday\nGame T
 ype: Postseason\nGame Status: Complete\nHome Team: Sluggin Mugs\nAway Team
 : Menace\nHome Score: 1\nAway Score: 3
END:VEVENT
END:VCALENDAR
