BEGIN:VCALENDAR
VERSION:2.0
PRODID:-//EZFacility.com, Inc.//EZL 2.5.5.28621
BEGIN:VEVENT
UID:16955664@ezleagues.ezfacility.com
DTSTAMP:20260426T033516Z
CREATED:20260426T033516Z
DTSTART:20260108T190000Z
DTEND:20260108T194000Z
LOCATION:Hull - Pitch 6
CONTACT:
SUMMARY:SG FC VS. REALSOSOBAD
DESCRIPTION:League Name: THURS MEN'S 2026 LEAGUE \nGame Type: Regular\nGame
  Status: Pending\nHome Team: SG FC\nAway Team: REALSOSOBAD\n
END:VEVENT
BEGIN:VEVENT
UID:16955647@ezleagues.ezfacility.com
DTSTAMP:20260426T033516Z
CREATED:20260426T033516Z
DTSTART:20260108T200000Z
DTEND:20260108T204000Z
LOCATION:Hull - Pitch 2
CONTACT:
SUMMARY:MISFITS FC  VS. SG FC
DESCRIPTION:League Name: THURS MEN'S 2026 LEAGUE \nGame Type: Regular\nGame
  Status: Complete\nHome Team: MISFITS FC \nAway Team: SG FC\nHome Score: 7
 \nAway Score: 18
END:VEVENT
BEGIN:VEVENT
UID:16968033@ezleagues.ezfacility.com
DTSTAMP:20260426T033516Z
CREATED:20260426T033516Z
DTSTART:20260115T191500Z
DTEND:20260115T195500Z
LOCATION:Hull - Pitch 6
CONTACT:
SUMMARY:WINFTON DOGS  VS. SG FC
DESCRIPTION:League Name: THURS MEN'S 2026 LEAGUE \nGame Type: Regular\nGame
  Status: Complete\nHome Team: WINFTON DOGS \nAway Team: SG FC\nHome Score:
  21\nAway Score: 6
END:VEVENT
BEGIN:VEVENT
UID:16968935@ezleagues.ezfacility.com
DTSTAMP:20260426T033516Z
CREATED:20260426T033516Z
DTSTART:20260116T130000Z
DTEND:20260116T134000Z
LOCATION:Hull - Pitch 1
CONTACT:
SUMMARY:WINFTON DOGS  VS. SG FC
DESCRIPTION:League Name: THURS MEN'S 2026 LEAGUE \nGame Type: Regular\nGame
  Status: Pending\nHome Team: WINFTON DOGS \nAway Team: SG FC\n
END:VEVENT
BEGIN:VEVENT
UID:16955659@ezleagues.ezfacility.com
DTSTAMP:20260426T033516Z
CREATED:20260426T033516Z
DTSTART:20260122T191500Z
DTEND:20260122T195500Z
LOCATION:Hull - Pitch 8
CONTACT:
SUMMARY:MW FC VS. SG FC
DESCRIPTION:League Name: THURS MEN'S 2026 LEAGUE \nGame Type: Regular\nGame
  Status: Complete\nHome Team: MW FC\nAway Team: SG FC\nHome Score: 9\nAway
  Score: 4
END:VEVENT
BEGIN:VEVENT
UID:16955704@ezleagues.ezfacility.com
DTSTAMP:20260426T033516Z
CREATED:20260426T033516Z
DTSTART:20260129T190000Z
DTEND:20260129T194000Z
LOCATION:Hull - Pitch 4
CONTACT:
SUMMARY:SG FC VS. MW FC
DESCRIPTION:League Name: THURS MEN'S 2026 LEAGUE \nGame Type: Regular\nGame
  Status: Complete\nHome Team: SG FC\nAway Team: MW FC\nHome Score: 16\nAwa
 y Score: 7
END:VEVENT
BEGIN:VEVENT
UID:16955676@ezleagues.ezfacility.com
DTSTAMP:20260426T033516Z
CREATED:20260426T033516Z
DTSTART:20260129T191500Z
DTEND:20260129T195500Z
LOCATION:Hull - Pitch 2
CONTACT:
SUMMARY:SG FC VS. EAST HULL
DESCRIPTION:League Name: THURS MEN'S 2026 LEAGUE \nGame Type: Regular\nGame
  Status: Pending\nHome Team: SG FC\nAway Team: EAST HULL\n
END:VEVENT
BEGIN:VEVENT
UID:16955692@ezleagues.ezfacility.com
DTSTAMP:20260426T033516Z
CREATED:20260426T033516Z
DTSTART:20260129T191500Z
DTEND:20260129T195500Z
LOCATION:Hull - Pitch 6
CONTACT:
SUMMARY:SG FC VS. MISFITS FC 
DESCRIPTION:League Name: THURS MEN'S 2026 LEAGUE \nGame Type: Regular\nGame
  Status: Pending\nHome Team: SG FC\nAway Team: MISFITS FC \n
END:VEVENT
BEGIN:VEVENT
UID:16955668@ezleagues.ezfacility.com
DTSTAMP:20260426T033516Z
CREATED:20260426T033516Z
DTSTART:20260129T191500Z
DTEND:20260129T195500Z
LOCATION:Hull - Pitch 6
CONTACT:
SUMMARY:SG FC VS. NETSIX AND CHILL 
DESCRIPTION:League Name: THURS MEN'S 2026 LEAGUE \nGame Type: Regular\nGame
  Status: Pending\nHome Team: SG FC\nAway Team: NETSIX AND CHILL \n
END:VEVENT
BEGIN:VEVENT
UID:16955680@ezleagues.ezfacility.com
DTSTAMP:20260426T033516Z
CREATED:20260426T033516Z
DTSTART:20260212T191500Z
DTEND:20260212T195500Z
LOCATION:Hull - Pitch 5
CONTACT:
SUMMARY:ABLETICO MADRID  VS. SG FC
DESCRIPTION:League Name: THURS MEN'S 2026 LEAGUE \nGame Type: Regular\nGame
  Status: Complete\nHome Team: ABLETICO MADRID \nAway Team: SG FC\nHome Sco
 re: 15\nAway Score: 15
END:VEVENT
BEGIN:VEVENT
UID:16955713@ezleagues.ezfacility.com
DTSTAMP:20260426T033516Z
CREATED:20260426T033516Z
DTSTART:20260226T183000Z
DTEND:20260226T191000Z
LOCATION:Hull - Pitch 2
CONTACT:
SUMMARY:NETSIX AND CHILL  VS. SG FC
DESCRIPTION:League Name: THURS MEN'S 2026 LEAGUE \nGame Type: Regular\nGame
  Status: Pending\nHome Team: NETSIX AND CHILL \nAway Team: SG FC\n
END:VEVENT
BEGIN:VEVENT
UID:16955709@ezleagues.ezfacility.com
DTSTAMP:20260426T033516Z
CREATED:20260426T033516Z
DTSTART:20260226T191500Z
DTEND:20260226T195500Z
LOCATION:Hull - Pitch 2
CONTACT:
SUMMARY:REALSOSOBAD VS. SG FC
DESCRIPTION:League Name: THURS MEN'S 2026 LEAGUE \nGame Type: Regular\nGame
  Status: Pending\nHome Team: REALSOSOBAD\nAway Team: SG FC\n
END:VEVENT
BEGIN:VEVENT
UID:17099422@ezleagues.ezfacility.com
DTSTAMP:20260426T033516Z
CREATED:20260426T033516Z
DTSTART:20260416T173000Z
DTEND:20260416T181000Z
LOCATION:Hull - Pitch 2
CONTACT:
SUMMARY:DUST BUSTERS FC  VS. SG FC
DESCRIPTION:League Name: THURS MEN'S 2026 LEAGUE \nGame Type: Regular\nGame
  Status: Complete\nHome Team: DUST BUSTERS FC \nAway Team: SG FC\nHome Sco
 re: 18\nAway Score: 6
END:VEVENT
BEGIN:VEVENT
UID:17105276@ezleagues.ezfacility.com
DTSTAMP:20260426T033516Z
CREATED:20260426T033516Z
DTSTART:20260423T181500Z
DTEND:20260423T185500Z
LOCATION:Hull - Pitch 2
CONTACT:
SUMMARY:WINFTON DOGS  VS. SG FC
DESCRIPTION:League Name: THURS MEN'S 2026 LEAGUE \nGame Type: Regular\nGame
  Status: Complete\nHome Team: WINFTON DOGS \nAway Team: SG FC\nHome Score:
  20\nAway Score: 3
END:VEVENT
BEGIN:VEVENT
UID:17105277@ezleagues.ezfacility.com
DTSTAMP:20260426T033516Z
CREATED:20260426T033516Z
DTSTART:20260423T190000Z
DTEND:20260423T194000Z
LOCATION:Hull - Pitch 2
CONTACT:
SUMMARY:HASBEANS FC VS. SG FC
DESCRIPTION:League Name: THURS MEN'S 2026 LEAGUE \nGame Type: Regular\nGame
  Status: Complete\nHome Team: HASBEANS FC\nAway Team: SG FC\nHome Score: 1
 4\nAway Score: 1
END:VEVENT
BEGIN:VEVENT
UID:16955698@ezleagues.ezfacility.com
DTSTAMP:20260426T033516Z
CREATED:20260426T033516Z
DTSTART:20260429T180000Z
DTEND:20260429T184000Z
LOCATION:Hull - Pitch 5
CONTACT:
SUMMARY:SG FC VS. TYLERS TEAM 
DESCRIPTION:League Name: THURS MEN'S 2026 LEAGUE \nGame Type: Regular\nGame
  Status: Pending\nHome Team: SG FC\nAway Team: TYLERS TEAM \n
END:VEVENT
BEGIN:VEVENT
UID:16955721@ezleagues.ezfacility.com
DTSTAMP:20260426T033516Z
CREATED:20260426T033516Z
DTSTART:20260430T173000Z
DTEND:20260430T181000Z
LOCATION:Hull - Pitch 8
CONTACT:
SUMMARY:EAST HULL VS. SG FC
DESCRIPTION:League Name: THURS MEN'S 2026 LEAGUE \nGame Type: Regular\nGame
  Status: Pending\nHome Team: EAST HULL\nAway Team: SG FC\n
END:VEVENT
BEGIN:VEVENT
UID:16955725@ezleagues.ezfacility.com
DTSTAMP:20260426T033516Z
CREATED:20260426T033516Z
DTSTART:20260430T190000Z
DTEND:20260430T194000Z
LOCATION:Hull - Pitch 2
CONTACT:
SUMMARY:SG FC VS. ABLETICO MADRID 
DESCRIPTION:League Name: THURS MEN'S 2026 LEAGUE \nGame Type: Regular\nGame
  Status: Pending\nHome Team: SG FC\nAway Team: ABLETICO MADRID \n
END:VEVENT
BEGIN:VEVENT
UID:16955731@ezleagues.ezfacility.com
DTSTAMP:20260426T033516Z
CREATED:20260426T033516Z
DTSTART:20260507T173000Z
DTEND:20260507T181000Z
LOCATION:Hull - Pitch 6
CONTACT:
SUMMARY:SG FC VS. HASBEANS FC
DESCRIPTION:League Name: THURS MEN'S 2026 LEAGUE \nGame Type: Regular\nGame
  Status: Pending\nHome Team: SG FC\nAway Team: HASBEANS FC\n
END:VEVENT
BEGIN:VEVENT
UID:16955686@ezleagues.ezfacility.com
DTSTAMP:20260426T033516Z
CREATED:20260426T033516Z
DTSTART:20260507T181500Z
DTEND:20260507T185500Z
LOCATION:Hull - Pitch 2
CONTACT:
SUMMARY:HASBEANS FC VS. SG FC
DESCRIPTION:League Name: THURS MEN'S 2026 LEAGUE \nGame Type: Regular\nGame
  Status: Pending\nHome Team: HASBEANS FC\nAway Team: SG FC\n
END:VEVENT
END:VCALENDAR
