BEGIN:VCALENDAR
VERSION:2.0
PRODID:-//EZFacility.com, Inc.//EZL 2.5.5.28621
BEGIN:VEVENT
UID:16955925@ezleagues.ezfacility.com
DTSTAMP:20260426T033416Z
CREATED:20260426T033416Z
DTSTART:20260128T230000Z
DTEND:20260129T000000Z
LOCATION:OZ Dome Indoor Field
CONTACT:Ali
SUMMARY:BBFC (Navy) VS. Holey( Pink)
DESCRIPTION:League Name: Ladies 35+B Spring 2026 indoor\nGame Type: Regular
 \nGame Status: Complete\nHome Team: BBFC (Navy)\nAway Team: Holey( Pink)\n
 Home Score: 5\nAway Score: 2
END:VEVENT
BEGIN:VEVENT
UID:16955930@ezleagues.ezfacility.com
DTSTAMP:20260426T033416Z
CREATED:20260426T033416Z
DTSTART:20260205T000000Z
DTEND:20260205T010000Z
LOCATION:OZ Dome Indoor Field
CONTACT:Ali
SUMMARY:Sole Mates ( Black) VS. Holey( Pink)
DESCRIPTION:League Name: Ladies 35+B Spring 2026 indoor\nGame Type: Regular
 \nGame Status: Complete\nHome Team: Sole Mates ( Black)\nAway Team: Holey(
  Pink)\nHome Score: 4\nAway Score: 1
END:VEVENT
BEGIN:VEVENT
UID:16955935@ezleagues.ezfacility.com
DTSTAMP:20260426T033416Z
CREATED:20260426T033416Z
DTSTART:20260212T010000Z
DTEND:20260212T020000Z
LOCATION:OZ Dome Indoor Field
CONTACT:Ali
SUMMARY:OWU-B (Red) VS. Holey( Pink)
DESCRIPTION:League Name: Ladies 35+B Spring 2026 indoor\nGame Type: Regular
 \nGame Status: Complete\nHome Team: OWU-B (Red)\nAway Team: Holey( Pink)\n
 Home Score: 2\nAway Score: 0
END:VEVENT
BEGIN:VEVENT
UID:16955940@ezleagues.ezfacility.com
DTSTAMP:20260426T033416Z
CREATED:20260426T033416Z
DTSTART:20260219T010000Z
DTEND:20260219T020000Z
LOCATION:OZ Dome Indoor Field
CONTACT:Langwa
SUMMARY:Blue Belles (Royal Blue)) VS. Holey( Pink)
DESCRIPTION:League Name: Ladies 35+B Spring 2026 indoor\nGame Type: Regular
 \nGame Status: Complete\nHome Team: Blue Belles (Royal Blue))\nAway Team: 
 Holey( Pink)\nHome Score: 3\nAway Score: 0
END:VEVENT
BEGIN:VEVENT
UID:16955944@ezleagues.ezfacility.com
DTSTAMP:20260426T033416Z
CREATED:20260426T033416Z
DTSTART:20260225T230000Z
DTEND:20260226T000000Z
LOCATION:OZ Dome Indoor Field
CONTACT:Ali
SUMMARY:Holey( Pink) VS. Just4Kicks ( Red)
DESCRIPTION:League Name: Ladies 35+B Spring 2026 indoor\nGame Type: Regular
 \nGame Status: Complete\nHome Team: Holey( Pink)\nAway Team: Just4Kicks ( 
 Red)\nHome Score: 1\nAway Score: 3
END:VEVENT
BEGIN:VEVENT
UID:16955947@ezleagues.ezfacility.com
DTSTAMP:20260426T033416Z
CREATED:20260426T033416Z
DTSTART:20260304T230000Z
DTEND:20260305T000000Z
LOCATION:OZ Dome Indoor Field
CONTACT:Ali
SUMMARY:Holey( Pink) VS. Tailgaters ( Yellow)
DESCRIPTION:League Name: Ladies 35+B Spring 2026 indoor\nGame Type: Regular
 \nGame Status: Complete\nHome Team: Holey( Pink)\nAway Team: Tailgaters ( 
 Yellow)\nHome Score: 0\nAway Score: 3
END:VEVENT
BEGIN:VEVENT
UID:16955950@ezleagues.ezfacility.com
DTSTAMP:20260426T033416Z
CREATED:20260426T033416Z
DTSTART:20260311T230000Z
DTEND:20260312T000000Z
LOCATION:OZ Dome Indoor Field
CONTACT:Ali
SUMMARY:Hot and Messi (pink) VS. Holey( Pink)
DESCRIPTION:League Name: Ladies 35+B Spring 2026 indoor\nGame Type: Regular
 \nGame Status: Complete\nHome Team: Hot and Messi (pink)\nAway Team: Holey
 ( Pink)\nHome Score: 3\nAway Score: 0
END:VEVENT
BEGIN:VEVENT
UID:16955953@ezleagues.ezfacility.com
DTSTAMP:20260426T033416Z
CREATED:20260426T033416Z
DTSTART:20260319T010000Z
DTEND:20260319T020000Z
LOCATION:OZ Dome Indoor Field
CONTACT:Langwa
SUMMARY:Holey( Pink) VS. BBFC (Navy)
DESCRIPTION:League Name: Ladies 35+B Spring 2026 indoor\nGame Type: Regular
 \nGame Status: Complete\nHome Team: Holey( Pink)\nAway Team: BBFC (Navy)\n
 Home Score: 0\nAway Score: 3
END:VEVENT
BEGIN:VEVENT
UID:16955958@ezleagues.ezfacility.com
DTSTAMP:20260426T033416Z
CREATED:20260426T033416Z
DTSTART:20260326T010000Z
DTEND:20260326T020000Z
LOCATION:OZ Dome Indoor Field
CONTACT:Ali
SUMMARY:Holey( Pink) VS. Sole Mates ( Black)
DESCRIPTION:League Name: Ladies 35+B Spring 2026 indoor\nGame Type: Regular
 \nGame Status: Complete\nHome Team: Holey( Pink)\nAway Team: Sole Mates ( 
 Black)\nHome Score: 2\nAway Score: 9
END:VEVENT
BEGIN:VEVENT
UID:16955963@ezleagues.ezfacility.com
DTSTAMP:20260426T033416Z
CREATED:20260426T033416Z
DTSTART:20260402T010000Z
DTEND:20260402T020000Z
LOCATION:OZ Dome Indoor Field
CONTACT:Ali
SUMMARY:Holey( Pink) VS. OWU-B (Red)
DESCRIPTION:League Name: Ladies 35+B Spring 2026 indoor\nGame Type: Regular
 \nGame Status: Complete\nHome Team: Holey( Pink)\nAway Team: OWU-B (Red)\n
 Home Score: 1\nAway Score: 2
END:VEVENT
BEGIN:VEVENT
UID:16955968@ezleagues.ezfacility.com
DTSTAMP:20260426T033416Z
CREATED:20260426T033416Z
DTSTART:20260408T230000Z
DTEND:20260409T000000Z
LOCATION:OZ Dome Indoor Field
CONTACT:Ali
SUMMARY:Holey( Pink) VS. Blue Belles (Royal Blue))
DESCRIPTION:League Name: Ladies 35+B Spring 2026 indoor\nGame Type: Regular
 \nGame Status: Complete\nHome Team: Holey( Pink)\nAway Team: Blue Belles (
 Royal Blue))\nHome Score: 0\nAway Score: 1
END:VEVENT
BEGIN:VEVENT
UID:16955972@ezleagues.ezfacility.com
DTSTAMP:20260426T033416Z
CREATED:20260426T033416Z
DTSTART:20260416T000000Z
DTEND:20260416T010000Z
LOCATION:OZ Dome Indoor Field
CONTACT:Ali
SUMMARY:Just4Kicks ( Red) VS. Holey( Pink)
DESCRIPTION:League Name: Ladies 35+B Spring 2026 indoor\nGame Type: Regular
 \nGame Status: Complete\nHome Team: Just4Kicks ( Red)\nAway Team: Holey( P
 ink)\nHome Score: 3\nAway Score: 1
END:VEVENT
BEGIN:VEVENT
UID:16955975@ezleagues.ezfacility.com
DTSTAMP:20260426T033416Z
CREATED:20260426T033416Z
DTSTART:20260423T010000Z
DTEND:20260423T020000Z
LOCATION:OZ Dome Indoor Field
CONTACT:Ali
SUMMARY:Tailgaters ( Yellow) VS. Holey( Pink)
DESCRIPTION:League Name: Ladies 35+B Spring 2026 indoor\nGame Type: Regular
 \nGame Status: Complete\nHome Team: Tailgaters ( Yellow)\nAway Team: Holey
 ( Pink)\nHome Score: 4\nAway Score: 2
END:VEVENT
END:VCALENDAR
