BEGIN:VCALENDAR
VERSION:2.0
PRODID:-//EZFacility.com, Inc.//EZL 2.5.5.28621
BEGIN:VEVENT
UID:16955927@ezleagues.ezfacility.com
DTSTAMP:20260421T231752Z
CREATED:20260421T231752Z
DTSTART:20260129T010000Z
DTEND:20260129T020000Z
LOCATION:OZ Dome Indoor Field
CONTACT:Ali
SUMMARY:Sole Mates ( Black) VS. Hot and Messi (pink)
DESCRIPTION:League Name: Ladies 35+B Spring 2026 indoor\nGame Type: Regular
 \nGame Status: Complete\nHome Team: Sole Mates ( Black)\nAway Team: Hot an
 d Messi (pink)\nHome Score: 0\nAway Score: 1
END:VEVENT
BEGIN:VEVENT
UID:16955932@ezleagues.ezfacility.com
DTSTAMP:20260421T231752Z
CREATED:20260421T231752Z
DTSTART:20260205T020000Z
DTEND:20260205T030000Z
LOCATION:OZ Dome Indoor Field
CONTACT:Ali
SUMMARY:OWU-B (Red) VS. Hot and Messi (pink)
DESCRIPTION:League Name: Ladies 35+B Spring 2026 indoor\nGame Type: Regular
 \nGame Status: Complete\nHome Team: OWU-B (Red)\nAway Team: Hot and Messi 
 (pink)\nHome Score: 0\nAway Score: 1
END:VEVENT
BEGIN:VEVENT
UID:16955936@ezleagues.ezfacility.com
DTSTAMP:20260421T231752Z
CREATED:20260421T231752Z
DTSTART:20260212T000000Z
DTEND:20260212T010000Z
LOCATION:OZ Dome Indoor Field
CONTACT:Ali
SUMMARY:Hot and Messi (pink) VS. Blue Belles (Royal Blue))
DESCRIPTION:League Name: Ladies 35+B Spring 2026 indoor\nGame Type: Regular
 \nGame Status: Complete\nHome Team: Hot and Messi (pink)\nAway Team: Blue 
 Belles (Royal Blue))\nHome Score: 6\nAway Score: 0
END:VEVENT
BEGIN:VEVENT
UID:16955939@ezleagues.ezfacility.com
DTSTAMP:20260421T231752Z
CREATED:20260421T231752Z
DTSTART:20260219T020000Z
DTEND:20260219T030000Z
LOCATION:OZ Dome Indoor Field
CONTACT:Langwa
SUMMARY:Hot and Messi (pink) VS. Just4Kicks ( Red)
DESCRIPTION:League Name: Ladies 35+B Spring 2026 indoor\nGame Type: Regular
 \nGame Status: Complete\nHome Team: Hot and Messi (pink)\nAway Team: Just4
 Kicks ( Red)\nHome Score: 5\nAway Score: 3
END:VEVENT
BEGIN:VEVENT
UID:16955942@ezleagues.ezfacility.com
DTSTAMP:20260421T231752Z
CREATED:20260421T231752Z
DTSTART:20260226T010000Z
DTEND:20260226T020000Z
LOCATION:OZ Dome Indoor Field
CONTACT:Ali
SUMMARY:Hot and Messi (pink) VS. Tailgaters ( Yellow)
DESCRIPTION:League Name: Ladies 35+B Spring 2026 indoor\nGame Type: Regular
 \nGame Status: Complete\nHome Team: Hot and Messi (pink)\nAway Team: Tailg
 aters ( Yellow)\nHome Score: 1\nAway Score: 2
END:VEVENT
BEGIN:VEVENT
UID:16955945@ezleagues.ezfacility.com
DTSTAMP:20260421T231752Z
CREATED:20260421T231752Z
DTSTART:20260305T020000Z
DTEND:20260305T030000Z
LOCATION:OZ Dome Indoor Field
CONTACT:Ali
SUMMARY:BBFC (Navy) VS. Hot and Messi (pink)
DESCRIPTION:League Name: Ladies 35+B Spring 2026 indoor\nGame Type: Regular
 \nGame Status: Complete\nHome Team: BBFC (Navy)\nAway Team: Hot and Messi 
 (pink)\nHome Score: 1\nAway Score: 2
END:VEVENT
BEGIN:VEVENT
UID:16955950@ezleagues.ezfacility.com
DTSTAMP:20260421T231752Z
CREATED:20260421T231752Z
DTSTART:20260311T230000Z
DTEND:20260312T000000Z
LOCATION:OZ Dome Indoor Field
CONTACT:Ali
SUMMARY:Hot and Messi (pink) VS. Holey( Pink)
DESCRIPTION:League Name: Ladies 35+B Spring 2026 indoor\nGame Type: Regular
 \nGame Status: Complete\nHome Team: Hot and Messi (pink)\nAway Team: Holey
 ( Pink)\nHome Score: 3\nAway Score: 0
END:VEVENT
BEGIN:VEVENT
UID:16955955@ezleagues.ezfacility.com
DTSTAMP:20260421T231752Z
CREATED:20260421T231752Z
DTSTART:20260318T220000Z
DTEND:20260318T230000Z
LOCATION:OZ Dome Indoor Field
CONTACT:Ali
SUMMARY:Hot and Messi (pink) VS. Sole Mates ( Black)
DESCRIPTION:League Name: Ladies 35+B Spring 2026 indoor\nGame Type: Regular
 \nGame Status: Complete\nHome Team: Hot and Messi (pink)\nAway Team: Sole 
 Mates ( Black)\nHome Score: 1\nAway Score: 0
END:VEVENT
BEGIN:VEVENT
UID:16955960@ezleagues.ezfacility.com
DTSTAMP:20260421T231752Z
CREATED:20260421T231752Z
DTSTART:20260325T230000Z
DTEND:20260326T000000Z
LOCATION:OZ Dome Indoor Field
CONTACT:Ali
SUMMARY:Hot and Messi (pink) VS. OWU-B (Red)
DESCRIPTION:League Name: Ladies 35+B Spring 2026 indoor\nGame Type: Regular
 \nGame Status: Complete\nHome Team: Hot and Messi (pink)\nAway Team: OWU-B
  (Red)\nHome Score: 1\nAway Score: 1
END:VEVENT
BEGIN:VEVENT
UID:16955964@ezleagues.ezfacility.com
DTSTAMP:20260421T231752Z
CREATED:20260421T231752Z
DTSTART:20260402T000000Z
DTEND:20260402T010000Z
LOCATION:OZ Dome Indoor Field
CONTACT:Ali
SUMMARY:Blue Belles (Royal Blue)) VS. Hot and Messi (pink)
DESCRIPTION:League Name: Ladies 35+B Spring 2026 indoor\nGame Type: Regular
 \nGame Status: Complete\nHome Team: Blue Belles (Royal Blue))\nAway Team: 
 Hot and Messi (pink)\nHome Score: 0\nAway Score: 7
END:VEVENT
BEGIN:VEVENT
UID:16955967@ezleagues.ezfacility.com
DTSTAMP:20260421T231752Z
CREATED:20260421T231752Z
DTSTART:20260408T220000Z
DTEND:20260408T230000Z
LOCATION:OZ Dome Indoor Field
CONTACT:Ali
SUMMARY:Just4Kicks ( Red) VS. Hot and Messi (pink)
DESCRIPTION:League Name: Ladies 35+B Spring 2026 indoor\nGame Type: Regular
 \nGame Status: Complete\nHome Team: Just4Kicks ( Red)\nAway Team: Hot and 
 Messi (pink)\nHome Score: 0\nAway Score: 5
END:VEVENT
BEGIN:VEVENT
UID:16955970@ezleagues.ezfacility.com
DTSTAMP:20260421T231752Z
CREATED:20260421T231752Z
DTSTART:20260416T010000Z
DTEND:20260416T020000Z
LOCATION:OZ Dome Indoor Field
CONTACT:Ali
SUMMARY:Tailgaters ( Yellow) VS. Hot and Messi (pink)
DESCRIPTION:League Name: Ladies 35+B Spring 2026 indoor\nGame Type: Regular
 \nGame Status: Complete\nHome Team: Tailgaters ( Yellow)\nAway Team: Hot a
 nd Messi (pink)\nHome Score: 1\nAway Score: 3
END:VEVENT
BEGIN:VEVENT
UID:16955973@ezleagues.ezfacility.com
DTSTAMP:20260421T231752Z
CREATED:20260421T231752Z
DTSTART:20260422T230000Z
DTEND:20260423T000000Z
LOCATION:OZ Dome Indoor Field
CONTACT:Ali
SUMMARY:Hot and Messi (pink) VS. BBFC (Navy)
DESCRIPTION:League Name: Ladies 35+B Spring 2026 indoor\nGame Type: Regular
 \nGame Status: Pending\nHome Team: Hot and Messi (pink)\nAway Team: BBFC (
 Navy)\n
END:VEVENT
END:VCALENDAR
