BEGIN:VCALENDAR
VERSION:2.0
PRODID:-//EZFacility.com, Inc.//EZL 2.5.5.28621
BEGIN:VEVENT
UID:16957379@ezleagues.ezfacility.com
DTSTAMP:20260426T033417Z
CREATED:20260426T033417Z
DTSTART:20260113T020000Z
DTEND:20260113T030000Z
LOCATION:Turf 1
CONTACT:
SUMMARY:Venom     VS. Donovan FC
DESCRIPTION:League Name: CO-ED A SOCCER (JAN.2026)\nGame Type: Regular\nGam
 e Status: Complete\nHome Team: Venom    \nAway Team: Donovan FC\nHome Scor
 e: 7\nAway Score: 7
END:VEVENT
BEGIN:VEVENT
UID:16957459@ezleagues.ezfacility.com
DTSTAMP:20260426T033417Z
CREATED:20260426T033417Z
DTSTART:20260120T030000Z
DTEND:20260120T040000Z
LOCATION:Turf 1
CONTACT:
SUMMARY:KFC     VS. Venom    
DESCRIPTION:League Name: CO-ED A SOCCER (JAN.2026)\nGame Type: Regular\nGam
 e Status: Complete\nHome Team: KFC    \nAway Team: Venom    \nHome Score: 
 6\nAway Score: 8
END:VEVENT
BEGIN:VEVENT
UID:16980915@ezleagues.ezfacility.com
DTSTAMP:20260426T033417Z
CREATED:20260426T033417Z
DTSTART:20260127T010000Z
DTEND:20260127T020000Z
LOCATION:Turf 1
CONTACT:
SUMMARY:Venom     VS. Cleats and Cleavage 
DESCRIPTION:League Name: CO-ED A SOCCER (JAN.2026)\nGame Type: Regular\nGam
 e Status: Complete\nHome Team: Venom    \nAway Team: Cleats and Cleavage \
 nHome Score: 5\nAway Score: 7
END:VEVENT
BEGIN:VEVENT
UID:16980925@ezleagues.ezfacility.com
DTSTAMP:20260426T033417Z
CREATED:20260426T033417Z
DTSTART:20260203T030000Z
DTEND:20260203T040000Z
LOCATION:Turf 2
CONTACT:
SUMMARY:Sacks  Racks United  VS. Venom    
DESCRIPTION:League Name: CO-ED A SOCCER (JAN.2026)\nGame Type: Regular\nGam
 e Status: Complete\nHome Team: Sacks  Racks United \nAway Team: Venom    \
 nHome Score: 3\nAway Score: 4
END:VEVENT
BEGIN:VEVENT
UID:16980932@ezleagues.ezfacility.com
DTSTAMP:20260426T033417Z
CREATED:20260426T033417Z
DTSTART:20260210T030000Z
DTEND:20260210T040000Z
LOCATION:Turf 2
CONTACT:
SUMMARY:Venom     VS. Connor fc
DESCRIPTION:League Name: CO-ED A SOCCER (JAN.2026)\nGame Type: Regular\nGam
 e Status: Complete\nHome Team: Venom    \nAway Team: Connor fc\nHome Score
 : 2\nAway Score: 3
END:VEVENT
BEGIN:VEVENT
UID:17013865@ezleagues.ezfacility.com
DTSTAMP:20260426T033417Z
CREATED:20260426T033417Z
DTSTART:20260217T010000Z
DTEND:20260217T020000Z
LOCATION:Turf 1
CONTACT:
SUMMARY:Smash or Pass VS. Venom    
DESCRIPTION:League Name: CO-ED A SOCCER (JAN.2026)\nGame Type: Regular\nGam
 e Status: Complete\nHome Team: Smash or Pass\nAway Team: Venom    \nHome S
 core: 1\nAway Score: 3
END:VEVENT
BEGIN:VEVENT
UID:17013893@ezleagues.ezfacility.com
DTSTAMP:20260426T033417Z
CREATED:20260426T033417Z
DTSTART:20260303T030000Z
DTEND:20260303T040000Z
LOCATION:Turf 1
CONTACT:
SUMMARY:Venom     VS. Pro-Line FC   
DESCRIPTION:League Name: CO-ED A SOCCER (JAN.2026)\nGame Type: Regular\nGam
 e Status: Complete\nHome Team: Venom    \nAway Team: Pro-Line FC   \nHome 
 Score: 3\nAway Score: 8
END:VEVENT
BEGIN:VEVENT
UID:17013914@ezleagues.ezfacility.com
DTSTAMP:20260426T033417Z
CREATED:20260426T033417Z
DTSTART:20260310T000000Z
DTEND:20260310T010000Z
LOCATION:Turf 2
CONTACT:
SUMMARY:Venom     VS. SMAST FC  
DESCRIPTION:League Name: CO-ED A SOCCER (JAN.2026)\nGame Type: Regular\nGam
 e Status: Complete\nHome Team: Venom    \nAway Team: SMAST FC  \nHome Scor
 e: 8\nAway Score: 6
END:VEVENT
BEGIN:VEVENT
UID:17013917@ezleagues.ezfacility.com
DTSTAMP:20260426T033417Z
CREATED:20260426T033417Z
DTSTART:20260317T010000Z
DTEND:20260317T020000Z
LOCATION:Turf 1
CONTACT:
SUMMARY:Venom     VS. Belmont FC 
DESCRIPTION:League Name: CO-ED A SOCCER (JAN.2026)\nGame Type: Regular\nGam
 e Status: Complete\nHome Team: Venom    \nAway Team: Belmont FC \nHome Sco
 re: 7\nAway Score: 8
END:VEVENT
BEGIN:VEVENT
UID:17013961@ezleagues.ezfacility.com
DTSTAMP:20260426T033417Z
CREATED:20260426T033417Z
DTSTART:20260324T010000Z
DTEND:20260324T020000Z
LOCATION:Turf 2
CONTACT:
SUMMARY:Longplex VS. Venom    
DESCRIPTION:League Name: CO-ED A SOCCER (JAN.2026)\nGame Type: Regular\nGam
 e Status: Complete\nHome Team: Longplex\nAway Team: Venom    \nHome Score:
  2\nAway Score: 7
END:VEVENT
BEGIN:VEVENT
UID:17013965@ezleagues.ezfacility.com
DTSTAMP:20260426T033417Z
CREATED:20260426T033417Z
DTSTART:20260331T020000Z
DTEND:20260331T030000Z
LOCATION:Turf 1
CONTACT:
SUMMARY:Donovan FC VS. Venom    
DESCRIPTION:League Name: CO-ED A SOCCER (JAN.2026)\nGame Type: Regular\nGam
 e Status: Complete\nHome Team: Donovan FC\nAway Team: Venom    \nHome Scor
 e: 8\nAway Score: 4
END:VEVENT
BEGIN:VEVENT
UID:17013969@ezleagues.ezfacility.com
DTSTAMP:20260426T033417Z
CREATED:20260426T033417Z
DTSTART:20260407T000000Z
DTEND:20260407T010000Z
LOCATION:Turf 1
CONTACT:
SUMMARY:Venom     VS. Smash or Pass
DESCRIPTION:League Name: CO-ED A SOCCER (JAN.2026)\nGame Type: Regular\nGam
 e Status: Complete\nHome Team: Venom    \nAway Team: Smash or Pass\nHome S
 core: 5\nAway Score: 1
END:VEVENT
BEGIN:VEVENT
UID:17013887@ezleagues.ezfacility.com
DTSTAMP:20260426T033417Z
CREATED:20260426T033417Z
DTSTART:20260414T000000Z
DTEND:20260414T010000Z
LOCATION:Turf 2
CONTACT:
SUMMARY:Prestige Worldwide   VS. Venom    
DESCRIPTION:League Name: CO-ED A SOCCER (JAN.2026)\nGame Type: Regular\nGam
 e Status: Complete\nHome Team: Prestige Worldwide  \nAway Team: Venom    \
 nHome Score: 5\nAway Score: 2
END:VEVENT
BEGIN:VEVENT
UID:17059117@ezleagues.ezfacility.com
DTSTAMP:20260426T033417Z
CREATED:20260426T033417Z
DTSTART:20260420T230000Z
DTEND:20260421T000000Z
LOCATION:Turf 2
CONTACT:
SUMMARY:Venom     VS. KFC    
DESCRIPTION:League Name: CO-ED A SOCCER (JAN.2026)\nGame Type: Regular\nGam
 e Status: Complete\nHome Team: Venom    \nAway Team: KFC    \nHome Score: 
 5\nAway Score: 6
END:VEVENT
BEGIN:VEVENT
UID:17059239@ezleagues.ezfacility.com
DTSTAMP:20260426T033417Z
CREATED:20260426T033417Z
DTSTART:20260428T010000Z
DTEND:20260428T020000Z
LOCATION:Turf 2
CONTACT:
SUMMARY:Cleats and Cleavage  VS. Venom    
DESCRIPTION:League Name: CO-ED A SOCCER (JAN.2026)\nGame Type: Regular\nGam
 e Status: Pending\nHome Team: Cleats and Cleavage \nAway Team: Venom    \n
END:VEVENT
END:VCALENDAR
