BEGIN:VCALENDAR
VERSION:2.0
PRODID:-//EZFacility.com, Inc.//EZL 2.5.5.28621
BEGIN:VEVENT
UID:16957997@ezleagues.ezfacility.com
DTSTAMP:20260424T025825Z
CREATED:20260424T025825Z
DTSTART:20251213T192500Z
DTEND:20251213T200500Z
LOCATION:Field 1B
CONTACT:
SUMMARY:CSA(2014-2015) VS. Takoma Park Dreamers 2014
DESCRIPTION:League Name: U12 (2014) - 25/26 Youth Indoor Season - 5v5 Futsa
 l\nGame Type: Regular\nGame Status: Pending\nHome Team: CSA(2014-2015)\nAw
 ay Team: Takoma Park Dreamers 2014\n
END:VEVENT
BEGIN:VEVENT
UID:16958004@ezleagues.ezfacility.com
DTSTAMP:20260424T025825Z
CREATED:20260424T025825Z
DTSTART:20260103T192500Z
DTEND:20260103T200500Z
LOCATION:Field 2B
CONTACT:
SUMMARY:One Nation 2015 VS. Takoma Park Dreamers 2014
DESCRIPTION:League Name: U12 (2014) - 25/26 Youth Indoor Season - 5v5 Futsa
 l\nGame Type: Regular\nGame Status: Cancelled\nHome Team: One Nation 2015\
 nAway Team: Takoma Park Dreamers 2014\n
END:VEVENT
BEGIN:VEVENT
UID:16958001@ezleagues.ezfacility.com
DTSTAMP:20260424T025825Z
CREATED:20260424T025825Z
DTSTART:20260110T192500Z
DTEND:20260110T200500Z
LOCATION:Field 2B
CONTACT:
SUMMARY:UES White 2014 VS. Takoma Park Dreamers 2014
DESCRIPTION:League Name: U12 (2014) - 25/26 Youth Indoor Season - 5v5 Futsa
 l\nGame Type: Regular\nGame Status: Complete\nHome Team: UES White 2014\nA
 way Team: Takoma Park Dreamers 2014\nHome Score: 3\nAway Score: 0
END:VEVENT
BEGIN:VEVENT
UID:16958012@ezleagues.ezfacility.com
DTSTAMP:20260424T025825Z
CREATED:20260424T025825Z
DTSTART:20260117T192500Z
DTEND:20260117T200500Z
LOCATION:Field 1B
CONTACT:
SUMMARY:Takoma Park Dreamers 2014 VS. CSA(2014-2015)
DESCRIPTION:League Name: U12 (2014) - 25/26 Youth Indoor Season - 5v5 Futsa
 l\nGame Type: Regular\nGame Status: Complete\nHome Team: Takoma Park Dream
 ers 2014\nAway Team: CSA(2014-2015)\nHome Score: 5\nAway Score: 3
END:VEVENT
BEGIN:VEVENT
UID:16958006@ezleagues.ezfacility.com
DTSTAMP:20260424T025825Z
CREATED:20260424T025825Z
DTSTART:20260124T192500Z
DTEND:20260124T200500Z
LOCATION:Field 2A
CONTACT:
SUMMARY:UES Black 2014 VS. Takoma Park Dreamers 2014
DESCRIPTION:League Name: U12 (2014) - 25/26 Youth Indoor Season - 5v5 Futsa
 l\nGame Type: Regular\nGame Status: Complete\nHome Team: UES Black 2014\nA
 way Team: Takoma Park Dreamers 2014\nHome Score: 5\nAway Score: 1
END:VEVENT
BEGIN:VEVENT
UID:16958008@ezleagues.ezfacility.com
DTSTAMP:20260424T025825Z
CREATED:20260424T025825Z
DTSTART:20260131T192500Z
DTEND:20260131T200500Z
LOCATION:Field 2B
CONTACT:
SUMMARY:Takoma Park Dreamers 2014 VS. Avengers 2014
DESCRIPTION:League Name: U12 (2014) - 25/26 Youth Indoor Season - 5v5 Futsa
 l\nGame Type: Regular\nGame Status: Complete\nHome Team: Takoma Park Dream
 ers 2014\nAway Team: Avengers 2014\nHome Score: 5\nAway Score: 0
END:VEVENT
BEGIN:VEVENT
UID:16957991@ezleagues.ezfacility.com
DTSTAMP:20260424T025825Z
CREATED:20260424T025825Z
DTSTART:20260207T192500Z
DTEND:20260207T200500Z
LOCATION:Field 2A
CONTACT:
SUMMARY:Takoma Park Dreamers 2014 VS. UES Black 2014
DESCRIPTION:League Name: U12 (2014) - 25/26 Youth Indoor Season - 5v5 Futsa
 l\nGame Type: Regular\nGame Status: Complete\nHome Team: Takoma Park Dream
 ers 2014\nAway Team: UES Black 2014\nHome Score: 4\nAway Score: 3
END:VEVENT
BEGIN:VEVENT
UID:16958016@ezleagues.ezfacility.com
DTSTAMP:20260424T025825Z
CREATED:20260424T025825Z
DTSTART:20260214T192500Z
DTEND:20260214T200500Z
LOCATION:Field 2A
CONTACT:
SUMMARY:Takoma Park Dreamers 2014 VS. UES White 2014
DESCRIPTION:League Name: U12 (2014) - 25/26 Youth Indoor Season - 5v5 Futsa
 l\nGame Type: Regular\nGame Status: Complete\nHome Team: Takoma Park Dream
 ers 2014\nAway Team: UES White 2014\nHome Score: 3\nAway Score: 10
END:VEVENT
BEGIN:VEVENT
UID:16957989@ezleagues.ezfacility.com
DTSTAMP:20260424T025825Z
CREATED:20260424T025825Z
DTSTART:20260221T192500Z
DTEND:20260221T200500Z
LOCATION:Field 2B
CONTACT:
SUMMARY:Takoma Park Dreamers 2014 VS. One Nation 2015
DESCRIPTION:League Name: U12 (2014) - 25/26 Youth Indoor Season - 5v5 Futsa
 l\nGame Type: Regular\nGame Status: Complete\nHome Team: Takoma Park Dream
 ers 2014\nAway Team: One Nation 2015\nHome Score: 6\nAway Score: 2
END:VEVENT
BEGIN:VEVENT
UID:16957993@ezleagues.ezfacility.com
DTSTAMP:20260424T025825Z
CREATED:20260424T025825Z
DTSTART:20260228T192500Z
DTEND:20260228T200500Z
LOCATION:Field 2A
CONTACT:
SUMMARY:Avengers 2014 VS. Takoma Park Dreamers 2014
DESCRIPTION:League Name: U12 (2014) - 25/26 Youth Indoor Season - 5v5 Futsa
 l\nGame Type: Regular\nGame Status: Complete\nHome Team: Avengers 2014\nAw
 ay Team: Takoma Park Dreamers 2014\nHome Score: 0\nAway Score: 4
END:VEVENT
END:VCALENDAR
