BEGIN:VCALENDAR
VERSION:2.0
PRODID:-//EZFacility.com, Inc.//EZL 2.5.5.28621
BEGIN:VEVENT
UID:16958166@ezleagues.ezfacility.com
DTSTAMP:20260420T010313Z
CREATED:20260420T010313Z
DTSTART:20260109T223000Z
DTEND:20260109T224500Z
LOCATION:Small Gym
CONTACT:
SUMMARY:ATO 1 Dagestan VS. Team Bingle
DESCRIPTION:League Name: Raquetball- Men’s\nGame Type: Regular\nGame Stat
 us: Complete\nHome Team: ATO 1 Dagestan\nAway Team: Team Bingle\nHome Scor
 e: 15\nAway Score: 4
END:VEVENT
BEGIN:VEVENT
UID:16958168@ezleagues.ezfacility.com
DTSTAMP:20260420T010313Z
CREATED:20260420T010313Z
DTSTART:20260109T230000Z
DTEND:20260109T231500Z
LOCATION:Small Gym
CONTACT:
SUMMARY:SAE Hobbits VS. Team Bingle
DESCRIPTION:League Name: Raquetball- Men’s\nGame Type: Regular\nGame Stat
 us: Complete\nHome Team: SAE Hobbits\nAway Team: Team Bingle\nHome Score: 
 15\nAway Score: 4
END:VEVENT
END:VCALENDAR
