BEGIN:VCALENDAR
VERSION:2.0
PRODID:-//EZFacility.com, Inc.//EZL 2.5.5.28621
BEGIN:VEVENT
UID:16958277@ezleagues.ezfacility.com
DTSTAMP:20260426T033433Z
CREATED:20260426T033433Z
DTSTART:20260118T180000Z
DTEND:20260118T190000Z
LOCATION:OZ Dome Indoor Field
CONTACT:Ali
SUMMARY:BBFC (Navy) VS. OWU-A (Red)
DESCRIPTION:League Name: Ladies 35+A Spring 2026 indoor (\nGame Type: Regul
 ar\nGame Status: Complete\nHome Team: BBFC (Navy)\nAway Team: OWU-A (Red)\
 nHome Score: 0\nAway Score: 0
END:VEVENT
BEGIN:VEVENT
UID:16958281@ezleagues.ezfacility.com
DTSTAMP:20260426T033433Z
CREATED:20260426T033433Z
DTSTART:20260125T190000Z
DTEND:20260125T200000Z
LOCATION:OZ Dome Indoor Field
CONTACT:Ali
SUMMARY:Yellow Cards (Yellow) VS. OWU-A (Red)
DESCRIPTION:League Name: Ladies 35+A Spring 2026 indoor (\nGame Type: Regul
 ar\nGame Status: Complete\nHome Team: Yellow Cards (Yellow)\nAway Team: OW
 U-A (Red)\nHome Score: 0\nAway Score: 2
END:VEVENT
BEGIN:VEVENT
UID:16958285@ezleagues.ezfacility.com
DTSTAMP:20260426T033433Z
CREATED:20260426T033433Z
DTSTART:20260201T200000Z
DTEND:20260201T210000Z
LOCATION:OZ Dome Indoor Field
CONTACT:Ali
SUMMARY:Hammers (Burgundy) VS. OWU-A (Red)
DESCRIPTION:League Name: Ladies 35+A Spring 2026 indoor (\nGame Type: Regul
 ar\nGame Status: Complete\nHome Team: Hammers (Burgundy)\nAway Team: OWU-A
  (Red)\nHome Score: 3\nAway Score: 0
END:VEVENT
BEGIN:VEVENT
UID:16958288@ezleagues.ezfacility.com
DTSTAMP:20260426T033433Z
CREATED:20260426T033433Z
DTSTART:20260208T200000Z
DTEND:20260208T210000Z
LOCATION:OZ Dome Indoor Field
CONTACT:Ali
SUMMARY:OWU-A (Red) VS. Surf 'n Turf(Turquoise)
DESCRIPTION:League Name: Ladies 35+A Spring 2026 indoor (\nGame Type: Regul
 ar\nGame Status: Complete\nHome Team: OWU-A (Red)\nAway Team: Surf 'n Turf
 (Turquoise)\nHome Score: 3\nAway Score: 1
END:VEVENT
BEGIN:VEVENT
UID:16958290@ezleagues.ezfacility.com
DTSTAMP:20260426T033433Z
CREATED:20260426T033433Z
DTSTART:20260215T180000Z
DTEND:20260215T190000Z
LOCATION:OZ Dome Indoor Field
CONTACT:Ali
SUMMARY:OWU-A (Red) VS. Soccer Pitches (white)
DESCRIPTION:League Name: Ladies 35+A Spring 2026 indoor (\nGame Type: Regul
 ar\nGame Status: Complete\nHome Team: OWU-A (Red)\nAway Team: Soccer Pitch
 es (white)\nHome Score: 0\nAway Score: 3
END:VEVENT
BEGIN:VEVENT
UID:16958292@ezleagues.ezfacility.com
DTSTAMP:20260426T033433Z
CREATED:20260426T033433Z
DTSTART:20260222T190000Z
DTEND:20260222T200000Z
LOCATION:OZ Dome Indoor Field
CONTACT:Ali
SUMMARY:BBFC (Navy) VS. OWU-A (Red)
DESCRIPTION:League Name: Ladies 35+A Spring 2026 indoor (\nGame Type: Regul
 ar\nGame Status: Complete\nHome Team: BBFC (Navy)\nAway Team: OWU-A (Red)\
 nHome Score: 0\nAway Score: 0
END:VEVENT
BEGIN:VEVENT
UID:16958296@ezleagues.ezfacility.com
DTSTAMP:20260426T033433Z
CREATED:20260426T033433Z
DTSTART:20260301T190000Z
DTEND:20260301T200000Z
LOCATION:OZ Dome Indoor Field
CONTACT:Ali
SUMMARY:OWU-A (Red) VS. Yellow Cards (Yellow)
DESCRIPTION:League Name: Ladies 35+A Spring 2026 indoor (\nGame Type: Regul
 ar\nGame Status: Complete\nHome Team: OWU-A (Red)\nAway Team: Yellow Cards
  (Yellow)\nHome Score: 0\nAway Score: 2
END:VEVENT
BEGIN:VEVENT
UID:16958300@ezleagues.ezfacility.com
DTSTAMP:20260426T033433Z
CREATED:20260426T033433Z
DTSTART:20260308T180000Z
DTEND:20260308T190000Z
LOCATION:OZ Dome Indoor Field
CONTACT:Ali
SUMMARY:OWU-A (Red) VS. Hammers (Burgundy)
DESCRIPTION:League Name: Ladies 35+A Spring 2026 indoor (\nGame Type: Regul
 ar\nGame Status: Complete\nHome Team: OWU-A (Red)\nAway Team: Hammers (Bur
 gundy)\nHome Score: 1\nAway Score: 3
END:VEVENT
BEGIN:VEVENT
UID:16958303@ezleagues.ezfacility.com
DTSTAMP:20260426T033433Z
CREATED:20260426T033433Z
DTSTART:20260315T190000Z
DTEND:20260315T200000Z
LOCATION:OZ Dome Indoor Field
CONTACT:Ali
SUMMARY:Surf 'n Turf(Turquoise) VS. OWU-A (Red)
DESCRIPTION:League Name: Ladies 35+A Spring 2026 indoor (\nGame Type: Regul
 ar\nGame Status: Complete\nHome Team: Surf 'n Turf(Turquoise)\nAway Team: 
 OWU-A (Red)\nHome Score: 0\nAway Score: 2
END:VEVENT
BEGIN:VEVENT
UID:16958305@ezleagues.ezfacility.com
DTSTAMP:20260426T033433Z
CREATED:20260426T033433Z
DTSTART:20260322T170000Z
DTEND:20260322T180000Z
LOCATION:OZ Dome Indoor Field
CONTACT:Ali
SUMMARY:Soccer Pitches (white) VS. OWU-A (Red)
DESCRIPTION:League Name: Ladies 35+A Spring 2026 indoor (\nGame Type: Regul
 ar\nGame Status: Complete\nHome Team: Soccer Pitches (white)\nAway Team: O
 WU-A (Red)\nHome Score: 2\nAway Score: 0
END:VEVENT
BEGIN:VEVENT
UID:16958307@ezleagues.ezfacility.com
DTSTAMP:20260426T033433Z
CREATED:20260426T033433Z
DTSTART:20260329T170000Z
DTEND:20260329T180000Z
LOCATION:OZ Dome Indoor Field
CONTACT:Ali
SUMMARY:OWU-A (Red) VS. BBFC (Navy)
DESCRIPTION:League Name: Ladies 35+A Spring 2026 indoor (\nGame Type: Regul
 ar\nGame Status: Complete\nHome Team: OWU-A (Red)\nAway Team: BBFC (Navy)\
 nHome Score: 0\nAway Score: 1
END:VEVENT
BEGIN:VEVENT
UID:16958315@ezleagues.ezfacility.com
DTSTAMP:20260426T033433Z
CREATED:20260426T033433Z
DTSTART:20260412T190000Z
DTEND:20260412T200000Z
LOCATION:OZ Dome Indoor Field
CONTACT:Ali
SUMMARY:OWU-A (Red) VS. Hammers (Burgundy)
DESCRIPTION:League Name: Ladies 35+A Spring 2026 indoor (\nGame Type: Regul
 ar\nGame Status: Complete\nHome Team: OWU-A (Red)\nAway Team: Hammers (Bur
 gundy)\nHome Score: 1\nAway Score: 0
END:VEVENT
BEGIN:VEVENT
UID:16958311@ezleagues.ezfacility.com
DTSTAMP:20260426T033433Z
CREATED:20260426T033433Z
DTSTART:20260419T180000Z
DTEND:20260419T190000Z
LOCATION:OZ Dome Indoor Field
CONTACT:Ali
SUMMARY:OWU-A (Red) VS. Yellow Cards (Yellow)
DESCRIPTION:League Name: Ladies 35+A Spring 2026 indoor (\nGame Type: Regul
 ar\nGame Status: Pending\nHome Team: OWU-A (Red)\nAway Team: Yellow Cards 
 (Yellow)\n
END:VEVENT
END:VCALENDAR
