BEGIN:VCALENDAR
VERSION:2.0
PRODID:-//EZFacility.com, Inc.//EZL 2.5.5.28621
BEGIN:VEVENT
UID:16958903@ezleagues.ezfacility.com
DTSTAMP:20260426T033742Z
CREATED:20260426T033742Z
DTSTART:20260113T020000Z
DTEND:20260113T025000Z
LOCATION:TBKBSC South Indoor Soccer Fie
CONTACT:
SUMMARY:PV Navy VS. AHS
DESCRIPTION:League Name: Winter 2025-2026 High School Girls Gold Winter Soc
 cer League- Session 2\nGame Type: Regular\nGame Status: Pending\nHome Team
 : PV Navy\nAway Team: AHS\n
END:VEVENT
BEGIN:VEVENT
UID:16958909@ezleagues.ezfacility.com
DTSTAMP:20260426T033742Z
CREATED:20260426T033742Z
DTSTART:20260127T020000Z
DTEND:20260127T025000Z
LOCATION:TBKBSC North Indoor Soccer Fie
CONTACT:
SUMMARY:AHS VS. PV White
DESCRIPTION:League Name: Winter 2025-2026 High School Girls Gold Winter Soc
 cer League- Session 2\nGame Type: Regular\nGame Status: Complete\nHome Tea
 m: AHS\nAway Team: PV White\nHome Score: 0\nAway Score: 2
END:VEVENT
BEGIN:VEVENT
UID:16958918@ezleagues.ezfacility.com
DTSTAMP:20260426T033742Z
CREATED:20260426T033742Z
DTSTART:20260203T020000Z
DTEND:20260203T025000Z
LOCATION:TBKBSC North Indoor Soccer Fie
CONTACT:
SUMMARY:Bettendorf Gold VS. AHS
DESCRIPTION:League Name: Winter 2025-2026 High School Girls Gold Winter Soc
 cer League- Session 2\nGame Type: Regular\nGame Status: Complete\nHome Tea
 m: Bettendorf Gold\nAway Team: AHS\nHome Score: 4\nAway Score: 0
END:VEVENT
BEGIN:VEVENT
UID:16958919@ezleagues.ezfacility.com
DTSTAMP:20260426T033742Z
CREATED:20260426T033742Z
DTSTART:20260210T025000Z
DTEND:20260210T034000Z
LOCATION:TBKBSC North Indoor Soccer Fie
CONTACT:
SUMMARY:AHS VS. UTHS GOLD
DESCRIPTION:League Name: Winter 2025-2026 High School Girls Gold Winter Soc
 cer League- Session 2\nGame Type: Regular\nGame Status: Complete\nHome Tea
 m: AHS\nAway Team: UTHS GOLD\nHome Score: 2\nAway Score: 5
END:VEVENT
BEGIN:VEVENT
UID:16958907@ezleagues.ezfacility.com
DTSTAMP:20260426T033742Z
CREATED:20260426T033742Z
DTSTART:20260224T011000Z
DTEND:20260224T020000Z
LOCATION:TBKBSC North Indoor Soccer Fie
CONTACT:
SUMMARY:Bettendorf Gold VS. AHS
DESCRIPTION:League Name: Winter 2025-2026 High School Girls Gold Winter Soc
 cer League- Session 2\nGame Type: Regular\nGame Status: Complete\nHome Tea
 m: Bettendorf Gold\nAway Team: AHS\nHome Score: 1\nAway Score: 0
END:VEVENT
BEGIN:VEVENT
UID:16958925@ezleagues.ezfacility.com
DTSTAMP:20260426T033742Z
CREATED:20260426T033742Z
DTSTART:20260303T020000Z
DTEND:20260303T025000Z
LOCATION:TBKBSC North Indoor Soccer Fie
CONTACT:
SUMMARY:AHS VS. PV Gray
DESCRIPTION:League Name: Winter 2025-2026 High School Girls Gold Winter Soc
 cer League- Session 2\nGame Type: Regular\nGame Status: Complete\nHome Tea
 m: AHS\nAway Team: PV Gray\nHome Score: 0\nAway Score: 2
END:VEVENT
END:VCALENDAR
