BEGIN:VCALENDAR
VERSION:2.0
PRODID:-//EZFacility.com, Inc.//EZL 2.5.5.28621
BEGIN:VEVENT
UID:16960033@ezleagues.ezfacility.com
DTSTAMP:20260426T033515Z
CREATED:20260426T033515Z
DTSTART:20260116T024000Z
DTEND:20260116T033000Z
LOCATION:Expo Indoor 2
CONTACT:Clark\, Haley
SUMMARY:Mayfield Red VS. Lakers
DESCRIPTION:League Name: High School Boys 7v7 Indoor\nGame Type: Regular\nG
 ame Status: Complete\nHome Team: Mayfield Red\nAway Team: Lakers\nHome Sco
 re: 3\nAway Score: 5
END:VEVENT
BEGIN:VEVENT
UID:16960040@ezleagues.ezfacility.com
DTSTAMP:20260426T033515Z
CREATED:20260426T033515Z
DTSTART:20260204T024000Z
DTEND:20260204T033000Z
LOCATION:Expo Indoor 2
CONTACT:Haley
SUMMARY:Mayfield Red VS. Mayfield Grey
DESCRIPTION:League Name: High School Boys 7v7 Indoor\nGame Type: Regular\nG
 ame Status: Complete\nHome Team: Mayfield Red\nAway Team: Mayfield Grey\nH
 ome Score: 1\nAway Score: 11
END:VEVENT
BEGIN:VEVENT
UID:16960041@ezleagues.ezfacility.com
DTSTAMP:20260426T033515Z
CREATED:20260426T033515Z
DTSTART:20260206T024000Z
DTEND:20260206T033000Z
LOCATION:Expo Indoor 2
CONTACT:Griffith
SUMMARY:Mayfield Red VS. Shadow Strikers
DESCRIPTION:League Name: High School Boys 7v7 Indoor\nGame Type: Regular\nG
 ame Status: Complete\nHome Team: Mayfield Red\nAway Team: Shadow Strikers\
 nHome Score: 5\nAway Score: 5
END:VEVENT
BEGIN:VEVENT
UID:16960294@ezleagues.ezfacility.com
DTSTAMP:20260426T033515Z
CREATED:20260426T033515Z
DTSTART:20260210T015000Z
DTEND:20260210T024000Z
LOCATION:Expo Indoor 2
CONTACT:Haley
SUMMARY:Shadow Strikers VS. Mayfield Red
DESCRIPTION:League Name: High School Boys 7v7 Indoor\nGame Type: Regular\nG
 ame Status: Complete\nHome Team: Shadow Strikers\nAway Team: Mayfield Red\
 nHome Score: 6\nAway Score: 2
END:VEVENT
BEGIN:VEVENT
UID:16960293@ezleagues.ezfacility.com
DTSTAMP:20260426T033515Z
CREATED:20260426T033515Z
DTSTART:20260214T223000Z
DTEND:20260214T232000Z
LOCATION:Expo Indoor 2
CONTACT:De Santos
SUMMARY:MC Marshals VS. Mayfield Red
DESCRIPTION:League Name: High School Boys 7v7 Indoor\nGame Type: Regular\nG
 ame Status: Complete\nHome Team: MC Marshals\nAway Team: Mayfield Red\nHom
 e Score: 7\nAway Score: 1
END:VEVENT
BEGIN:VEVENT
UID:16960046@ezleagues.ezfacility.com
DTSTAMP:20260426T033515Z
CREATED:20260426T033515Z
DTSTART:20260218T024000Z
DTEND:20260218T033000Z
LOCATION:Expo Indoor 2
CONTACT:Dimarco
SUMMARY:MC Marshals VS. Mayfield Red
DESCRIPTION:League Name: High School Boys 7v7 Indoor\nGame Type: Regular\nG
 ame Status: Complete\nHome Team: MC Marshals\nAway Team: Mayfield Red\nHom
 e Score: 8\nAway Score: 3
END:VEVENT
BEGIN:VEVENT
UID:16960048@ezleagues.ezfacility.com
DTSTAMP:20260426T033515Z
CREATED:20260426T033515Z
DTSTART:20260220T024000Z
DTEND:20260220T033000Z
LOCATION:Expo Indoor 2
CONTACT:Clark
SUMMARY:Lakers VS. Mayfield Red
DESCRIPTION:League Name: High School Boys 7v7 Indoor\nGame Type: Regular\nG
 ame Status: Complete\nHome Team: Lakers\nAway Team: Mayfield Red\nHome Sco
 re: 3\nAway Score: 3
END:VEVENT
BEGIN:VEVENT
UID:16960300@ezleagues.ezfacility.com
DTSTAMP:20260426T033515Z
CREATED:20260426T033515Z
DTSTART:20260307T024000Z
DTEND:20260307T033000Z
LOCATION:Expo Indoor 2
CONTACT:Dimarco\, Weiss
SUMMARY:Mayfield Grey VS. Mayfield Red
DESCRIPTION:League Name: High School Boys 7v7 Indoor\nGame Type: Regular\nG
 ame Status: Complete\nHome Team: Mayfield Grey\nAway Team: Mayfield Red\nH
 ome Score: 7\nAway Score: 5
END:VEVENT
END:VCALENDAR
