BEGIN:VCALENDAR
VERSION:2.0
PRODID:-//EZFacility.com, Inc.//EZL 2.5.5.28621
BEGIN:VEVENT
UID:16960699@ezleagues.ezfacility.com
DTSTAMP:20260424T043257Z
CREATED:20260424T043257Z
DTSTART:20260117T233000Z
DTEND:20260118T003000Z
LOCATION:7v7 Field #4
CONTACT:
SUMMARY:Texans -Jansma  VS. Cowboys -Shih
DESCRIPTION:League Name: NFL Flag Football 2025/2026-Session II-14 -16 Year
 s\nGame Type: Regular\nGame Status: Complete\nHome Team: Texans -Jansma \n
 Away Team: Cowboys -Shih\nHome Score: 22\nAway Score: 40
END:VEVENT
BEGIN:VEVENT
UID:16960701@ezleagues.ezfacility.com
DTSTAMP:20260424T043257Z
CREATED:20260424T043257Z
DTSTART:20260125T013000Z
DTEND:20260125T023000Z
LOCATION:7v7 Field #2
CONTACT:
SUMMARY:Texans -Jansma  VS. Cardinals - Srednoselac
DESCRIPTION:League Name: NFL Flag Football 2025/2026-Session II-14 -16 Year
 s\nGame Type: Regular\nGame Status: Complete\nHome Team: Texans -Jansma \n
 Away Team: Cardinals - Srednoselac\nHome Score: 12\nAway Score: 17
END:VEVENT
BEGIN:VEVENT
UID:16960703@ezleagues.ezfacility.com
DTSTAMP:20260424T043257Z
CREATED:20260424T043257Z
DTSTART:20260201T013000Z
DTEND:20260201T023000Z
LOCATION:7v7 Field #1
CONTACT:
SUMMARY:49ers - Sanchez VS. Texans -Jansma 
DESCRIPTION:League Name: NFL Flag Football 2025/2026-Session II-14 -16 Year
 s\nGame Type: Regular\nGame Status: Complete\nHome Team: 49ers - Sanchez\n
 Away Team: Texans -Jansma \nHome Score: 25\nAway Score: 8
END:VEVENT
BEGIN:VEVENT
UID:16960707@ezleagues.ezfacility.com
DTSTAMP:20260424T043257Z
CREATED:20260424T043257Z
DTSTART:20260208T013000Z
DTEND:20260208T023000Z
LOCATION:7v7 Field #1
CONTACT:
SUMMARY:Texans -Jansma  VS. Broncos - Solis
DESCRIPTION:League Name: NFL Flag Football 2025/2026-Session II-14 -16 Year
 s\nGame Type: Regular\nGame Status: Complete\nHome Team: Texans -Jansma \n
 Away Team: Broncos - Solis\nHome Score: 8\nAway Score: 46
END:VEVENT
BEGIN:VEVENT
UID:16960711@ezleagues.ezfacility.com
DTSTAMP:20260424T043257Z
CREATED:20260424T043257Z
DTSTART:20260215T013000Z
DTEND:20260215T023000Z
LOCATION:7v7 Field #4
CONTACT:
SUMMARY:Texans -Jansma  VS. Ravens - Douts 
DESCRIPTION:League Name: NFL Flag Football 2025/2026-Session II-14 -16 Year
 s\nGame Type: Regular\nGame Status: Complete\nHome Team: Texans -Jansma \n
 Away Team: Ravens - Douts \nHome Score: 8\nAway Score: 36
END:VEVENT
BEGIN:VEVENT
UID:16960714@ezleagues.ezfacility.com
DTSTAMP:20260424T043257Z
CREATED:20260424T043257Z
DTSTART:20260222T013000Z
DTEND:20260222T023000Z
LOCATION:7v7 Field #4
CONTACT:
SUMMARY:Cowboys -Shih VS. Texans -Jansma 
DESCRIPTION:League Name: NFL Flag Football 2025/2026-Session II-14 -16 Year
 s\nGame Type: Regular\nGame Status: Complete\nHome Team: Cowboys -Shih\nAw
 ay Team: Texans -Jansma \nHome Score: 50\nAway Score: 20
END:VEVENT
BEGIN:VEVENT
UID:16960716@ezleagues.ezfacility.com
DTSTAMP:20260424T043257Z
CREATED:20260424T043257Z
DTSTART:20260301T013000Z
DTEND:20260301T023000Z
LOCATION:7v7 Field #2
CONTACT:
SUMMARY:Cardinals - Srednoselac VS. Texans -Jansma 
DESCRIPTION:League Name: NFL Flag Football 2025/2026-Session II-14 -16 Year
 s\nGame Type: Regular\nGame Status: Complete\nHome Team: Cardinals - Sredn
 oselac\nAway Team: Texans -Jansma \nHome Score: 21\nAway Score: 20
END:VEVENT
BEGIN:VEVENT
UID:17039117@ezleagues.ezfacility.com
DTSTAMP:20260424T043257Z
CREATED:20260424T043257Z
DTSTART:20260308T000000Z
DTEND:20260308T010000Z
LOCATION:7v7 Field #1
CONTACT:
SUMMARY:Broncos - Solis VS. Texans -Jansma 
DESCRIPTION:League Name: NFL Flag Football 2025/2026-Session II-14 -16 Year
 s\nGame Type: Postseason\nGame Status: Complete\nHome Team: Broncos - Soli
 s\nAway Team: Texans -Jansma \nHome Score: 42\nAway Score: 31
END:VEVENT
END:VCALENDAR
