BEGIN:VCALENDAR
VERSION:2.0
PRODID:-//EZFacility.com, Inc.//EZL 2.5.5.28621
BEGIN:VEVENT
UID:16960662@ezleagues.ezfacility.com
DTSTAMP:20260424T043251Z
CREATED:20260424T043251Z
DTSTART:20260117T193000Z
DTEND:20260117T203000Z
LOCATION:7v7 Field #3
CONTACT:
SUMMARY:Bears -Zarembka VS. Browns - Martinez
DESCRIPTION:League Name: NFL Flag Football 2025/2026-Session II-12-13 Years
 \nGame Type: Regular\nGame Status: Complete\nHome Team: Bears -Zarembka\nA
 way Team: Browns - Martinez\nHome Score: 12\nAway Score: 67
END:VEVENT
BEGIN:VEVENT
UID:16960667@ezleagues.ezfacility.com
DTSTAMP:20260424T043251Z
CREATED:20260424T043251Z
DTSTART:20260124T233000Z
DTEND:20260125T003000Z
LOCATION:7v7 Field #3
CONTACT:
SUMMARY:Bears -Zarembka VS. Commanders - McMahon/ Gill
DESCRIPTION:League Name: NFL Flag Football 2025/2026-Session II-12-13 Years
 \nGame Type: Regular\nGame Status: Complete\nHome Team: Bears -Zarembka\nA
 way Team: Commanders - McMahon/ Gill\nHome Score: 12\nAway Score: 18
END:VEVENT
BEGIN:VEVENT
UID:16960672@ezleagues.ezfacility.com
DTSTAMP:20260424T043251Z
CREATED:20260424T043251Z
DTSTART:20260201T003000Z
DTEND:20260201T013000Z
LOCATION:7v7 Field #3
CONTACT:
SUMMARY:Bears -Zarembka VS. Jets - Bridges 
DESCRIPTION:League Name: NFL Flag Football 2025/2026-Session II-12-13 Years
 \nGame Type: Regular\nGame Status: Complete\nHome Team: Bears -Zarembka\nA
 way Team: Jets - Bridges \nHome Score: 24\nAway Score: 8
END:VEVENT
BEGIN:VEVENT
UID:16960677@ezleagues.ezfacility.com
DTSTAMP:20260424T043251Z
CREATED:20260424T043251Z
DTSTART:20260207T223000Z
DTEND:20260207T233000Z
LOCATION:7v7 Field #3
CONTACT:
SUMMARY:Panthers-Schultz/ Bombagetti VS. Bears -Zarembka
DESCRIPTION:League Name: NFL Flag Football 2025/2026-Session II-12-13 Years
 \nGame Type: Regular\nGame Status: Complete\nHome Team: Panthers-Schultz/ 
 Bombagetti\nAway Team: Bears -Zarembka\nHome Score: 42\nAway Score: 12
END:VEVENT
BEGIN:VEVENT
UID:16960682@ezleagues.ezfacility.com
DTSTAMP:20260424T043251Z
CREATED:20260424T043251Z
DTSTART:20260214T223000Z
DTEND:20260214T233000Z
LOCATION:7v7 Field #3
CONTACT:
SUMMARY:Seahawks - Chaney  VS. Bears -Zarembka
DESCRIPTION:League Name: NFL Flag Football 2025/2026-Session II-12-13 Years
 \nGame Type: Regular\nGame Status: Complete\nHome Team: Seahawks - Chaney 
 \nAway Team: Bears -Zarembka\nHome Score: 28\nAway Score: 44
END:VEVENT
BEGIN:VEVENT
UID:16960687@ezleagues.ezfacility.com
DTSTAMP:20260424T043251Z
CREATED:20260424T043251Z
DTSTART:20260221T213000Z
DTEND:20260221T223000Z
LOCATION:7v7 Field #3
CONTACT:
SUMMARY:Lions - Romo/Albanese VS. Bears -Zarembka
DESCRIPTION:League Name: NFL Flag Football 2025/2026-Session II-12-13 Years
 \nGame Type: Regular\nGame Status: Complete\nHome Team: Lions - Romo/Alban
 ese\nAway Team: Bears -Zarembka\nHome Score: 26\nAway Score: 22
END:VEVENT
BEGIN:VEVENT
UID:16960692@ezleagues.ezfacility.com
DTSTAMP:20260424T043251Z
CREATED:20260424T043251Z
DTSTART:20260301T003000Z
DTEND:20260301T013000Z
LOCATION:7v7 Field #3
CONTACT:
SUMMARY:Giants - Tachik  VS. Bears -Zarembka
DESCRIPTION:League Name: NFL Flag Football 2025/2026-Session II-12-13 Years
 \nGame Type: Regular\nGame Status: Complete\nHome Team: Giants - Tachik \n
 Away Team: Bears -Zarembka\nHome Score: 18\nAway Score: 14
END:VEVENT
END:VCALENDAR
