BEGIN:VCALENDAR
VERSION:2.0
PRODID:-//EZFacility.com, Inc.//EZL 2.5.5.28621
BEGIN:VEVENT
UID:16960665@ezleagues.ezfacility.com
DTSTAMP:20260424T043254Z
CREATED:20260424T043254Z
DTSTART:20260117T223000Z
DTEND:20260117T233000Z
LOCATION:7v7 Field #3
CONTACT:
SUMMARY:Giants - Tachik  VS. Panthers-Schultz/ Bombagetti
DESCRIPTION:League Name: NFL Flag Football 2025/2026-Session II-12-13 Years
 \nGame Type: Regular\nGame Status: Complete\nHome Team: Giants - Tachik \n
 Away Team: Panthers-Schultz/ Bombagetti\nHome Score: 12\nAway Score: 30
END:VEVENT
BEGIN:VEVENT
UID:16960671@ezleagues.ezfacility.com
DTSTAMP:20260424T043254Z
CREATED:20260424T043254Z
DTSTART:20260125T013000Z
DTEND:20260125T023000Z
LOCATION:7v7 Field #3
CONTACT:
SUMMARY:Giants - Tachik  VS. Lions - Romo/Albanese
DESCRIPTION:League Name: NFL Flag Football 2025/2026-Session II-12-13 Years
 \nGame Type: Regular\nGame Status: Complete\nHome Team: Giants - Tachik \n
 Away Team: Lions - Romo/Albanese\nHome Score: 6\nAway Score: 18
END:VEVENT
BEGIN:VEVENT
UID:16960676@ezleagues.ezfacility.com
DTSTAMP:20260424T043254Z
CREATED:20260424T043254Z
DTSTART:20260131T223000Z
DTEND:20260131T233000Z
LOCATION:7v7 Field #3
CONTACT:
SUMMARY:Cheifs - Carper  VS. Giants - Tachik 
DESCRIPTION:League Name: NFL Flag Football 2025/2026-Session II-12-13 Years
 \nGame Type: Regular\nGame Status: Complete\nHome Team: Cheifs - Carper \n
 Away Team: Giants - Tachik \nHome Score: 12\nAway Score: 6
END:VEVENT
BEGIN:VEVENT
UID:16960680@ezleagues.ezfacility.com
DTSTAMP:20260424T043254Z
CREATED:20260424T043254Z
DTSTART:20260207T233000Z
DTEND:20260208T003000Z
LOCATION:7v7 Field #3
CONTACT:
SUMMARY:Browns - Martinez VS. Giants - Tachik 
DESCRIPTION:League Name: NFL Flag Football 2025/2026-Session II-12-13 Years
 \nGame Type: Regular\nGame Status: Complete\nHome Team: Browns - Martinez\
 nAway Team: Giants - Tachik \nHome Score: 42\nAway Score: 14
END:VEVENT
BEGIN:VEVENT
UID:16960684@ezleagues.ezfacility.com
DTSTAMP:20260424T043254Z
CREATED:20260424T043254Z
DTSTART:20260214T213000Z
DTEND:20260214T223000Z
LOCATION:7v7 Field #3
CONTACT:
SUMMARY:Jets - Bridges  VS. Giants - Tachik 
DESCRIPTION:League Name: NFL Flag Football 2025/2026-Session II-12-13 Years
 \nGame Type: Regular\nGame Status: Complete\nHome Team: Jets - Bridges \nA
 way Team: Giants - Tachik \nHome Score: 14\nAway Score: 28
END:VEVENT
BEGIN:VEVENT
UID:16960688@ezleagues.ezfacility.com
DTSTAMP:20260424T043254Z
CREATED:20260424T043254Z
DTSTART:20260221T223000Z
DTEND:20260221T233000Z
LOCATION:7v7 Field #3
CONTACT:
SUMMARY:Seahawks - Chaney  VS. Giants - Tachik 
DESCRIPTION:League Name: NFL Flag Football 2025/2026-Session II-12-13 Years
 \nGame Type: Regular\nGame Status: Complete\nHome Team: Seahawks - Chaney 
 \nAway Team: Giants - Tachik \nHome Score: 27\nAway Score: 26
END:VEVENT
BEGIN:VEVENT
UID:16960692@ezleagues.ezfacility.com
DTSTAMP:20260424T043254Z
CREATED:20260424T043254Z
DTSTART:20260301T003000Z
DTEND:20260301T013000Z
LOCATION:7v7 Field #3
CONTACT:
SUMMARY:Giants - Tachik  VS. Bears -Zarembka
DESCRIPTION:League Name: NFL Flag Football 2025/2026-Session II-12-13 Years
 \nGame Type: Regular\nGame Status: Complete\nHome Team: Giants - Tachik \n
 Away Team: Bears -Zarembka\nHome Score: 18\nAway Score: 14
END:VEVENT
END:VCALENDAR
